{"text_format":"2","workbook":"xlsx","n_sheets":14,"sheets":["Anmeldung","Datenerfassung","Gruppen","Einzel 1-20","Einzel 21-40","Einzel 41-60","Einzel 61-80","Einzel 81-100","Einzel 101-120","Einzel 121-140","Einzel 141-160","Einzel 161-180","Einzel 181-200","Meldedaten"],"not_rendered":{"charts":0,"images":0,"macros":0,"external_links":0,"defined_names":5,"comments":0,"pivot_tables":0},"unopened":[],"bounds":{"document_bytes":16777216,"sheet_cells":100000,"run_cost":"one","rows_first":2000,"rows_last":500,"rows_between":2000,"halvings":0,"cell_chars":16384,"cell_head_chars":4096},"cells_cut":0,"cells_raw":0,"read":"whole","date_system":"1900"}

{"sheet":"Anmeldung","index":0,"n_rows":40,"n_cols":16,"rows_kept":40,"cut":false,"hidden":false,"merged":[[11,15,26,22],[4,15,8,22],[0,0,1,12],[0,15,1,22],[34,2,35,11],[38,0,38,3],[38,6,38,10],[28,2,28,3],[28,10,28,11],[29,2,29,3],[29,10,29,11],[30,2,30,3],[31,2,31,3],[27,2,27,3],[27,10,27,11],[18,3,18,6],[18,11,18,12],[23,2,23,3],[24,2,24,3],[25,2,25,3],[26,2,26,3],[17,8,17,12],[19,3,19,6],[19,11,19,12],[20,3,20,6],[20,11,20,12],[22,0,22,12],[6,0,6,3],[6,4,6,10],[7,0,7,3],[7,4,7,10],[8,0,8,3],[8,4,8,10],[11,0,11,7],[12,3,12,6],[13,3,13,6],[14,3,14,6],[15,3,15,6]]}
["Bitte folgendes Formular vollständig ausfüllen und dann die Datei per Mail an dtsa@ltv-berlin.de senden.(nur grau unterlegte Felder sind auswählbar).\nDie hier eingetragenen Daten werden automatisch in andere Tabellenblätter übernommen.",{"$nulls":14},"Änderungen/Korrekturen von z.B. Abnahmedatum, Namen können nur auf den Tabellenblättern [Anmeldung] und [Datenerfassung] vorgenommen werden. "]
[]
[]
["Anmeldung DTSA Abnahme",{"$nulls":14},"Vor der Abnahme:"]
["per Mail an",null,null,"dtsa@ltv-berlin.de",{"$nulls":11},"\nDas Tabellenblatt Anmeldung] komplett ausfüllen und an dtsa@ltv-berlin.de mailen.\n\nIm Tabellenblatt [Datenerfassung] alle eintragen, die sich zur Abnahme angemeldet haben.\nDie dadurch automatisch erstellen Abnahmekarten ausdrucken.\n\nAm Abnahmetag die Abnahmekarten an den/die Abnehmer*in übergeben, damit darin die Bewertung erfasst werden kann."]
[]
["Abnahmedatum"]
["Abnahmeveranstalter\n(Verein, Schule…)",{"$nulls":10},"DTV Vereinsnr."]
["Abnahmeort",{"$nulls":10},"LTV","Berlin"]
[]
[{"$nulls":15},"Nach der Abnahme:"]
["Rücksendeanschrift für Rechnung des DTV",{"$nulls":14},"\nIm Anschluss an die Abnahme bitte das Tabellenblatt [Datenerfassung] entsprechend der Ergebnisse ergänzen / korregieren. Also z.B. Nachmeldungen eintragen oder in der Spalte B \"nicht teilgenommen\" auswählen.  \n\nDanach die Datei unter \"20JJ-MM-TT - Vereins-/Schulname\" speichern und verschlüsselt \nan dtsa@ltv-berlin.de mailen.\n\nDas Passwort zu der verschlüsselten Datei bitte in einer separaten Mail ebenfalls an dtsa@ltv-berlin.de senden.\n\nUrkunden und Nadeln werden immer erst nach der Abnahme auf Basis der eingereichten Datenerfassung erstellt. \n\nDie Abnahmekarten bleiben beim Verein / der Schule, werden also NICHT an den LTV Berlin gesandt.\n\nBei Fragen bitte am Besten einfach per Mail an dtsa@ltv-berlin.de wenden. \nWir antworten schnellstmöglich.\n\n… und jetzt viel Spaß und Erfolg bei Ihrer DTSA Abnahme."]
["Herr/Frau/DH"]
["Name"]
["Strasse"]
["Plz, Ort"]
[]
["Verantwortlicher Abnahmeleiter",{"$nulls":7},"Abnehmer \n(Lizenznummer in Klammern)"]
["Name",{"$nulls":7},"Abnehmer 1"]
["Telefon",{"$nulls":7},"Abnehmer 2"]
["E-Mail",{"$nulls":7},"Abnehmer 3"]
[]
["Disziplinen, die geprüft werden sollen (bitte ankreuzen)"]
[null,null,"Standard",null,null,null,"JMC",null,null,null,"Rollstuhltanz"]
[null,null,"Latein",null,null,null,"Garde",null,null,null,"New Vogue"]
[null,null,"Discofox",null,null,null,"Steptanz",null,null,null,"Boogie Woogie"]
[null,null,"Salsa",null,null,null,"Alte Tänze",null,null,null,"Rock'n'Roll"]
[null,null,"Merengue",null,null,null,"Folklore-Tänze"]
[null,null,"Seniorentanz",null,null,null,"Tango Argentino"]
[null,null,"Kindertänze",null,null,null,"Country-& Western"]
[null,null,"HipHop",null,null,null,"Linedance"]
[null,null,"Videoclipdancing",null,null,null,"Orientalischer Tanz"]
[]
[]
[null,null,"Es soll innerhalb der Veranstaltung auch Abnahmen nach den Vorgaben eines Fachverbandes (Kategorie III a) stattfinden."]
[]
[]
["Hiermit beantragen wir die Durchführung der oben aufgeführten DTSA Abnahme"]
[]
["Datum",{"$nulls":5},"gezeichnet Vor- und Nachname"]

{"sheet":"Datenerfassung","index":1,"n_rows":231,"n_cols":41,"rows_kept":231,"cut":false,"hidden":false,"merged":[[0,30,6,40],[7,30,8,30],[7,31,8,31],[7,32,8,32],[7,33,8,33],[7,34,8,34],[7,35,8,35],[7,36,8,36],[7,37,8,37],[7,38,8,38],[7,39,8,39],[7,40,8,40],[0,0,2,3],[3,0,8,0],[0,8,8,8],[4,9,8,9],[0,5,2,5],[0,4,2,4],[3,1,8,1],[3,2,8,2],[3,3,8,3],[3,4,8,4],[3,5,8,5],[3,29,8,29],[1,9,3,28],[4,22,8,22],[4,25,8,25],[0,7,2,7],[4,11,8,11],[4,28,8,28],[4,10,8,10],[4,23,8,23],[4,12,8,12],[4,13,8,13],[4,14,8,14],[4,15,8,15],[4,16,8,16],[4,17,8,17],[4,18,8,18],[4,26,8,26],[4,27,8,27],[4,19,8,19],[4,20,8,20],[3,6,8,6],[4,24,8,24],[3,7,8,7],[4,21,8,21]]}
["Datenerfassungsblatt DTSA Abnahme",null,null,null,{"$f":"Anmeldung!E7","v":"00:00:00"},null,null,null,"Anzahl der Gruppentänze",{"$f":"COUNTIF(J10:J209,\"x\")","v":0},0,0,0,0,0,0,0,0,0,0,0,0,0,0,0,0,0,0,0,null,"Da das DTSA in diversen Tanzformen abgelegt werden kann, besteht hier die Möglichkeit, \ndie Tänze einzutragen, die als Auswahlmöglichkeit auf die Einzelabnahmekarte übertragen \nwerden sollen. \nHierzu einfach die vorgegebenen Tänze in den weiß unterlegten Feldern überschreiben. \nAlle anderen Zeilen werden dann entsprechend angepasst, können aber auch einzeln überschrieben werden."]
[{"$nulls":9},"Bitte entsprechenden Gruppentanz \nmit einem \"x\" versehen"]
[]
["Datum der \nAbnahme","Bitte entsprechende \nAbnahme auswählen.\nDiese Auswahl wird auf \ndie Urkunde gedruckt.","Vorname\nBitte Titel (wenn gewünscht)\nbeim Vornamen mit eintragen. \nz.B.: Dr. Max","Nachname","nur Urkunde\nbitte ein X eintragen, wenn KEIN Abzeichen ausgegeben werden soll","Zusatz Urkunde \nHier bitte eintragen, was zusätzlich\nauf die Urkunde gedruckt\nwerden soll.\nz.B.: über 10 Tänze, Linedance,\nKindertänze, Folklore, Latein …","Verein / Schule\nHier bitte den exakten\nVereins-/Schulnamen eintragen.\nDiese Angabe wird auf die \nUrkunde gedruckt !!!","Startnummer "]
[{"$nulls":9},"Gruppentanz  1","Gruppentanz  2","Gruppentanz  3","Gruppentanz  4","Gruppentanz  5","Gruppentanz  6","Gruppentanz  7","Gruppentanz  8","Gruppentanz  9","Gruppentanz  10","Gruppentanz  11","Gruppentanz  12","Gruppentanz  13","Gruppentanz  14","Gruppentanz  15","Gruppentanz  16","Gruppentanz  17","Gruppentanz  18","Gruppentanz  19","Gruppentanz  20"]
[]
[]
[{"$nulls":30},"Langsamer Walzer","Tango","Wiener Walzer","Slowfox","Quickstep","Samba","Chachacha","Rumba","Paso Doble","Jive","Discofox"]
[]
[{"$f":"Anmeldung!$E$7","v":"00:00:00"},{"$nulls":6},1,{"$f":"COUNTIF(J10:AC10,\"x\")","v":0},{"$nulls":10}," "," "," "," "," "," "," "," "," "," ",null,{"$f":"$AE$8","v":"Langsamer Walzer"},{"$f":"$AF$8","v":"Tango"},{"$f":"$AG$8","v":"Wiener Walzer"},{"$f":"$AH$8","v":"Slowfox"},{"$f":"$AI$8","v":"Quickstep"},{"$f":"$AJ$8","v":"Samba"},{"$f":"$AK$8","v":"Chachacha"},{"$f":"$AL$8","v":"Rumba"},{"$f":"$AM$8","v":"Paso Doble"},{"$f":"$AN$8","v":"Jive"},{"$f":"$AO$8","v":"Discofox"}]
[{"$f":"Anmeldung!$E$7","v":"00:00:00"},{"$nulls":6},2,0," "," "," "," "," "," "," "," "," "," "," "," "," "," "," "," "," "," "," "," ",null,"Langsamer Walzer","Tango","Wiener Walzer","Slowfox","Quickstep","Samba","Chachacha","Rumba","Paso Doble","Jive","Discofox"]
[{"$f":"Anmeldung!$E$7","v":"00:00:00"},{"$nulls":6},3,0," "," "," "," "," "," "," "," "," "," "," "," "," "," "," "," "," "," "," "," ",null,"Langsamer Walzer","Tango","Wiener Walzer","Slowfox","Quickstep","Samba","Chachacha","Rumba","Paso Doble","Jive","Discofox"]
[{"$f":"Anmeldung!$E$7","v":"00:00:00"},{"$nulls":6},4,0," "," "," "," "," "," "," "," "," "," "," "," "," "," "," "," "," "," "," "," ",null,"Langsamer Walzer","Tango","Wiener Walzer","Slowfox","Quickstep","Samba","Chachacha","Rumba","Paso Doble","Jive","Discofox"]
[{"$f":"Anmeldung!$E$7","v":"00:00:00"},{"$nulls":6},5,0," "," "," "," "," "," "," "," "," "," "," "," "," "," "," "," "," "," "," "," ",null,"Langsamer Walzer","Tango","Wiener Walzer","Slowfox","Quickstep","Samba","Chachacha","Rumba","Paso Doble","Jive","Discofox"]
[{"$f":"Anmeldung!$E$7","v":"00:00:00"},{"$nulls":6},6,0," "," "," "," "," "," "," "," "," "," "," "," "," "," "," "," "," "," "," "," ",null,"Langsamer Walzer","Tango","Wiener Walzer","Slowfox","Quickstep","Samba","Chachacha","Rumba","Paso Doble","Jive","Discofox"]
[{"$f":"Anmeldung!$E$7","v":"00:00:00"},{"$nulls":6},7,0," "," "," "," "," "," "," "," "," "," "," "," "," "," "," "," "," "," "," "," ",null,"Langsamer Walzer","Tango","Wiener Walzer","Slowfox","Quickstep","Samba","Chachacha","Rumba","Paso Doble","Jive","Discofox"]
[{"$f":"Anmeldung!$E$7","v":"00:00:00"},{"$nulls":6},8,0," "," "," "," "," "," "," "," "," "," "," "," "," "," "," "," "," "," "," "," ",null,"Langsamer Walzer","Tango","Wiener Walzer","Slowfox","Quickstep","Samba","Chachacha","Rumba","Paso Doble","Jive","Discofox"]
[{"$f":"Anmeldung!$E$7","v":"00:00:00"},{"$nulls":6},9,0," "," "," "," "," "," "," "," "," "," "," "," "," "," "," "," "," "," "," "," ",null,"Langsamer Walzer","Tango","Wiener Walzer","Slowfox","Quickstep","Samba","Chachacha","Rumba","Paso Doble","Jive","Discofox"]
[{"$f":"Anmeldung!$E$7","v":"00:00:00"},{"$nulls":6},10,0," "," "," "," "," "," "," "," "," "," "," "," "," "," "," "," "," "," "," "," ",null,"Langsamer Walzer","Tango","Wiener Walzer","Slowfox","Quickstep","Samba","Chachacha","Rumba","Paso Doble","Jive","Discofox"]
[{"$f":"Anmeldung!$E$7","v":"00:00:00"},{"$nulls":6},11,0," "," "," "," "," "," "," "," "," "," "," "," "," "," "," "," "," "," "," "," ",null,"Langsamer Walzer","Tango","Wiener Walzer","Slowfox","Quickstep","Samba","Chachacha","Rumba","Paso Doble","Jive","Discofox"]
[{"$f":"Anmeldung!$E$7","v":"00:00:00"},{"$nulls":6},12,0," "," "," "," "," "," "," "," "," "," "," "," "," "," "," "," "," "," "," "," ",null,"Langsamer Walzer","Tango","Wiener Walzer","Slowfox","Quickstep","Samba","Chachacha","Rumba","Paso Doble","Jive","Discofox"]
[{"$f":"Anmeldung!$E$7","v":"00:00:00"},{"$nulls":6},13,0," "," "," "," "," "," "," "," "," "," "," "," "," "," "," "," "," "," "," "," ",null,"Langsamer Walzer","Tango","Wiener Walzer","Slowfox","Quickstep","Samba","Chachacha","Rumba","Paso Doble","Jive","Discofox"]
[{"$f":"Anmeldung!$E$7","v":"00:00:00"},{"$nulls":6},14,0," "," "," "," "," "," "," "," "," "," "," "," "," "," "," "," "," "," "," "," ",null,"Langsamer Walzer","Tango","Wiener Walzer","Slowfox","Quickstep","Samba","Chachacha","Rumba","Paso Doble","Jive","Discofox"]
[{"$f":"Anmeldung!$E$7","v":"00:00:00"},{"$nulls":6},15,0," "," "," "," "," "," "," "," "," "," "," "," "," "," "," "," "," "," "," "," ",null,"Langsamer Walzer","Tango","Wiener Walzer","Slowfox","Quickstep","Samba","Chachacha","Rumba","Paso Doble","Jive","Discofox"]
[{"$f":"Anmeldung!$E$7","v":"00:00:00"},{"$nulls":6},16,0," "," "," "," "," "," "," "," "," "," "," "," "," "," "," "," "," "," "," "," ",null,"Langsamer Walzer","Tango","Wiener Walzer","Slowfox","Quickstep","Samba","Chachacha","Rumba","Paso Doble","Jive","Discofox"]
[{"$f":"Anmeldung!$E$7","v":"00:00:00"},{"$nulls":6},17,0," "," "," "," "," "," "," "," "," "," "," "," "," "," "," "," "," "," "," "," ",null,"Langsamer Walzer","Tango","Wiener Walzer","Slowfox","Quickstep","Samba","Chachacha","Rumba","Paso Doble","Jive","Discofox"]
[{"$f":"Anmeldung!$E$7","v":"00:00:00"},{"$nulls":6},18,0," "," "," "," "," "," "," "," "," "," "," "," "," "," "," "," "," "," "," "," ",null,"Langsamer Walzer","Tango","Wiener Walzer","Slowfox","Quickstep","Samba","Chachacha","Rumba","Paso Doble","Jive","Discofox"]
[{"$f":"Anmeldung!$E$7","v":"00:00:00"},{"$nulls":6},19,0," "," "," "," "," "," "," "," "," "," "," "," "," "," "," "," "," "," "," "," ",null,"Langsamer Walzer","Tango","Wiener Walzer","Slowfox","Quickstep","Samba","Chachacha","Rumba","Paso Doble","Jive","Discofox"]
[{"$f":"Anmeldung!$E$7","v":"00:00:00"},{"$nulls":6},20,0," "," "," "," "," "," "," "," "," "," "," "," "," "," "," "," "," "," "," "," ",null,"Langsamer Walzer","Tango","Wiener Walzer","Slowfox","Quickstep","Samba","Chachacha","Rumba","Paso Doble","Jive","Discofox"]
[{"$f":"Anmeldung!$E$7","v":"00:00:00"},{"$nulls":6},21,0," "," "," "," "," "," "," "," "," "," "," "," "," "," "," "," "," "," "," "," ",null,"Langsamer Walzer","Tango","Wiener Walzer","Slowfox","Quickstep","Samba","Chachacha","Rumba","Paso Doble","Jive","Discofox"]
[{"$f":"Anmeldung!$E$7","v":"00:00:00"},{"$nulls":6},22,0," "," "," "," "," "," "," "," "," "," "," "," "," "," "," "," "," "," "," "," ",null,"Langsamer Walzer","Tango","Wiener Walzer","Slowfox","Quickstep","Samba","Chachacha","Rumba","Paso Doble","Jive","Discofox"]
[{"$f":"Anmeldung!$E$7","v":"00:00:00"},{"$nulls":6},23,0," "," "," "," "," "," "," "," "," "," "," "," "," "," "," "," "," "," "," "," ",null,"Langsamer Walzer","Tango","Wiener Walzer","Slowfox","Quickstep","Samba","Chachacha","Rumba","Paso Doble","Jive","Discofox"]
[{"$f":"Anmeldung!$E$7","v":"00:00:00"},{"$nulls":6},24,0," "," "," "," "," "," "," "," "," "," "," "," "," "," "," "," "," "," "," "," ",null,"Langsamer Walzer","Tango","Wiener Walzer","Slowfox","Quickstep","Samba","Chachacha","Rumba","Paso Doble","Jive","Discofox"]
[{"$f":"Anmeldung!$E$7","v":"00:00:00"},{"$nulls":6},25,0," "," "," "," "," "," "," "," "," "," "," "," "," "," "," "," "," "," "," "," ",null,"Langsamer Walzer","Tango","Wiener Walzer","Slowfox","Quickstep","Samba","Chachacha","Rumba","Paso Doble","Jive","Discofox"]
[{"$f":"Anmeldung!$E$7","v":"00:00:00"},{"$nulls":6},26,0," "," "," "," "," "," "," "," "," "," "," "," "," "," "," "," "," "," "," "," ",null,"Langsamer Walzer","Tango","Wiener Walzer","Slowfox","Quickstep","Samba","Chachacha","Rumba","Paso Doble","Jive","Discofox"]
[{"$f":"Anmeldung!$E$7","v":"00:00:00"},{"$nulls":6},27,0," "," "," "," "," "," "," "," "," "," "," "," "," "," "," "," "," "," "," "," ",null,"Langsamer Walzer","Tango","Wiener Walzer","Slowfox","Quickstep","Samba","Chachacha","Rumba","Paso Doble","Jive","Discofox"]
[{"$f":"Anmeldung!$E$7","v":"00:00:00"},{"$nulls":6},28,0," "," "," "," "," "," "," "," "," "," "," "," "," "," "," "," "," "," "," "," ",null,"Langsamer Walzer","Tango","Wiener Walzer","Slowfox","Quickstep","Samba","Chachacha","Rumba","Paso Doble","Jive","Discofox"]
[{"$f":"Anmeldung!$E$7","v":"00:00:00"},{"$nulls":6},29,0," "," "," "," "," "," "," "," "," "," "," "," "," "," "," "," "," "," "," "," ",null,"Langsamer Walzer","Tango","Wiener Walzer","Slowfox","Quickstep","Samba","Chachacha","Rumba","Paso Doble","Jive","Discofox"]
[{"$f":"Anmeldung!$E$7","v":"00:00:00"},{"$nulls":6},30,0," "," "," "," "," "," "," "," "," "," "," "," "," "," "," "," "," "," "," "," ",null,"Langsamer Walzer","Tango","Wiener Walzer","Slowfox","Quickstep","Samba","Chachacha","Rumba","Paso Doble","Jive","Discofox"]
[{"$f":"Anmeldung!$E$7","v":"00:00:00"},{"$nulls":6},31,0," "," "," "," "," "," "," "," "," "," "," "," "," "," "," "," "," "," "," "," ",null,"Langsamer Walzer","Tango","Wiener Walzer","Slowfox","Quickstep","Samba","Chachacha","Rumba","Paso Doble","Jive","Discofox"]
[{"$f":"Anmeldung!$E$7","v":"00:00:00"},{"$nulls":6},32,0," "," "," "," "," "," "," "," "," "," "," "," "," "," "," "," "," "," "," "," ",null,"Langsamer Walzer","Tango","Wiener Walzer","Slowfox","Quickstep","Samba","Chachacha","Rumba","Paso Doble","Jive","Discofox"]
[{"$f":"Anmeldung!$E$7","v":"00:00:00"},{"$nulls":6},33,0," "," "," "," "," "," "," "," "," "," "," "," "," "," "," "," "," "," "," "," ",null,{"$f":"$AE$8","v":"Langsamer Walzer"},{"$f":"$AF$8","v":"Tango"},{"$f":"$AG$8","v":"Wiener Walzer"},{"$f":"$AH$8","v":"Slowfox"},{"$f":"$AI$8","v":"Quickstep"},{"$f":"$AJ$8","v":"Samba"},{"$f":"$AK$8","v":"Chachacha"},{"$f":"$AL$8","v":"Rumba"},{"$f":"$AM$8","v":"Paso Doble"},{"$f":"$AN$8","v":"Jive"},{"$f":"$AO$8","v":"Discofox"}]
[{"$f":"Anmeldung!$E$7","v":"00:00:00"},{"$nulls":6},34,0," "," "," "," "," "," "," "," "," "," "," "," "," "," "," "," "," "," "," "," ",null,"Langsamer Walzer","Tango","Wiener Walzer","Slowfox","Quickstep","Samba","Chachacha","Rumba","Paso Doble","Jive","Discofox"]
[{"$f":"Anmeldung!$E$7","v":"00:00:00"},{"$nulls":6},35,0," "," "," "," "," "," "," "," "," "," "," "," "," "," "," "," "," "," "," "," ",null,"Langsamer Walzer","Tango","Wiener Walzer","Slowfox","Quickstep","Samba","Chachacha","Rumba","Paso Doble","Jive","Discofox"]
[{"$f":"Anmeldung!$E$7","v":"00:00:00"},{"$nulls":6},36,0," "," "," "," "," "," "," "," "," "," "," "," "," "," "," "," "," "," "," "," ",null,"Langsamer Walzer","Tango","Wiener Walzer","Slowfox","Quickstep","Samba","Chachacha","Rumba","Paso Doble","Jive","Discofox"]
[{"$f":"Anmeldung!$E$7","v":"00:00:00"},{"$nulls":6},37,0," "," "," "," "," "," "," "," "," "," "," "," "," "," "," "," "," "," "," "," ",null,"Langsamer Walzer","Tango","Wiener Walzer","Slowfox","Quickstep","Samba","Chachacha","Rumba","Paso Doble","Jive","Discofox"]
[{"$f":"Anmeldung!$E$7","v":"00:00:00"},{"$nulls":6},38,0," "," "," "," "," "," "," "," "," "," "," "," "," "," "," "," "," "," "," "," ",null,"Langsamer Walzer","Tango","Wiener Walzer","Slowfox","Quickstep","Samba","Chachacha","Rumba","Paso Doble","Jive","Discofox"]
[{"$f":"Anmeldung!$E$7","v":"00:00:00"},{"$nulls":6},39,0," "," "," "," "," "," "," "," "," "," "," "," "," "," "," "," "," "," "," "," ",null,"Langsamer Walzer","Tango","Wiener Walzer","Slowfox","Quickstep","Samba","Chachacha","Rumba","Paso Doble","Jive","Discofox"]
[{"$f":"Anmeldung!$E$7","v":"00:00:00"},{"$nulls":6},40,0," "," "," "," "," "," "," "," "," "," "," "," "," "," "," "," "," "," "," "," ",null,"Langsamer Walzer","Tango","Wiener Walzer","Slowfox","Quickstep","Samba","Chachacha","Rumba","Paso Doble","Jive","Discofox"]
[{"$f":"Anmeldung!$E$7","v":"00:00:00"},{"$nulls":6},41,0," "," "," "," "," "," "," "," "," "," "," "," "," "," "," "," "," "," "," "," ",null,"Langsamer Walzer","Tango","Wiener Walzer","Slowfox","Quickstep","Samba","Chachacha","Rumba","Paso Doble","Jive","Discofox"]
[{"$f":"Anmeldung!$E$7","v":"00:00:00"},{"$nulls":6},42,0," "," "," "," "," "," "," "," "," "," "," "," "," "," "," "," "," "," "," "," ",null,"Langsamer Walzer","Tango","Wiener Walzer","Slowfox","Quickstep","Samba","Chachacha","Rumba","Paso Doble","Jive","Discofox"]
[{"$f":"Anmeldung!$E$7","v":"00:00:00"},{"$nulls":6},43,0," "," "," "," "," "," "," "," "," "," "," "," "," "," "," "," "," "," "," "," ",null,"Langsamer Walzer","Tango","Wiener Walzer","Slowfox","Quickstep","Samba","Chachacha","Rumba","Paso Doble","Jive","Discofox"]
[{"$f":"Anmeldung!$E$7","v":"00:00:00"},{"$nulls":6},44,0," "," "," "," "," "," "," "," "," "," "," "," "," "," "," "," "," "," "," "," ",null,"Langsamer Walzer","Tango","Wiener Walzer","Slowfox","Quickstep","Samba","Chachacha","Rumba","Paso Doble","Jive","Discofox"]
[{"$f":"Anmeldung!$E$7","v":"00:00:00"},{"$nulls":6},45,0," "," "," "," "," "," "," "," "," "," "," "," "," "," "," "," "," "," "," "," ",null,"Langsamer Walzer","Tango","Wiener Walzer","Slowfox","Quickstep","Samba","Chachacha","Rumba","Paso Doble","Jive","Discofox"]
[{"$f":"Anmeldung!$E$7","v":"00:00:00"},{"$nulls":6},46,0," "," "," "," "," "," "," "," "," "," "," "," "," "," "," "," "," "," "," "," ",null,"Langsamer Walzer","Tango","Wiener Walzer","Slowfox","Quickstep","Samba","Chachacha","Rumba","Paso Doble","Jive","Discofox"]
[{"$f":"Anmeldung!$E$7","v":"00:00:00"},{"$nulls":6},47,0," "," "," "," "," "," "," "," "," "," "," "," "," "," "," "," "," "," "," "," ",null,"Langsamer Walzer","Tango","Wiener Walzer","Slowfox","Quickstep","Samba","Chachacha","Rumba","Paso Doble","Jive","Discofox"]
[{"$f":"Anmeldung!$E$7","v":"00:00:00"},{"$nulls":6},48,0," "," "," "," "," "," "," "," "," "," "," "," "," "," "," "," "," "," "," "," ",null,"Langsamer Walzer","Tango","Wiener Walzer","Slowfox","Quickstep","Samba","Chachacha","Rumba","Paso Doble","Jive","Discofox"]
[{"$f":"Anmeldung!$E$7","v":"00:00:00"},{"$nulls":6},49,0," "," "," "," "," "," "," "," "," "," "," "," "," "," "," "," "," "," "," "," ",null,"Langsamer Walzer","Tango","Wiener Walzer","Slowfox","Quickstep","Samba","Chachacha","Rumba","Paso Doble","Jive","Discofox"]
[{"$f":"Anmeldung!$E$7","v":"00:00:00"},{"$nulls":6},50,0," "," "," "," "," "," "," "," "," "," "," "," "," "," "," "," "," "," "," "," ",null,"Langsamer Walzer","Tango","Wiener Walzer","Slowfox","Quickstep","Samba","Chachacha","Rumba","Paso Doble","Jive","Discofox"]
[{"$f":"Anmeldung!$E$7","v":"00:00:00"},{"$nulls":6},51,0," "," "," "," "," "," "," "," "," "," "," "," "," "," "," "," "," "," "," "," ",null,"Langsamer Walzer","Tango","Wiener Walzer","Slowfox","Quickstep","Samba","Chachacha","Rumba","Paso Doble","Jive","Discofox"]
[{"$f":"Anmeldung!$E$7","v":"00:00:00"},{"$nulls":6},52,0," "," "," "," "," "," "," "," "," "," "," "," "," "," "," "," "," "," "," "," ",null,"Langsamer Walzer","Tango","Wiener Walzer","Slowfox","Quickstep","Samba","Chachacha","Rumba","Paso Doble","Jive","Discofox"]
[{"$f":"Anmeldung!$E$7","v":"00:00:00"},{"$nulls":6},53,0," "," "," "," "," "," "," "," "," "," "," "," "," "," "," "," "," "," "," "," ",null,"Langsamer Walzer","Tango","Wiener Walzer","Slowfox","Quickstep","Samba","Chachacha","Rumba","Paso Doble","Jive","Discofox"]
[{"$f":"Anmeldung!$E$7","v":"00:00:00"},{"$nulls":6},54,0," "," "," "," "," "," "," "," "," "," "," "," "," "," "," "," "," "," "," "," ",null,"Langsamer Walzer","Tango","Wiener Walzer","Slowfox","Quickstep","Samba","Chachacha","Rumba","Paso Doble","Jive","Discofox"]
[{"$f":"Anmeldung!$E$7","v":"00:00:00"},{"$nulls":6},55,0," "," "," "," "," "," "," "," "," "," "," "," "," "," "," "," "," "," "," "," ",null,"Langsamer Walzer","Tango","Wiener Walzer","Slowfox","Quickstep","Samba","Chachacha","Rumba","Paso Doble","Jive","Discofox"]
[{"$f":"Anmeldung!$E$7","v":"00:00:00"},{"$nulls":6},56,0," "," "," "," "," "," "," "," "," "," "," "," "," "," "," "," "," "," "," "," ",null,"Langsamer Walzer","Tango","Wiener Walzer","Slowfox","Quickstep","Samba","Chachacha","Rumba","Paso Doble","Jive","Discofox"]
[{"$f":"Anmeldung!$E$7","v":"00:00:00"},{"$nulls":6},57,0," "," "," "," "," "," "," "," "," "," "," "," "," "," "," "," "," "," "," "," ",null,"Langsamer Walzer","Tango","Wiener Walzer","Slowfox","Quickstep","Samba","Chachacha","Rumba","Paso Doble","Jive","Discofox"]
[{"$f":"Anmeldung!$E$7","v":"00:00:00"},{"$nulls":6},58,0," "," "," "," "," "," "," "," "," "," "," "," "," "," "," "," "," "," "," "," ",null,"Langsamer Walzer","Tango","Wiener Walzer","Slowfox","Quickstep","Samba","Chachacha","Rumba","Paso Doble","Jive","Discofox"]
[{"$f":"Anmeldung!$E$7","v":"00:00:00"},{"$nulls":6},59,0," "," "," "," "," "," "," "," "," "," "," "," "," "," "," "," "," "," "," "," ",null,"Langsamer Walzer","Tango","Wiener Walzer","Slowfox","Quickstep","Samba","Chachacha","Rumba","Paso Doble","Jive","Discofox"]
[{"$f":"Anmeldung!$E$7","v":"00:00:00"},{"$nulls":6},60,0," "," "," "," "," "," "," "," "," "," "," "," "," "," "," "," "," "," "," "," ",null,"Langsamer Walzer","Tango","Wiener Walzer","Slowfox","Quickstep","Samba","Chachacha","Rumba","Paso Doble","Jive","Discofox"]
[{"$f":"Anmeldung!$E$7","v":"00:00:00"},{"$nulls":6},61,0," "," "," "," "," "," "," "," "," "," "," "," "," "," "," "," "," "," "," "," ",null,"Langsamer Walzer","Tango","Wiener Walzer","Slowfox","Quickstep","Samba","Chachacha","Rumba","Paso Doble","Jive","Discofox"]
[{"$f":"Anmeldung!$E$7","v":"00:00:00"},{"$nulls":6},62,0," "," "," "," "," "," "," "," "," "," "," "," "," "," "," "," "," "," "," "," ",null,"Langsamer Walzer","Tango","Wiener Walzer","Slowfox","Quickstep","Samba","Chachacha","Rumba","Paso Doble","Jive","Discofox"]
[{"$f":"Anmeldung!$E$7","v":"00:00:00"},{"$nulls":6},63,0," "," "," "," "," "," "," "," "," "," "," "," "," "," "," "," "," "," "," "," ",null,"Langsamer Walzer","Tango","Wiener Walzer","Slowfox","Quickstep","Samba","Chachacha","Rumba","Paso Doble","Jive","Discofox"]
[{"$f":"Anmeldung!$E$7","v":"00:00:00"},{"$nulls":6},64,0," "," "," "," "," "," "," "," "," "," "," "," "," "," "," "," "," "," "," "," ",null,"Langsamer Walzer","Tango","Wiener Walzer","Slowfox","Quickstep","Samba","Chachacha","Rumba","Paso Doble","Jive","Discofox"]
[{"$f":"Anmeldung!$E$7","v":"00:00:00"},{"$nulls":6},65,{"$f":"COUNTIF(J74:AC74,\"x\")","v":0}," "," "," "," "," "," "," "," "," "," "," "," "," "," "," "," "," "," "," "," ",null,{"$f":"$AE$8","v":"Langsamer Walzer"},{"$f":"$AF$8","v":"Tango"},{"$f":"$AG$8","v":"Wiener Walzer"},{"$f":"$AH$8","v":"Slowfox"},{"$f":"$AI$8","v":"Quickstep"},{"$f":"$AJ$8","v":"Samba"},{"$f":"$AK$8","v":"Chachacha"},{"$f":"$AL$8","v":"Rumba"},{"$f":"$AM$8","v":"Paso Doble"},{"$f":"$AN$8","v":"Jive"},{"$f":"$AO$8","v":"Discofox"}]
[{"$f":"Anmeldung!$E$7","v":"00:00:00"},{"$nulls":6},66,0," "," "," "," "," "," "," "," "," "," "," "," "," "," "," "," "," "," "," "," ",null,"Langsamer Walzer","Tango","Wiener Walzer","Slowfox","Quickstep","Samba","Chachacha","Rumba","Paso Doble","Jive","Discofox"]
[{"$f":"Anmeldung!$E$7","v":"00:00:00"},{"$nulls":6},67,0," "," "," "," "," "," "," "," "," "," "," "," "," "," "," "," "," "," "," "," ",null,"Langsamer Walzer","Tango","Wiener Walzer","Slowfox","Quickstep","Samba","Chachacha","Rumba","Paso Doble","Jive","Discofox"]
[{"$f":"Anmeldung!$E$7","v":"00:00:00"},{"$nulls":6},68,0," "," "," "," "," "," "," "," "," "," "," "," "," "," "," "," "," "," "," "," ",null,"Langsamer Walzer","Tango","Wiener Walzer","Slowfox","Quickstep","Samba","Chachacha","Rumba","Paso Doble","Jive","Discofox"]
[{"$f":"Anmeldung!$E$7","v":"00:00:00"},{"$nulls":6},69,0," "," "," "," "," "," "," "," "," "," "," "," "," "," "," "," "," "," "," "," ",null,"Langsamer Walzer","Tango","Wiener Walzer","Slowfox","Quickstep","Samba","Chachacha","Rumba","Paso Doble","Jive","Discofox"]
[{"$f":"Anmeldung!$E$7","v":"00:00:00"},{"$nulls":6},70,0," "," "," "," "," "," "," "," "," "," "," "," "," "," "," "," "," "," "," "," ",null,"Langsamer Walzer","Tango","Wiener Walzer","Slowfox","Quickstep","Samba","Chachacha","Rumba","Paso Doble","Jive","Discofox"]
[{"$f":"Anmeldung!$E$7","v":"00:00:00"},{"$nulls":6},71,0," "," "," "," "," "," "," "," "," "," "," "," "," "," "," "," "," "," "," "," ",null,"Langsamer Walzer","Tango","Wiener Walzer","Slowfox","Quickstep","Samba","Chachacha","Rumba","Paso Doble","Jive","Discofox"]
[{"$f":"Anmeldung!$E$7","v":"00:00:00"},{"$nulls":6},72,0," "," "," "," "," "," "," "," "," "," "," "," "," "," "," "," "," "," "," "," ",null,"Langsamer Walzer","Tango","Wiener Walzer","Slowfox","Quickstep","Samba","Chachacha","Rumba","Paso Doble","Jive","Discofox"]
[{"$f":"Anmeldung!$E$7","v":"00:00:00"},{"$nulls":6},73,0," "," "," "," "," "," "," "," "," "," "," "," "," "," "," "," "," "," "," "," ",null,"Langsamer Walzer","Tango","Wiener Walzer","Slowfox","Quickstep","Samba","Chachacha","Rumba","Paso Doble","Jive","Discofox"]
[{"$f":"Anmeldung!$E$7","v":"00:00:00"},{"$nulls":6},74,0," "," "," "," "," "," "," "," "," "," "," "," "," "," "," "," "," "," "," "," ",null,"Langsamer Walzer","Tango","Wiener Walzer","Slowfox","Quickstep","Samba","Chachacha","Rumba","Paso Doble","Jive","Discofox"]
[{"$f":"Anmeldung!$E$7","v":"00:00:00"},{"$nulls":6},75,0," "," "," "," "," "," "," "," "," "," "," "," "," "," "," "," "," "," "," "," ",null,"Langsamer Walzer","Tango","Wiener Walzer","Slowfox","Quickstep","Samba","Chachacha","Rumba","Paso Doble","Jive","Discofox"]
[{"$f":"Anmeldung!$E$7","v":"00:00:00"},{"$nulls":6},76,0," "," "," "," "," "," "," "," "," "," "," "," "," "," "," "," "," "," "," "," ",null,"Langsamer Walzer","Tango","Wiener Walzer","Slowfox","Quickstep","Samba","Chachacha","Rumba","Paso Doble","Jive","Discofox"]
[{"$f":"Anmeldung!$E$7","v":"00:00:00"},{"$nulls":6},77,0," "," "," "," "," "," "," "," "," "," "," "," "," "," "," "," "," "," "," "," ",null,"Langsamer Walzer","Tango","Wiener Walzer","Slowfox","Quickstep","Samba","Chachacha","Rumba","Paso Doble","Jive","Discofox"]
[{"$f":"Anmeldung!$E$7","v":"00:00:00"},{"$nulls":6},78,0," "," "," "," "," "," "," "," "," "," "," "," "," "," "," "," "," "," "," "," ",null,"Langsamer Walzer","Tango","Wiener Walzer","Slowfox","Quickstep","Samba","Chachacha","Rumba","Paso Doble","Jive","Discofox"]
[{"$f":"Anmeldung!$E$7","v":"00:00:00"},{"$nulls":6},79,0," "," "," "," "," "," "," "," "," "," "," "," "," "," "," "," "," "," "," "," ",null,"Langsamer Walzer","Tango","Wiener Walzer","Slowfox","Quickstep","Samba","Chachacha","Rumba","Paso Doble","Jive","Discofox"]
[{"$f":"Anmeldung!$E$7","v":"00:00:00"},{"$nulls":6},80,0," "," "," "," "," "," "," "," "," "," "," "," "," "," "," "," "," "," "," "," ",null,"Langsamer Walzer","Tango","Wiener Walzer","Slowfox","Quickstep","Samba","Chachacha","Rumba","Paso Doble","Jive","Discofox"]
[{"$f":"Anmeldung!$E$7","v":"00:00:00"},{"$nulls":6},81,0," "," "," "," "," "," "," "," "," "," "," "," "," "," "," "," "," "," "," "," ",null,"Langsamer Walzer","Tango","Wiener Walzer","Slowfox","Quickstep","Samba","Chachacha","Rumba","Paso Doble","Jive","Discofox"]
[{"$f":"Anmeldung!$E$7","v":"00:00:00"},{"$nulls":6},82,0," "," "," "," "," "," "," "," "," "," "," "," "," "," "," "," "," "," "," "," ",null,"Langsamer Walzer","Tango","Wiener Walzer","Slowfox","Quickstep","Samba","Chachacha","Rumba","Paso Doble","Jive","Discofox"]
[{"$f":"Anmeldung!$E$7","v":"00:00:00"},{"$nulls":6},83,0," "," "," "," "," "," "," "," "," "," "," "," "," "," "," "," "," "," "," "," ",null,"Langsamer Walzer","Tango","Wiener Walzer","Slowfox","Quickstep","Samba","Chachacha","Rumba","Paso Doble","Jive","Discofox"]
[{"$f":"Anmeldung!$E$7","v":"00:00:00"},{"$nulls":6},84,0," "," "," "," "," "," "," "," "," "," "," "," "," "," "," "," "," "," "," "," ",null,"Langsamer Walzer","Tango","Wiener Walzer","Slowfox","Quickstep","Samba","Chachacha","Rumba","Paso Doble","Jive","Discofox"]
[{"$f":"Anmeldung!$E$7","v":"00:00:00"},{"$nulls":6},85,0," "," "," "," "," "," "," "," "," "," "," "," "," "," "," "," "," "," "," "," ",null,"Langsamer Walzer","Tango","Wiener Walzer","Slowfox","Quickstep","Samba","Chachacha","Rumba","Paso Doble","Jive","Discofox"]
[{"$f":"Anmeldung!$E$7","v":"00:00:00"},{"$nulls":6},86,0," "," "," "," "," "," "," "," "," "," "," "," "," "," "," "," "," "," "," "," ",null,"Langsamer Walzer","Tango","Wiener Walzer","Slowfox","Quickstep","Samba","Chachacha","Rumba","Paso Doble","Jive","Discofox"]
[{"$f":"Anmeldung!$E$7","v":"00:00:00"},{"$nulls":6},87,0," "," "," "," "," "," "," "," "," "," "," "," "," "," "," "," "," "," "," "," ",null,"Langsamer Walzer","Tango","Wiener Walzer","Slowfox","Quickstep","Samba","Chachacha","Rumba","Paso Doble","Jive","Discofox"]
[{"$f":"Anmeldung!$E$7","v":"00:00:00"},{"$nulls":6},88,0," "," "," "," "," "," "," "," "," "," "," "," "," "," "," "," "," "," "," "," ",null,"Langsamer Walzer","Tango","Wiener Walzer","Slowfox","Quickstep","Samba","Chachacha","Rumba","Paso Doble","Jive","Discofox"]
[{"$f":"Anmeldung!$E$7","v":"00:00:00"},{"$nulls":6},89,0," "," "," "," "," "," "," "," "," "," "," "," "," "," "," "," "," "," "," "," ",null,"Langsamer Walzer","Tango","Wiener Walzer","Slowfox","Quickstep","Samba","Chachacha","Rumba","Paso Doble","Jive","Discofox"]
[{"$f":"Anmeldung!$E$7","v":"00:00:00"},{"$nulls":6},90,0," "," "," "," "," "," "," "," "," "," "," "," "," "," "," "," "," "," "," "," ",null,"Langsamer Walzer","Tango","Wiener Walzer","Slowfox","Quickstep","Samba","Chachacha","Rumba","Paso Doble","Jive","Discofox"]
[{"$f":"Anmeldung!$E$7","v":"00:00:00"},{"$nulls":6},91,0," "," "," "," "," "," "," "," "," "," "," "," "," "," "," "," "," "," "," "," ",null,"Langsamer Walzer","Tango","Wiener Walzer","Slowfox","Quickstep","Samba","Chachacha","Rumba","Paso Doble","Jive","Discofox"]
[{"$f":"Anmeldung!$E$7","v":"00:00:00"},{"$nulls":6},92,0," "," "," "," "," "," "," "," "," "," "," "," "," "," "," "," "," "," "," "," ",null,"Langsamer Walzer","Tango","Wiener Walzer","Slowfox","Quickstep","Samba","Chachacha","Rumba","Paso Doble","Jive","Discofox"]
[{"$f":"Anmeldung!$E$7","v":"00:00:00"},{"$nulls":6},93,0," "," "," "," "," "," "," "," "," "," "," "," "," "," "," "," "," "," "," "," ",null,"Langsamer Walzer","Tango","Wiener Walzer","Slowfox","Quickstep","Samba","Chachacha","Rumba","Paso Doble","Jive","Discofox"]
[{"$f":"Anmeldung!$E$7","v":"00:00:00"},{"$nulls":6},94,0," "," "," "," "," "," "," "," "," "," "," "," "," "," "," "," "," "," "," "," ",null,"Langsamer Walzer","Tango","Wiener Walzer","Slowfox","Quickstep","Samba","Chachacha","Rumba","Paso Doble","Jive","Discofox"]
[{"$f":"Anmeldung!$E$7","v":"00:00:00"},{"$nulls":6},95,0," "," "," "," "," "," "," "," "," "," "," "," "," "," "," "," "," "," "," "," ",null,"Langsamer Walzer","Tango","Wiener Walzer","Slowfox","Quickstep","Samba","Chachacha","Rumba","Paso Doble","Jive","Discofox"]
[{"$f":"Anmeldung!$E$7","v":"00:00:00"},{"$nulls":6},96,0," "," "," "," "," "," "," "," "," "," "," "," "," "," "," "," "," "," "," "," ",null,"Langsamer Walzer","Tango","Wiener Walzer","Slowfox","Quickstep","Samba","Chachacha","Rumba","Paso Doble","Jive","Discofox"]
[{"$f":"Anmeldung!$E$7","v":"00:00:00"},{"$nulls":6},97,0," "," "," "," "," "," "," "," "," "," "," "," "," "," "," "," "," "," "," "," ",null,{"$f":"$AE$8","v":"Langsamer Walzer"},{"$f":"$AF$8","v":"Tango"},{"$f":"$AG$8","v":"Wiener Walzer"},{"$f":"$AH$8","v":"Slowfox"},{"$f":"$AI$8","v":"Quickstep"},{"$f":"$AJ$8","v":"Samba"},{"$f":"$AK$8","v":"Chachacha"},{"$f":"$AL$8","v":"Rumba"},{"$f":"$AM$8","v":"Paso Doble"},{"$f":"$AN$8","v":"Jive"},{"$f":"$AO$8","v":"Discofox"}]
[{"$f":"Anmeldung!$E$7","v":"00:00:00"},{"$nulls":6},98,0," "," "," "," "," "," "," "," "," "," "," "," "," "," "," "," "," "," "," "," ",null,"Langsamer Walzer","Tango","Wiener Walzer","Slowfox","Quickstep","Samba","Chachacha","Rumba","Paso Doble","Jive","Discofox"]
[{"$f":"Anmeldung!$E$7","v":"00:00:00"},{"$nulls":6},99,0," "," "," "," "," "," "," "," "," "," "," "," "," "," "," "," "," "," "," "," ",null,"Langsamer Walzer","Tango","Wiener Walzer","Slowfox","Quickstep","Samba","Chachacha","Rumba","Paso Doble","Jive","Discofox"]
[{"$f":"Anmeldung!$E$7","v":"00:00:00"},{"$nulls":6},100,0," "," "," "," "," "," "," "," "," "," "," "," "," "," "," "," "," "," "," "," ",null,"Langsamer Walzer","Tango","Wiener Walzer","Slowfox","Quickstep","Samba","Chachacha","Rumba","Paso Doble","Jive","Discofox"]
[{"$f":"Anmeldung!$E$7","v":"00:00:00"},{"$nulls":6},101,0," "," "," "," "," "," "," "," "," "," "," "," "," "," "," "," "," "," "," "," ",null,"Langsamer Walzer","Tango","Wiener Walzer","Slowfox","Quickstep","Samba","Chachacha","Rumba","Paso Doble","Jive","Discofox"]
[{"$f":"Anmeldung!$E$7","v":"00:00:00"},{"$nulls":6},102,0," "," "," "," "," "," "," "," "," "," "," "," "," "," "," "," "," "," "," "," ",null,"Langsamer Walzer","Tango","Wiener Walzer","Slowfox","Quickstep","Samba","Chachacha","Rumba","Paso Doble","Jive","Discofox"]
[{"$f":"Anmeldung!$E$7","v":"00:00:00"},{"$nulls":6},103,0," "," "," "," "," "," "," "," "," "," "," "," "," "," "," "," "," "," "," "," ",null,"Langsamer Walzer","Tango","Wiener Walzer","Slowfox","Quickstep","Samba","Chachacha","Rumba","Paso Doble","Jive","Discofox"]
[{"$f":"Anmeldung!$E$7","v":"00:00:00"},{"$nulls":6},104,0," "," "," "," "," "," "," "," "," "," "," "," "," "," "," "," "," "," "," "," ",null,"Langsamer Walzer","Tango","Wiener Walzer","Slowfox","Quickstep","Samba","Chachacha","Rumba","Paso Doble","Jive","Discofox"]
[{"$f":"Anmeldung!$E$7","v":"00:00:00"},{"$nulls":6},105,0," "," "," "," "," "," "," "," "," "," "," "," "," "," "," "," "," "," "," "," ",null,"Langsamer Walzer","Tango","Wiener Walzer","Slowfox","Quickstep","Samba","Chachacha","Rumba","Paso Doble","Jive","Discofox"]
[{"$f":"Anmeldung!$E$7","v":"00:00:00"},{"$nulls":6},106,0," "," "," "," "," "," "," "," "," "," "," "," "," "," "," "," "," "," "," "," ",null,"Langsamer Walzer","Tango","Wiener Walzer","Slowfox","Quickstep","Samba","Chachacha","Rumba","Paso Doble","Jive","Discofox"]
[{"$f":"Anmeldung!$E$7","v":"00:00:00"},{"$nulls":6},107,0," "," "," "," "," "," "," "," "," "," "," "," "," "," "," "," "," "," "," "," ",null,"Langsamer Walzer","Tango","Wiener Walzer","Slowfox","Quickstep","Samba","Chachacha","Rumba","Paso Doble","Jive","Discofox"]
[{"$f":"Anmeldung!$E$7","v":"00:00:00"},{"$nulls":6},108,0," "," "," "," "," "," "," "," "," "," "," "," "," "," "," "," "," "," "," "," ",null,"Langsamer Walzer","Tango","Wiener Walzer","Slowfox","Quickstep","Samba","Chachacha","Rumba","Paso Doble","Jive","Discofox"]
[{"$f":"Anmeldung!$E$7","v":"00:00:00"},{"$nulls":6},109,0," "," "," "," "," "," "," "," "," "," "," "," "," "," "," "," "," "," "," "," ",null,"Langsamer Walzer","Tango","Wiener Walzer","Slowfox","Quickstep","Samba","Chachacha","Rumba","Paso Doble","Jive","Discofox"]
[{"$f":"Anmeldung!$E$7","v":"00:00:00"},{"$nulls":6},110,0," "," "," "," "," "," "," "," "," "," "," "," "," "," "," "," "," "," "," "," ",null,"Langsamer Walzer","Tango","Wiener Walzer","Slowfox","Quickstep","Samba","Chachacha","Rumba","Paso Doble","Jive","Discofox"]
[{"$f":"Anmeldung!$E$7","v":"00:00:00"},{"$nulls":6},111,0," "," "," "," "," "," "," "," "," "," "," "," "," "," "," "," "," "," "," "," ",null,"Langsamer Walzer","Tango","Wiener Walzer","Slowfox","Quickstep","Samba","Chachacha","Rumba","Paso Doble","Jive","Discofox"]
[{"$f":"Anmeldung!$E$7","v":"00:00:00"},{"$nulls":6},112,0," "," "," "," "," "," "," "," "," "," "," "," "," "," "," "," "," "," "," "," ",null,"Langsamer Walzer","Tango","Wiener Walzer","Slowfox","Quickstep","Samba","Chachacha","Rumba","Paso Doble","Jive","Discofox"]
[{"$f":"Anmeldung!$E$7","v":"00:00:00"},{"$nulls":6},113,0," "," "," "," "," "," "," "," "," "," "," "," "," "," "," "," "," "," "," "," ",null,"Langsamer Walzer","Tango","Wiener Walzer","Slowfox","Quickstep","Samba","Chachacha","Rumba","Paso Doble","Jive","Discofox"]
[{"$f":"Anmeldung!$E$7","v":"00:00:00"},{"$nulls":6},114,0," "," "," "," "," "," "," "," "," "," "," "," "," "," "," "," "," "," "," "," ",null,"Langsamer Walzer","Tango","Wiener Walzer","Slowfox","Quickstep","Samba","Chachacha","Rumba","Paso Doble","Jive","Discofox"]
[{"$f":"Anmeldung!$E$7","v":"00:00:00"},{"$nulls":6},115,0," "," "," "," "," "," "," "," "," "," "," "," "," "," "," "," "," "," "," "," ",null,"Langsamer Walzer","Tango","Wiener Walzer","Slowfox","Quickstep","Samba","Chachacha","Rumba","Paso Doble","Jive","Discofox"]
[{"$f":"Anmeldung!$E$7","v":"00:00:00"},{"$nulls":6},116,0," "," "," "," "," "," "," "," "," "," "," "," "," "," "," "," "," "," "," "," ",null,"Langsamer Walzer","Tango","Wiener Walzer","Slowfox","Quickstep","Samba","Chachacha","Rumba","Paso Doble","Jive","Discofox"]
[{"$f":"Anmeldung!$E$7","v":"00:00:00"},{"$nulls":6},117,0," "," "," "," "," "," "," "," "," "," "," "," "," "," "," "," "," "," "," "," ",null,"Langsamer Walzer","Tango","Wiener Walzer","Slowfox","Quickstep","Samba","Chachacha","Rumba","Paso Doble","Jive","Discofox"]
[{"$f":"Anmeldung!$E$7","v":"00:00:00"},{"$nulls":6},118,0," "," "," "," "," "," "," "," "," "," "," "," "," "," "," "," "," "," "," "," ",null,"Langsamer Walzer","Tango","Wiener Walzer","Slowfox","Quickstep","Samba","Chachacha","Rumba","Paso Doble","Jive","Discofox"]
[{"$f":"Anmeldung!$E$7","v":"00:00:00"},{"$nulls":6},119,0," "," "," "," "," "," "," "," "," "," "," "," "," "," "," "," "," "," "," "," ",null,"Langsamer Walzer","Tango","Wiener Walzer","Slowfox","Quickstep","Samba","Chachacha","Rumba","Paso Doble","Jive","Discofox"]
[{"$f":"Anmeldung!$E$7","v":"00:00:00"},{"$nulls":6},120,0," "," "," "," "," "," "," "," "," "," "," "," "," "," "," "," "," "," "," "," ",null,"Langsamer Walzer","Tango","Wiener Walzer","Slowfox","Quickstep","Samba","Chachacha","Rumba","Paso Doble","Jive","Discofox"]
[{"$f":"Anmeldung!$E$7","v":"00:00:00"},{"$nulls":6},121,0," "," "," "," "," "," "," "," "," "," "," "," "," "," "," "," "," "," "," "," ",null,"Langsamer Walzer","Tango","Wiener Walzer","Slowfox","Quickstep","Samba","Chachacha","Rumba","Paso Doble","Jive","Discofox"]
[{"$f":"Anmeldung!$E$7","v":"00:00:00"},{"$nulls":6},122,0," "," "," "," "," "," "," "," "," "," "," "," "," "," "," "," "," "," "," "," ",null,"Langsamer Walzer","Tango","Wiener Walzer","Slowfox","Quickstep","Samba","Chachacha","Rumba","Paso Doble","Jive","Discofox"]
[{"$f":"Anmeldung!$E$7","v":"00:00:00"},{"$nulls":6},123,0," "," "," "," "," "," "," "," "," "," "," "," "," "," "," "," "," "," "," "," ",null,"Langsamer Walzer","Tango","Wiener Walzer","Slowfox","Quickstep","Samba","Chachacha","Rumba","Paso Doble","Jive","Discofox"]
[{"$f":"Anmeldung!$E$7","v":"00:00:00"},{"$nulls":6},124,0," "," "," "," "," "," "," "," "," "," "," "," "," "," "," "," "," "," "," "," ",null,"Langsamer Walzer","Tango","Wiener Walzer","Slowfox","Quickstep","Samba","Chachacha","Rumba","Paso Doble","Jive","Discofox"]
[{"$f":"Anmeldung!$E$7","v":"00:00:00"},{"$nulls":6},125,0," "," "," "," "," "," "," "," "," "," "," "," "," "," "," "," "," "," "," "," ",null,"Langsamer Walzer","Tango","Wiener Walzer","Slowfox","Quickstep","Samba","Chachacha","Rumba","Paso Doble","Jive","Discofox"]
[{"$f":"Anmeldung!$E$7","v":"00:00:00"},{"$nulls":6},126,0," "," "," "," "," "," "," "," "," "," "," "," "," "," "," "," "," "," "," "," ",null,"Langsamer Walzer","Tango","Wiener Walzer","Slowfox","Quickstep","Samba","Chachacha","Rumba","Paso Doble","Jive","Discofox"]
[{"$f":"Anmeldung!$E$7","v":"00:00:00"},{"$nulls":6},127,0," "," "," "," "," "," "," "," "," "," "," "," "," "," "," "," "," "," "," "," ",null,"Langsamer Walzer","Tango","Wiener Walzer","Slowfox","Quickstep","Samba","Chachacha","Rumba","Paso Doble","Jive","Discofox"]
[{"$f":"Anmeldung!$E$7","v":"00:00:00"},{"$nulls":6},128,0," "," "," "," "," "," "," "," "," "," "," "," "," "," "," "," "," "," "," "," ",null,"Langsamer Walzer","Tango","Wiener Walzer","Slowfox","Quickstep","Samba","Chachacha","Rumba","Paso Doble","Jive","Discofox"]
[{"$f":"Anmeldung!$E$7","v":"00:00:00"},{"$nulls":6},129,{"$f":"COUNTIF(J138:AC138,\"x\")","v":0}," "," "," "," "," "," "," "," "," "," "," "," "," "," "," "," "," "," "," "," ",null,{"$f":"$AE$8","v":"Langsamer Walzer"},{"$f":"$AF$8","v":"Tango"},{"$f":"$AG$8","v":"Wiener Walzer"},{"$f":"$AH$8","v":"Slowfox"},{"$f":"$AI$8","v":"Quickstep"},{"$f":"$AJ$8","v":"Samba"},{"$f":"$AK$8","v":"Chachacha"},{"$f":"$AL$8","v":"Rumba"},{"$f":"$AM$8","v":"Paso Doble"},{"$f":"$AN$8","v":"Jive"},{"$f":"$AO$8","v":"Discofox"}]
[{"$f":"Anmeldung!$E$7","v":"00:00:00"},{"$nulls":6},130,0," "," "," "," "," "," "," "," "," "," "," "," "," "," "," "," "," "," "," "," ",null,"Langsamer Walzer","Tango","Wiener Walzer","Slowfox","Quickstep","Samba","Chachacha","Rumba","Paso Doble","Jive","Discofox"]
[{"$f":"Anmeldung!$E$7","v":"00:00:00"},{"$nulls":6},131,0," "," "," "," "," "," "," "," "," "," "," "," "," "," "," "," "," "," "," "," ",null,"Langsamer Walzer","Tango","Wiener Walzer","Slowfox","Quickstep","Samba","Chachacha","Rumba","Paso Doble","Jive","Discofox"]
[{"$f":"Anmeldung!$E$7","v":"00:00:00"},{"$nulls":6},132,0," "," "," "," "," "," "," "," "," "," "," "," "," "," "," "," "," "," "," "," ",null,"Langsamer Walzer","Tango","Wiener Walzer","Slowfox","Quickstep","Samba","Chachacha","Rumba","Paso Doble","Jive","Discofox"]
[{"$f":"Anmeldung!$E$7","v":"00:00:00"},{"$nulls":6},133,0," "," "," "," "," "," "," "," "," "," "," "," "," "," "," "," "," "," "," "," ",null,"Langsamer Walzer","Tango","Wiener Walzer","Slowfox","Quickstep","Samba","Chachacha","Rumba","Paso Doble","Jive","Discofox"]
[{"$f":"Anmeldung!$E$7","v":"00:00:00"},{"$nulls":6},134,0," "," "," "," "," "," "," "," "," "," "," "," "," "," "," "," "," "," "," "," ",null,"Langsamer Walzer","Tango","Wiener Walzer","Slowfox","Quickstep","Samba","Chachacha","Rumba","Paso Doble","Jive","Discofox"]
[{"$f":"Anmeldung!$E$7","v":"00:00:00"},{"$nulls":6},135,0," "," "," "," "," "," "," "," "," "," "," "," "," "," "," "," "," "," "," "," ",null,"Langsamer Walzer","Tango","Wiener Walzer","Slowfox","Quickstep","Samba","Chachacha","Rumba","Paso Doble","Jive","Discofox"]
[{"$f":"Anmeldung!$E$7","v":"00:00:00"},{"$nulls":6},136,0," "," "," "," "," "," "," "," "," "," "," "," "," "," "," "," "," "," "," "," ",null,"Langsamer Walzer","Tango","Wiener Walzer","Slowfox","Quickstep","Samba","Chachacha","Rumba","Paso Doble","Jive","Discofox"]
[{"$f":"Anmeldung!$E$7","v":"00:00:00"},{"$nulls":6},137,0," "," "," "," "," "," "," "," "," "," "," "," "," "," "," "," "," "," "," "," ",null,"Langsamer Walzer","Tango","Wiener Walzer","Slowfox","Quickstep","Samba","Chachacha","Rumba","Paso Doble","Jive","Discofox"]
[{"$f":"Anmeldung!$E$7","v":"00:00:00"},{"$nulls":6},138,0," "," "," "," "," "," "," "," "," "," "," "," "," "," "," "," "," "," "," "," ",null,"Langsamer Walzer","Tango","Wiener Walzer","Slowfox","Quickstep","Samba","Chachacha","Rumba","Paso Doble","Jive","Discofox"]
[{"$f":"Anmeldung!$E$7","v":"00:00:00"},{"$nulls":6},139,0," "," "," "," "," "," "," "," "," "," "," "," "," "," "," "," "," "," "," "," ",null,"Langsamer Walzer","Tango","Wiener Walzer","Slowfox","Quickstep","Samba","Chachacha","Rumba","Paso Doble","Jive","Discofox"]
[{"$f":"Anmeldung!$E$7","v":"00:00:00"},{"$nulls":6},140,0," "," "," "," "," "," "," "," "," "," "," "," "," "," "," "," "," "," "," "," ",null,"Langsamer Walzer","Tango","Wiener Walzer","Slowfox","Quickstep","Samba","Chachacha","Rumba","Paso Doble","Jive","Discofox"]
[{"$f":"Anmeldung!$E$7","v":"00:00:00"},{"$nulls":6},141,0," "," "," "," "," "," "," "," "," "," "," "," "," "," "," "," "," "," "," "," ",null,"Langsamer Walzer","Tango","Wiener Walzer","Slowfox","Quickstep","Samba","Chachacha","Rumba","Paso Doble","Jive","Discofox"]
[{"$f":"Anmeldung!$E$7","v":"00:00:00"},{"$nulls":6},142,0," "," "," "," "," "," "," "," "," "," "," "," "," "," "," "," "," "," "," "," ",null,"Langsamer Walzer","Tango","Wiener Walzer","Slowfox","Quickstep","Samba","Chachacha","Rumba","Paso Doble","Jive","Discofox"]
[{"$f":"Anmeldung!$E$7","v":"00:00:00"},{"$nulls":6},143,0," "," "," "," "," "," "," "," "," "," "," "," "," "," "," "," "," "," "," "," ",null,"Langsamer Walzer","Tango","Wiener Walzer","Slowfox","Quickstep","Samba","Chachacha","Rumba","Paso Doble","Jive","Discofox"]
[{"$f":"Anmeldung!$E$7","v":"00:00:00"},{"$nulls":6},144,0," "," "," "," "," "," "," "," "," "," "," "," "," "," "," "," "," "," "," "," ",null,"Langsamer Walzer","Tango","Wiener Walzer","Slowfox","Quickstep","Samba","Chachacha","Rumba","Paso Doble","Jive","Discofox"]
[{"$f":"Anmeldung!$E$7","v":"00:00:00"},{"$nulls":6},145,0," "," "," "," "," "," "," "," "," "," "," "," "," "," "," "," "," "," "," "," ",null,"Langsamer Walzer","Tango","Wiener Walzer","Slowfox","Quickstep","Samba","Chachacha","Rumba","Paso Doble","Jive","Discofox"]
[{"$f":"Anmeldung!$E$7","v":"00:00:00"},{"$nulls":6},146,0," "," "," "," "," "," "," "," "," "," "," "," "," "," "," "," "," "," "," "," ",null,"Langsamer Walzer","Tango","Wiener Walzer","Slowfox","Quickstep","Samba","Chachacha","Rumba","Paso Doble","Jive","Discofox"]
[{"$f":"Anmeldung!$E$7","v":"00:00:00"},{"$nulls":6},147,0," "," "," "," "," "," "," "," "," "," "," "," "," "," "," "," "," "," "," "," ",null,"Langsamer Walzer","Tango","Wiener Walzer","Slowfox","Quickstep","Samba","Chachacha","Rumba","Paso Doble","Jive","Discofox"]
[{"$f":"Anmeldung!$E$7","v":"00:00:00"},{"$nulls":6},148,0," "," "," "," "," "," "," "," "," "," "," "," "," "," "," "," "," "," "," "," ",null,"Langsamer Walzer","Tango","Wiener Walzer","Slowfox","Quickstep","Samba","Chachacha","Rumba","Paso Doble","Jive","Discofox"]
[{"$f":"Anmeldung!$E$7","v":"00:00:00"},{"$nulls":6},149,0," "," "," "," "," "," "," "," "," "," "," "," "," "," "," "," "," "," "," "," ",null,"Langsamer Walzer","Tango","Wiener Walzer","Slowfox","Quickstep","Samba","Chachacha","Rumba","Paso Doble","Jive","Discofox"]
[{"$f":"Anmeldung!$E$7","v":"00:00:00"},{"$nulls":6},150,0," "," "," "," "," "," "," "," "," "," "," "," "," "," "," "," "," "," "," "," ",null,"Langsamer Walzer","Tango","Wiener Walzer","Slowfox","Quickstep","Samba","Chachacha","Rumba","Paso Doble","Jive","Discofox"]
[{"$f":"Anmeldung!$E$7","v":"00:00:00"},{"$nulls":6},151,0," "," "," "," "," "," "," "," "," "," "," "," "," "," "," "," "," "," "," "," ",null,"Langsamer Walzer","Tango","Wiener Walzer","Slowfox","Quickstep","Samba","Chachacha","Rumba","Paso Doble","Jive","Discofox"]
[{"$f":"Anmeldung!$E$7","v":"00:00:00"},{"$nulls":6},152,0," "," "," "," "," "," "," "," "," "," "," "," "," "," "," "," "," "," "," "," ",null,"Langsamer Walzer","Tango","Wiener Walzer","Slowfox","Quickstep","Samba","Chachacha","Rumba","Paso Doble","Jive","Discofox"]
[{"$f":"Anmeldung!$E$7","v":"00:00:00"},{"$nulls":6},153,0," "," "," "," "," "," "," "," "," "," "," "," "," "," "," "," "," "," "," "," ",null,"Langsamer Walzer","Tango","Wiener Walzer","Slowfox","Quickstep","Samba","Chachacha","Rumba","Paso Doble","Jive","Discofox"]
[{"$f":"Anmeldung!$E$7","v":"00:00:00"},{"$nulls":6},154,0," "," "," "," "," "," "," "," "," "," "," "," "," "," "," "," "," "," "," "," ",null,"Langsamer Walzer","Tango","Wiener Walzer","Slowfox","Quickstep","Samba","Chachacha","Rumba","Paso Doble","Jive","Discofox"]
[{"$f":"Anmeldung!$E$7","v":"00:00:00"},{"$nulls":6},155,0," "," "," "," "," "," "," "," "," "," "," "," "," "," "," "," "," "," "," "," ",null,"Langsamer Walzer","Tango","Wiener Walzer","Slowfox","Quickstep","Samba","Chachacha","Rumba","Paso Doble","Jive","Discofox"]
[{"$f":"Anmeldung!$E$7","v":"00:00:00"},{"$nulls":6},156,0," "," "," "," "," "," "," "," "," "," "," "," "," "," "," "," "," "," "," "," ",null,"Langsamer Walzer","Tango","Wiener Walzer","Slowfox","Quickstep","Samba","Chachacha","Rumba","Paso Doble","Jive","Discofox"]
[{"$f":"Anmeldung!$E$7","v":"00:00:00"},{"$nulls":6},157,0," "," "," "," "," "," "," "," "," "," "," "," "," "," "," "," "," "," "," "," ",null,"Langsamer Walzer","Tango","Wiener Walzer","Slowfox","Quickstep","Samba","Chachacha","Rumba","Paso Doble","Jive","Discofox"]
[{"$f":"Anmeldung!$E$7","v":"00:00:00"},{"$nulls":6},158,0," "," "," "," "," "," "," "," "," "," "," "," "," "," "," "," "," "," "," "," ",null,"Langsamer Walzer","Tango","Wiener Walzer","Slowfox","Quickstep","Samba","Chachacha","Rumba","Paso Doble","Jive","Discofox"]
[{"$f":"Anmeldung!$E$7","v":"00:00:00"},{"$nulls":6},159,0," "," "," "," "," "," "," "," "," "," "," "," "," "," "," "," "," "," "," "," ",null,"Langsamer Walzer","Tango","Wiener Walzer","Slowfox","Quickstep","Samba","Chachacha","Rumba","Paso Doble","Jive","Discofox"]
[{"$f":"Anmeldung!$E$7","v":"00:00:00"},{"$nulls":6},160,0," "," "," "," "," "," "," "," "," "," "," "," "," "," "," "," "," "," "," "," ",null,"Langsamer Walzer","Tango","Wiener Walzer","Slowfox","Quickstep","Samba","Chachacha","Rumba","Paso Doble","Jive","Discofox"]
[{"$f":"Anmeldung!$E$7","v":"00:00:00"},{"$nulls":6},161,0," "," "," "," "," "," "," "," "," "," "," "," "," "," "," "," "," "," "," "," ",null,{"$f":"$AE$8","v":"Langsamer Walzer"},{"$f":"$AF$8","v":"Tango"},{"$f":"$AG$8","v":"Wiener Walzer"},{"$f":"$AH$8","v":"Slowfox"},{"$f":"$AI$8","v":"Quickstep"},{"$f":"$AJ$8","v":"Samba"},{"$f":"$AK$8","v":"Chachacha"},{"$f":"$AL$8","v":"Rumba"},{"$f":"$AM$8","v":"Paso Doble"},{"$f":"$AN$8","v":"Jive"},{"$f":"$AO$8","v":"Discofox"}]
[{"$f":"Anmeldung!$E$7","v":"00:00:00"},{"$nulls":6},162,0," "," "," "," "," "," "," "," "," "," "," "," "," "," "," "," "," "," "," "," ",null,"Langsamer Walzer","Tango","Wiener Walzer","Slowfox","Quickstep","Samba","Chachacha","Rumba","Paso Doble","Jive","Discofox"]
[{"$f":"Anmeldung!$E$7","v":"00:00:00"},{"$nulls":6},163,0," "," "," "," "," "," "," "," "," "," "," "," "," "," "," "," "," "," "," "," ",null,"Langsamer Walzer","Tango","Wiener Walzer","Slowfox","Quickstep","Samba","Chachacha","Rumba","Paso Doble","Jive","Discofox"]
[{"$f":"Anmeldung!$E$7","v":"00:00:00"},{"$nulls":6},164,0," "," "," "," "," "," "," "," "," "," "," "," "," "," "," "," "," "," "," "," ",null,"Langsamer Walzer","Tango","Wiener Walzer","Slowfox","Quickstep","Samba","Chachacha","Rumba","Paso Doble","Jive","Discofox"]
[{"$f":"Anmeldung!$E$7","v":"00:00:00"},{"$nulls":6},165,0," "," "," "," "," "," "," "," "," "," "," "," "," "," "," "," "," "," "," "," ",null,"Langsamer Walzer","Tango","Wiener Walzer","Slowfox","Quickstep","Samba","Chachacha","Rumba","Paso Doble","Jive","Discofox"]
[{"$f":"Anmeldung!$E$7","v":"00:00:00"},{"$nulls":6},166,0," "," "," "," "," "," "," "," "," "," "," "," "," "," "," "," "," "," "," "," ",null,"Langsamer Walzer","Tango","Wiener Walzer","Slowfox","Quickstep","Samba","Chachacha","Rumba","Paso Doble","Jive","Discofox"]
[{"$f":"Anmeldung!$E$7","v":"00:00:00"},{"$nulls":6},167,0," "," "," "," "," "," "," "," "," "," "," "," "," "," "," "," "," "," "," "," ",null,"Langsamer Walzer","Tango","Wiener Walzer","Slowfox","Quickstep","Samba","Chachacha","Rumba","Paso Doble","Jive","Discofox"]
[{"$f":"Anmeldung!$E$7","v":"00:00:00"},{"$nulls":6},168,0," "," "," "," "," "," "," "," "," "," "," "," "," "," "," "," "," "," "," "," ",null,"Langsamer Walzer","Tango","Wiener Walzer","Slowfox","Quickstep","Samba","Chachacha","Rumba","Paso Doble","Jive","Discofox"]
[{"$f":"Anmeldung!$E$7","v":"00:00:00"},{"$nulls":6},169,0," "," "," "," "," "," "," "," "," "," "," "," "," "," "," "," "," "," "," "," ",null,"Langsamer Walzer","Tango","Wiener Walzer","Slowfox","Quickstep","Samba","Chachacha","Rumba","Paso Doble","Jive","Discofox"]
[{"$f":"Anmeldung!$E$7","v":"00:00:00"},{"$nulls":6},170,0," "," "," "," "," "," "," "," "," "," "," "," "," "," "," "," "," "," "," "," ",null,"Langsamer Walzer","Tango","Wiener Walzer","Slowfox","Quickstep","Samba","Chachacha","Rumba","Paso Doble","Jive","Discofox"]
[{"$f":"Anmeldung!$E$7","v":"00:00:00"},{"$nulls":6},171,0," "," "," "," "," "," "," "," "," "," "," "," "," "," "," "," "," "," "," "," ",null,"Langsamer Walzer","Tango","Wiener Walzer","Slowfox","Quickstep","Samba","Chachacha","Rumba","Paso Doble","Jive","Discofox"]
[{"$f":"Anmeldung!$E$7","v":"00:00:00"},{"$nulls":6},172,0," "," "," "," "," "," "," "," "," "," "," "," "," "," "," "," "," "," "," "," ",null,"Langsamer Walzer","Tango","Wiener Walzer","Slowfox","Quickstep","Samba","Chachacha","Rumba","Paso Doble","Jive","Discofox"]
[{"$f":"Anmeldung!$E$7","v":"00:00:00"},{"$nulls":6},173,0," "," "," "," "," "," "," "," "," "," "," "," "," "," "," "," "," "," "," "," ",null,"Langsamer Walzer","Tango","Wiener Walzer","Slowfox","Quickstep","Samba","Chachacha","Rumba","Paso Doble","Jive","Discofox"]
[{"$f":"Anmeldung!$E$7","v":"00:00:00"},{"$nulls":6},174,0," "," "," "," "," "," "," "," "," "," "," "," "," "," "," "," "," "," "," "," ",null,"Langsamer Walzer","Tango","Wiener Walzer","Slowfox","Quickstep","Samba","Chachacha","Rumba","Paso Doble","Jive","Discofox"]
[{"$f":"Anmeldung!$E$7","v":"00:00:00"},{"$nulls":6},175,0," "," "," "," "," "," "," "," "," "," "," "," "," "," "," "," "," "," "," "," ",null,"Langsamer Walzer","Tango","Wiener Walzer","Slowfox","Quickstep","Samba","Chachacha","Rumba","Paso Doble","Jive","Discofox"]
[{"$f":"Anmeldung!$E$7","v":"00:00:00"},{"$nulls":6},176,0," "," "," "," "," "," "," "," "," "," "," "," "," "," "," "," "," "," "," "," ",null,"Langsamer Walzer","Tango","Wiener Walzer","Slowfox","Quickstep","Samba","Chachacha","Rumba","Paso Doble","Jive","Discofox"]
[{"$f":"Anmeldung!$E$7","v":"00:00:00"},{"$nulls":6},177,0," "," "," "," "," "," "," "," "," "," "," "," "," "," "," "," "," "," "," "," ",null,"Langsamer Walzer","Tango","Wiener Walzer","Slowfox","Quickstep","Samba","Chachacha","Rumba","Paso Doble","Jive","Discofox"]
[{"$f":"Anmeldung!$E$7","v":"00:00:00"},{"$nulls":6},178,0," "," "," "," "," "," "," "," "," "," "," "," "," "," "," "," "," "," "," "," ",null,"Langsamer Walzer","Tango","Wiener Walzer","Slowfox","Quickstep","Samba","Chachacha","Rumba","Paso Doble","Jive","Discofox"]
[{"$f":"Anmeldung!$E$7","v":"00:00:00"},{"$nulls":6},179,0," "," "," "," "," "," "," "," "," "," "," "," "," "," "," "," "," "," "," "," ",null,"Langsamer Walzer","Tango","Wiener Walzer","Slowfox","Quickstep","Samba","Chachacha","Rumba","Paso Doble","Jive","Discofox"]
[{"$f":"Anmeldung!$E$7","v":"00:00:00"},{"$nulls":6},180,0," "," "," "," "," "," "," "," "," "," "," "," "," "," "," "," "," "," "," "," ",null,"Langsamer Walzer","Tango","Wiener Walzer","Slowfox","Quickstep","Samba","Chachacha","Rumba","Paso Doble","Jive","Discofox"]
[{"$f":"Anmeldung!$E$7","v":"00:00:00"},{"$nulls":6},181,0," "," "," "," "," "," "," "," "," "," "," "," "," "," "," "," "," "," "," "," ",null,"Langsamer Walzer","Tango","Wiener Walzer","Slowfox","Quickstep","Samba","Chachacha","Rumba","Paso Doble","Jive","Discofox"]
[{"$f":"Anmeldung!$E$7","v":"00:00:00"},{"$nulls":6},182,0," "," "," "," "," "," "," "," "," "," "," "," "," "," "," "," "," "," "," "," ",null,"Langsamer Walzer","Tango","Wiener Walzer","Slowfox","Quickstep","Samba","Chachacha","Rumba","Paso Doble","Jive","Discofox"]
[{"$f":"Anmeldung!$E$7","v":"00:00:00"},{"$nulls":6},183,0," "," "," "," "," "," "," "," "," "," "," "," "," "," "," "," "," "," "," "," ",null,"Langsamer Walzer","Tango","Wiener Walzer","Slowfox","Quickstep","Samba","Chachacha","Rumba","Paso Doble","Jive","Discofox"]
[{"$f":"Anmeldung!$E$7","v":"00:00:00"},{"$nulls":6},184,0," "," "," "," "," "," "," "," "," "," "," "," "," "," "," "," "," "," "," "," ",null,"Langsamer Walzer","Tango","Wiener Walzer","Slowfox","Quickstep","Samba","Chachacha","Rumba","Paso Doble","Jive","Discofox"]
[{"$f":"Anmeldung!$E$7","v":"00:00:00"},{"$nulls":6},185,0," "," "," "," "," "," "," "," "," "," "," "," "," "," "," "," "," "," "," "," ",null,"Langsamer Walzer","Tango","Wiener Walzer","Slowfox","Quickstep","Samba","Chachacha","Rumba","Paso Doble","Jive","Discofox"]
[{"$f":"Anmeldung!$E$7","v":"00:00:00"},{"$nulls":6},186,0," "," "," "," "," "," "," "," "," "," "," "," "," "," "," "," "," "," "," "," ",null,"Langsamer Walzer","Tango","Wiener Walzer","Slowfox","Quickstep","Samba","Chachacha","Rumba","Paso Doble","Jive","Discofox"]
[{"$f":"Anmeldung!$E$7","v":"00:00:00"},{"$nulls":6},187,0," "," "," "," "," "," "," "," "," "," "," "," "," "," "," "," "," "," "," "," ",null,"Langsamer Walzer","Tango","Wiener Walzer","Slowfox","Quickstep","Samba","Chachacha","Rumba","Paso Doble","Jive","Discofox"]
[{"$f":"Anmeldung!$E$7","v":"00:00:00"},{"$nulls":6},188,0," "," "," "," "," "," "," "," "," "," "," "," "," "," "," "," "," "," "," "," ",null,"Langsamer Walzer","Tango","Wiener Walzer","Slowfox","Quickstep","Samba","Chachacha","Rumba","Paso Doble","Jive","Discofox"]
[{"$f":"Anmeldung!$E$7","v":"00:00:00"},{"$nulls":6},189,0," "," "," "," "," "," "," "," "," "," "," "," "," "," "," "," "," "," "," "," ",null,"Langsamer Walzer","Tango","Wiener Walzer","Slowfox","Quickstep","Samba","Chachacha","Rumba","Paso Doble","Jive","Discofox"]
[{"$f":"Anmeldung!$E$7","v":"00:00:00"},{"$nulls":6},190,0," "," "," "," "," "," "," "," "," "," "," "," "," "," "," "," "," "," "," "," ",null,"Langsamer Walzer","Tango","Wiener Walzer","Slowfox","Quickstep","Samba","Chachacha","Rumba","Paso Doble","Jive","Discofox"]
[{"$f":"Anmeldung!$E$7","v":"00:00:00"},{"$nulls":6},191,0," "," "," "," "," "," "," "," "," "," "," "," "," "," "," "," "," "," "," "," ",null,"Langsamer Walzer","Tango","Wiener Walzer","Slowfox","Quickstep","Samba","Chachacha","Rumba","Paso Doble","Jive","Discofox"]
[{"$f":"Anmeldung!$E$7","v":"00:00:00"},{"$nulls":6},192,0," "," "," "," "," "," "," "," "," "," "," "," "," "," "," "," "," "," "," "," ",null,"Langsamer Walzer","Tango","Wiener Walzer","Slowfox","Quickstep","Samba","Chachacha","Rumba","Paso Doble","Jive","Discofox"]
[{"$f":"Anmeldung!$E$7","v":"00:00:00"},{"$nulls":6},193,{"$f":"COUNTIF(J202:AC202,\"x\")","v":0}," "," "," "," "," "," "," "," "," "," "," "," "," "," "," "," "," "," "," "," ",null,{"$f":"$AE$8","v":"Langsamer Walzer"},{"$f":"$AF$8","v":"Tango"},{"$f":"$AG$8","v":"Wiener Walzer"},{"$f":"$AH$8","v":"Slowfox"},{"$f":"$AI$8","v":"Quickstep"},{"$f":"$AJ$8","v":"Samba"},{"$f":"$AK$8","v":"Chachacha"},{"$f":"$AL$8","v":"Rumba"},{"$f":"$AM$8","v":"Paso Doble"},{"$f":"$AN$8","v":"Jive"},{"$f":"$AO$8","v":"Discofox"}]
[{"$f":"Anmeldung!$E$7","v":"00:00:00"},{"$nulls":6},194,0," "," "," "," "," "," "," "," "," "," "," "," "," "," "," "," "," "," "," "," ",null,"Langsamer Walzer","Tango","Wiener Walzer","Slowfox","Quickstep","Samba","Chachacha","Rumba","Paso Doble","Jive","Discofox"]
[{"$f":"Anmeldung!$E$7","v":"00:00:00"},{"$nulls":6},195,0," "," "," "," "," "," "," "," "," "," "," "," "," "," "," "," "," "," "," "," ",null,"Langsamer Walzer","Tango","Wiener Walzer","Slowfox","Quickstep","Samba","Chachacha","Rumba","Paso Doble","Jive","Discofox"]
[{"$f":"Anmeldung!$E$7","v":"00:00:00"},{"$nulls":6},196,0," "," "," "," "," "," "," "," "," "," "," "," "," "," "," "," "," "," "," "," ",null,"Langsamer Walzer","Tango","Wiener Walzer","Slowfox","Quickstep","Samba","Chachacha","Rumba","Paso Doble","Jive","Discofox"]
[{"$f":"Anmeldung!$E$7","v":"00:00:00"},{"$nulls":6},197,0," "," "," "," "," "," "," "," "," "," "," "," "," "," "," "," "," "," "," "," ",null,"Langsamer Walzer","Tango","Wiener Walzer","Slowfox","Quickstep","Samba","Chachacha","Rumba","Paso Doble","Jive","Discofox"]
[{"$f":"Anmeldung!$E$7","v":"00:00:00"},{"$nulls":6},198,0," "," "," "," "," "," "," "," "," "," "," "," "," "," "," "," "," "," "," "," ",null,"Langsamer Walzer","Tango","Wiener Walzer","Slowfox","Quickstep","Samba","Chachacha","Rumba","Paso Doble","Jive","Discofox"]
[{"$f":"Anmeldung!$E$7","v":"00:00:00"},{"$nulls":6},199,0," "," "," "," "," "," "," "," "," "," "," "," "," "," "," "," "," "," "," "," ",null,"Langsamer Walzer","Tango","Wiener Walzer","Slowfox","Quickstep","Samba","Chachacha","Rumba","Paso Doble","Jive","Discofox"]
[{"$f":"Anmeldung!$E$7","v":"00:00:00"},{"$nulls":6},200,0," "," "," "," "," "," "," "," "," "," "," "," "," "," "," "," "," "," "," "," ",null,"Langsamer Walzer","Tango","Wiener Walzer","Slowfox","Quickstep","Samba","Chachacha","Rumba","Paso Doble","Jive","Discofox"]
[" "," "," "," ",null," "," "," ",{"$f":"COUNTIF(J210:AC210,\"x\")","v":0},{"$nulls":6}," "," "," "," "," "," "," "," "," "," "," "," "," "," ",null,"Langsamer Walzer","Tango","Wiener Walzer","Slowfox","Quickstep","Samba","Chachacha","Rumba","Paso Doble","Jive","Discofox"]
[]
[null,"Urkunde und Abzeichen",null,"nur Urkunde"]
[]
[null,"kleines Tanzsternchen",{"$f":"COUNTIFS(B$10:B$209,B214,E$10:E$209,\"\")","v":0},"kleines Tanzsternchen",{"$f":"COUNTIFS(B$10:B$209,D214,E$10:E$209,\"x\")","v":0}]
[null,"großes Tanzsternchen",{"$f":"COUNTIFS(B$10:B$209,B215,E$10:E$209,\"\")","v":0},"großes Tanzsternchen",{"$f":"COUNTIFS(B$10:B$209,D215,E$10:E$209,\"x\")","v":0}]
[null,"Bronze",0,"Bronze",0]
[null,"Silber",0,"Silber",0]
[null,"Gold",0,"Gold",0]
[null,"Gold mit Zahl 5",0,"Gold mit Zahl 5",0]
[null,"Gold mit Zahl 10",0,"Gold mit Zahl 10",0]
[null,"Gold mit Zahl 15",0,"Gold mit Zahl 15",0]
[null,"Gold mit Zahl 20",0,"Gold mit Zahl 20",0]
[null,"Gold mit Zahl 25",0,"Gold mit Zahl 25",0]
[null,"Gold mit Zahl 30",0,"Gold mit Zahl 30",0]
[null,"Gold mit Zahl 35",0,"Gold mit Zahl 35",0]
[null,"Brillant",0,"Brillant",0]
[null,"Brillant mit Zahl 5",0,"Brillant mit Zahl 5",0]
[null,"Brillant mit Zahl 10",0,"Brillant mit Zahl 10",0]
[null,"nicht teilgenommen",null,"nicht teilgenommen",0]
[]
[null,"Gesamt",{"$f":"SUM(C214:C229)","v":0},"Gesamt",{"$f":"SUM(E214:E229)","v":0}]

{"sheet":"Gruppen","index":2,"n_rows":31,"n_cols":13,"rows_kept":31,"cut":false,"hidden":false,"merged":[[5,1,5,2],[5,8,5,9],[27,0,27,4],[25,5,27,5],[25,12,27,12],[27,7,27,11],[4,1,4,5],[4,8,4,12],[0,0,0,5],[0,7,0,12],[3,1,3,5],[3,8,3,12],[2,1,2,4],[2,8,2,11]]}
["Gruppenabnahmekarte für das deutsche Tanzsportabzeichen",{"$nulls":6},"Gruppenabnahmekarte für das deutsche Tanzsportabzeichen"]
[]
["Abnahme am:",{"$f":"Meldedaten!$C$6","v":"00:00:00"},null,null,null,"max. 16 Personen pro Gruppenabnahme!",null,"Abnahme am:",{"$f":"Meldedaten!$C$6","v":"00:00:00"},null,null,null,"max. 16 Personen pro Gruppenabnahme!"]
["Verein/Schule:",{"$f":"Meldedaten!$H$6","v":0},{"$nulls":5},"Verein/Schule:",{"$f":"Meldedaten!$H$6","v":0}]
["Liedtitel:",{"$nulls":6},"Liedtitel:"]
["Gruppentanz Nr.:",{"$nulls":6},"Gruppentanz Nr.:"]
[]
["Start-Nr.:","Musik","Balancen","Bewegg.-\nAblauf","X=\nbestanden","spezielle Bemerkungen (Lob/Hinweis/Kritik)\nder/des Abnehmer/in",null,"Start-Nr.:","Musik","Balancen","Bewegg.-\nAblauf","X=\nbestanden","spezielle Bemerkungen (Lob/Hinweis/Kritik)\nder/des Abnehmer/in"]
{"$rows_empty":17}
["gesamte Gruppe",{"$nulls":4},"Die Bewertung \"gesamte Gruppe\" gilt für alle Einzelpersonen der Gruppe, außer es ist oben etwas anderes eingetragen. \nBeispiel: Die gesamte Gruppe erhält in jedem Wertungsgebiet ein X - Start-Nr:XY hatte einen schlechten Bewegungsablauf und erhält daher dort eine O eingetragen. Somit gilt für diese Person die Wertung x - x - o.",null,"gesamte Gruppe",{"$nulls":4},"Die Bewertung \"gesamte Gruppe\" gilt für alle Einzelpersonen der Gruppe, außer es ist oben etwas anderes eingetragen. \nBeispiel: Die gesamte Gruppe erhält in jedem Wertungsgebiet ein X - Start-Nr:XY hatte einen schlechten Bewegungsablauf und erhält daher dort eine O eingetragen. Somit gilt für diese Person die Wertung x - x - o."]
[]
["Unterschrift(en) Abnehmer/in(nen):",{"$nulls":6},"Unterschrift(en) Abnehmer/in(nen):"]
[]
[]
[{"$f":"Anmeldung!$L$19","v":"00:00:00"},null,null,null,{"$f":"Anmeldung!$L$20","v":0},{"$f":"Anmeldung!$L$21","v":0},null,{"$f":"Anmeldung!$L$19","v":"00:00:00"},null,null,null,{"$f":"Anmeldung!$L$20","v":0},{"$f":"Anmeldung!$L$21","v":0}]

{"sheet":"Einzel 1-20","index":3,"n_rows":280,"n_cols":17,"rows_kept":280,"cut":false,"hidden":false,"merged":[[279,4,279,6],[279,13,279,15],[274,1,274,7],[274,10,274,16],[276,0,276,7],[276,9,276,16],[27,4,27,6],[27,13,27,15],[55,4,55,6],[55,13,55,15],[83,4,83,6],[83,13,83,15],[111,4,111,6],[111,13,111,15],[139,4,139,6],[139,13,139,15],[167,4,167,6],[167,13,167,15],[270,1,270,2],[270,10,270,11],[271,1,271,2],[271,10,271,11],[272,1,272,2],[272,10,272,11],[267,1,267,2],[267,10,267,11],[268,1,268,2],[268,10,268,11],[269,1,269,2],[269,10,269,11],[264,1,264,2],[264,10,264,11],[265,1,265,2],[265,10,265,11],[266,1,266,2],[266,10,266,11],[261,0,261,2],[261,9,261,11],[262,1,262,2],[262,10,262,11],[263,1,263,2],[263,10,263,11],[258,2,258,5],[258,6,258,7],[258,11,258,14],[258,15,258,16],[259,2,259,5],[259,11,259,14],[254,2,254,5],[254,6,256,7],[254,11,254,14],[254,15,256,16],[255,2,255,5],[255,11,255,14],[256,2,256,5],[256,11,256,14],[246,1,246,7],[246,10,246,16],[248,0,248,7],[248,9,248,16],[253,0,253,1],[253,2,253,6],[253,9,253,10],[253,11,253,15],[251,4,251,6],[251,13,251,15],[242,1,242,2],[242,10,242,11],[243,1,243,2],[243,10,243,11],[244,1,244,2],[244,10,244,11],[239,1,239,2],[239,10,239,11],[240,1,240,2],[240,10,240,11],[241,1,241,2],[241,10,241,11],[236,1,236,2],[236,10,236,11],[237,1,237,2],[237,10,237,11],[238,1,238,2],[238,10,238,11],[233,0,233,2],[233,9,233,11],[234,1,234,2],[234,10,234,11],[235,1,235,2],[235,10,235,11],[230,2,230,5],[230,6,230,7],[230,11,230,14],[230,15,230,16],[231,2,231,5],[231,11,231,14],[226,2,226,5],[226,6,228,7],[226,11,226,14],[226,15,228,16],[227,2,227,5],[227,11,227,14],[228,2,228,5],[228,11,228,14],[218,1,218,7],[218,10,218,16],[225,0,225,1],[225,2,225,6],[225,9,225,10],[225,11,225,15],[220,0,220,7],[220,9,220,16],[223,4,223,6],[223,13,223,15],[214,1,214,2],[214,10,214,11],[215,1,215,2],[215,10,215,11],[216,1,216,2],[216,10,216,11],[211,1,211,2],[211,10,211,11],[212,1,212,2],[212,10,212,11],[213,1,213,2],[213,10,213,11],[208,1,208,2],[208,10,208,11],[209,1,209,2],[209,10,209,11],[210,1,210,2],[210,10,210,11],[205,0,205,2],[205,9,205,11],[206,1,206,2],[206,10,206,11],[207,1,207,2],[207,10,207,11],[202,2,202,5],[202,6,202,7],[202,11,202,14],[202,15,202,16],[203,2,203,5],[203,11,203,14],[198,2,198,5],[198,6,200,7],[198,11,198,14],[198,15,200,16],[199,2,199,5],[199,11,199,14],[200,2,200,5],[200,11,200,14],[190,1,190,7],[190,10,190,16],[192,0,192,7],[192,9,192,16],[197,0,197,1],[197,2,197,6],[197,9,197,10],[197,11,197,15],[195,4,195,6],[195,13,195,15],[186,1,186,2],[186,10,186,11],[187,1,187,2],[187,10,187,11],[188,1,188,2],[188,10,188,11],[183,1,183,2],[183,10,183,11],[184,1,184,2],[184,10,184,11],[185,1,185,2],[185,10,185,11],[180,1,180,2],[180,10,180,11],[181,1,181,2],[181,10,181,11],[182,1,182,2],[182,10,182,11],[177,0,177,2],[177,9,177,11],[178,1,178,2],[178,10,178,11],[179,1,179,2],[179,10,179,11],[174,2,174,5],[174,6,174,7],[174,11,174,14],[174,15,174,16],[175,2,175,5],[175,11,175,14],[170,2,170,5],[170,6,172,7],[170,11,170,14],[170,15,172,16],[171,2,171,5],[171,11,171,14],[172,2,172,5],[172,11,172,14],[162,1,162,7],[162,10,162,16],[164,0,164,7],[164,9,164,16],[169,0,169,1],[169,2,169,6],[169,9,169,10],[169,11,169,15],[158,1,158,2],[158,10,158,11],[159,1,159,2],[159,10,159,11],[160,1,160,2],[160,10,160,11],[155,1,155,2],[155,10,155,11],[156,1,156,2],[156,10,156,11],[157,1,157,2],[157,10,157,11],[152,1,152,2],[152,10,152,11],[153,1,153,2],[153,10,153,11],[154,1,154,2],[154,10,154,11],[149,0,149,2],[149,9,149,11],[150,1,150,2],[150,10,150,11],[151,1,151,2],[151,10,151,11],[146,2,146,5],[146,6,146,7],[146,11,146,14],[146,15,146,16],[147,2,147,5],[147,11,147,14],[142,2,142,5],[142,6,144,7],[142,11,142,14],[142,15,144,16],[143,2,143,5],[143,11,143,14],[144,2,144,5],[144,11,144,14],[134,1,134,7],[134,10,134,16],[136,0,136,7],[136,9,136,16],[141,0,141,1],[141,2,141,6],[141,9,141,10],[141,11,141,15],[130,1,130,2],[130,10,130,11],[131,1,131,2],[131,10,131,11],[132,1,132,2],[132,10,132,11],[127,1,127,2],[127,10,127,11],[128,1,128,2],[128,10,128,11],[129,1,129,2],[129,10,129,11],[124,1,124,2],[124,10,124,11],[125,1,125,2],[125,10,125,11],[126,1,126,2],[126,10,126,11],[121,0,121,2],[121,9,121,11],[122,1,122,2],[122,10,122,11],[123,1,123,2],[123,10,123,11],[118,2,118,5],[118,6,118,7],[118,11,118,14],[118,15,118,16],[119,2,119,5],[119,11,119,14],[114,2,114,5],[114,6,116,7],[114,11,114,14],[114,15,116,16],[115,2,115,5],[115,11,115,14],[116,2,116,5],[116,11,116,14],[106,1,106,7],[106,10,106,16],[108,0,108,7],[108,9,108,16],[113,0,113,1],[113,2,113,6],[113,9,113,10],[113,11,113,15],[102,1,102,2],[102,10,102,11],[103,1,103,2],[103,10,103,11],[104,1,104,2],[104,10,104,11],[99,1,99,2],[99,10,99,11],[100,1,100,2],[100,10,100,11],[101,1,101,2],[101,10,101,11],[96,1,96,2],[96,10,96,11],[97,1,97,2],[97,10,97,11],[98,1,98,2],[98,10,98,11],[93,0,93,2],[93,9,93,11],[94,1,94,2],[94,10,94,11],[95,1,95,2],[95,10,95,11],[90,2,90,5],[90,6,90,7],[90,11,90,14],[90,15,90,16],[91,2,91,5],[91,11,91,14],[86,2,86,5],[86,6,88,7],[86,11,86,14],[86,15,88,16],[87,2,87,5],[87,11,87,14],[88,2,88,5],[88,11,88,14],[78,1,78,7],[78,10,78,16],[80,0,80,7],[80,9,80,16],[85,0,85,1],[85,2,85,6],[85,9,85,10],[85,11,85,15],[74,1,74,2],[74,10,74,11],[75,1,75,2],[75,10,75,11],[76,1,76,2],[76,10,76,11],[71,1,71,2],[71,10,71,11],[72,1,72,2],[72,10,72,11],[73,1,73,2],[73,10,73,11],[68,1,68,2],[68,10,68,11],[69,1,69,2],[69,10,69,11],[70,1,70,2],[70,10,70,11],[65,0,65,2],[65,9,65,11],[66,1,66,2],[66,10,66,11],[67,1,67,2],[67,10,67,11],[62,2,62,5],[62,6,62,7],[62,11,62,14],[62,15,62,16],[63,2,63,5],[63,11,63,14],[58,2,58,5],[58,6,60,7],[58,11,58,14],[58,15,60,16],[59,2,59,5],[59,11,59,14],[60,2,60,5],[60,11,60,14],[50,1,50,7],[50,10,50,16],[52,0,52,7],[52,9,52,16],[57,0,57,1],[57,2,57,6],[57,9,57,10],[57,11,57,15],[46,1,46,2],[46,10,46,11],[47,1,47,2],[47,10,47,11],[48,1,48,2],[48,10,48,11],[43,1,43,2],[43,10,43,11],[44,1,44,2],[44,10,44,11],[45,1,45,2],[45,10,45,11],[40,1,40,2],[40,10,40,11],[41,1,41,2],[41,10,41,11],[42,1,42,2],[42,10,42,11],[37,0,37,2],[37,9,37,11],[38,1,38,2],[38,10,38,11],[39,1,39,2],[39,10,39,11],[34,2,34,5],[34,6,34,7],[34,11,34,14],[34,15,34,16],[35,2,35,5],[35,11,35,14],[29,0,29,1],[29,2,29,6],[29,9,29,10],[29,11,29,15],[30,2,30,5],[30,6,32,7],[30,11,30,14],[30,15,32,16],[31,2,31,5],[31,11,31,14],[32,2,32,5],[32,11,32,14],[22,1,22,7],[22,10,22,16],[24,0,24,7],[24,9,24,16],[18,1,18,2],[19,1,19,2],[20,1,20,2],[19,10,19,11],[20,10,20,11],[18,10,18,11],[13,10,13,11],[15,1,15,2],[16,1,16,2],[17,1,17,2],[1,0,1,1],[9,0,9,2],[10,1,10,2],[11,1,11,2],[12,1,12,2],[13,1,13,2],[14,1,14,2],[2,2,2,5],[3,2,3,5],[4,2,4,5],[1,2,1,6],[14,10,14,11],[1,11,1,15],[15,10,15,11],[16,10,16,11],[17,10,17,11],[1,9,1,10],[2,15,4,16],[3,11,3,14],[4,11,4,14],[6,11,6,14],[6,15,6,16],[9,9,9,11],[10,10,10,11],[11,10,11,11],[12,10,12,11],[7,2,7,5],[2,6,4,7],[6,6,6,7],[2,11,2,14],[7,11,7,14],[6,2,6,5]]}
["Abnahmekarte für das deutsche Tanzsportabzeichen DTSA",{"$nulls":8},"Abnahmekarte für das deutsche Tanzsportabzeichen DTSA"]
[{"$f":"Anmeldung!$E$7","v":"00:00:00"},null,{"$f":"Anmeldung!$E$8","v":0},{"$nulls":4},{"$f":"\"# \"&Datenerfassung!$H10","v":"# 1"},null,{"$f":"Anmeldung!$E$7","v":"00:00:00"},null,{"$f":"Anmeldung!$E$8","v":0},{"$nulls":4},{"$f":"\"# \"&Datenerfassung!$H11","v":"# 2"}]
["Vorname",null,{"$f":"Datenerfassung!$C10","v":0},null,null,null,"Der/die Bewerber/innen erkennen mit Unterschrift die DTSA-Verleihungsbedingungen an. \n",null,null,"Vorname",null,{"$f":"Datenerfassung!$C11","v":0},null,null,null,"Der/die Bewerber/innen erkennen mit Unterschrift die DTSA-Verleihungsbedingungen an. \n"]
["Nachname",null,{"$f":"Datenerfassung!$D10","v":0},{"$nulls":6},"Nachname",null,{"$f":"Datenerfassung!$D11","v":0}]
["Verein/Schule",null,{"$f":"Datenerfassung!$G10","v":"00:00:00"},{"$nulls":6},"Verein/Schule",null,{"$f":"Datenerfassung!$G11","v":"00:00:00"}]
[]
["Medaille",null,{"$f":"Datenerfassung!$B10","v":0},{"$nulls":6},"Medaille",null,{"$f":"Datenerfassung!$B11","v":0}]
[{"$nulls":6},"Anerkennung der Bedingungen durch Unterschrift",{"$nulls":8},"Anerkennung der Bedingungen durch Unterschrift"]
[]
[" Tanz bitte eintragen/ankreuzen",null,null,"Musik","Balancen","Bewegg.-\nAblauf","X =\nbestanden","spezielle Bemerkungen (Lob/Hinweis/Kritik)\nder/des Abnehmer/in",null," Tanz bitte eintragen/ankreuzen",null,null,"Musik","Balancen","Bewegg.-\nAblauf","X =\nbestanden","spezielle Bemerkungen (Lob/Hinweis/Kritik)\nder/des Abnehmer/in"]
[null,{"$f":"Datenerfassung!$AE10","v":"Langsamer Walzer"},{"$nulls":8},{"$f":"Datenerfassung!$AE11","v":"Langsamer Walzer"}]
[null,{"$f":"Datenerfassung!$AF10","v":"Tango"},{"$nulls":8},{"$f":"Datenerfassung!$AF11","v":"Tango"}]
[null,{"$f":"Datenerfassung!$AG10","v":"Wiener Walzer"},{"$nulls":8},{"$f":"Datenerfassung!$AG11","v":"Wiener Walzer"}]
[null,{"$f":"Datenerfassung!$AH10","v":"Slowfox"},{"$nulls":8},{"$f":"Datenerfassung!$AH11","v":"Slowfox"}]
[null,{"$f":"Datenerfassung!$AI10","v":"Quickstep"},{"$nulls":8},{"$f":"Datenerfassung!$AI11","v":"Quickstep"}]
[null,{"$f":"Datenerfassung!$AJ10","v":"Samba"},{"$nulls":8},{"$f":"Datenerfassung!$AJ11","v":"Samba"}]
[null,{"$f":"Datenerfassung!$AK10","v":"Chachacha"},{"$nulls":8},{"$f":"Datenerfassung!$AK11","v":"Chachacha"}]
[null,{"$f":"Datenerfassung!$AL10","v":"Rumba"},{"$nulls":8},{"$f":"Datenerfassung!$AL11","v":"Rumba"}]
[null,{"$f":"Datenerfassung!$AM10","v":"Paso Doble"},{"$nulls":8},{"$f":"Datenerfassung!$AM11","v":"Paso Doble"}]
[null,{"$f":"Datenerfassung!$AN10","v":"Jive"},{"$nulls":8},{"$f":"Datenerfassung!$AN11","v":"Jive"}]
[null,{"$f":"Datenerfassung!$AO10","v":"Discofox"},{"$nulls":8},{"$f":"Datenerfassung!$AO11","v":"Discofox"}]
[]
[null,"Gemäß Ausbildungsordnung des DTV wurde eine Leistung für den Lizenzerwerb (10-Tänze-Gold) erbracht.",{"$nulls":8},"Gemäß Ausbildungsordnung des DTV wurde eine Leistung für den Lizenzerwerb (10-Tänze-Gold) erbracht."]
[]
["Unterschriften Abnehmer/innen:",{"$nulls":8},"Unterschriften Abnehmer/innen:"]
[]
[]
[{"$f":"Anmeldung!$L$19","v":"00:00:00"},null,null,null,{"$f":"Anmeldung!$L$20","v":0},null,null,{"$f":"Anmeldung!$L$21","v":0},null,{"$f":"Anmeldung!$L$19","v":"00:00:00"},null,null,null,{"$f":"Anmeldung!$L$20","v":0},null,null,{"$f":"Anmeldung!$L$21","v":0}]
["Abnahmekarte für das deutsche Tanzsportabzeichen DTSA",{"$nulls":8},"Abnahmekarte für das deutsche Tanzsportabzeichen DTSA"]
[{"$f":"Anmeldung!$E$7","v":"00:00:00"},null,{"$f":"Anmeldung!$E$8","v":0},{"$nulls":4},{"$f":"\"# \"&Datenerfassung!$H12","v":"# 3"},null,{"$f":"Anmeldung!$E$7","v":"00:00:00"},null,{"$f":"Anmeldung!$E$8","v":0},{"$nulls":4},{"$f":"\"# \"&Datenerfassung!$H13","v":"# 4"}]
["Vorname",null,{"$f":"Datenerfassung!$C12","v":0},null,null,null,"Der/die Bewerber/innen erkennen mit Unterschrift die DTSA-Verleihungsbedingungen an. \n",null,null,"Vorname",null,{"$f":"Datenerfassung!$C13","v":0},null,null,null,"Der/die Bewerber/innen erkennen mit Unterschrift die DTSA-Verleihungsbedingungen an. \n"]
["Nachname",null,{"$f":"Datenerfassung!$D12","v":0},{"$nulls":6},"Nachname",null,{"$f":"Datenerfassung!$D13","v":0}]
["Verein/Schule",null,{"$f":"Datenerfassung!$G12","v":"00:00:00"},{"$nulls":6},"Verein/Schule",null,{"$f":"Datenerfassung!$G13","v":"00:00:00"}]
[]
["Medaille",null,{"$f":"Datenerfassung!$B12","v":0},{"$nulls":6},"Medaille",null,{"$f":"Datenerfassung!$B13","v":0}]
[{"$nulls":6},"Anerkennung der Bedingungen durch Unterschrift",{"$nulls":8},"Anerkennung der Bedingungen durch Unterschrift"]
[]
[" Tanz bitte eintragen/ankreuzen",null,null,"Musik","Balancen","Bewegg.-\nAblauf","X =\nbestanden","spezielle Bemerkungen (Lob/Hinweis/Kritik)\nder/des Abnehmer/in",null," Tanz bitte eintragen/ankreuzen",null,null,"Musik","Balancen","Bewegg.-\nAblauf","X =\nbestanden","spezielle Bemerkungen (Lob/Hinweis/Kritik)\nder/des Abnehmer/in"]
[null,{"$f":"Datenerfassung!$AE12","v":"Langsamer Walzer"},{"$nulls":8},{"$f":"Datenerfassung!$AE13","v":"Langsamer Walzer"}]
[null,{"$f":"Datenerfassung!$AF12","v":"Tango"},{"$nulls":8},{"$f":"Datenerfassung!$AF13","v":"Tango"}]
[null,{"$f":"Datenerfassung!$AG12","v":"Wiener Walzer"},{"$nulls":8},{"$f":"Datenerfassung!$AG13","v":"Wiener Walzer"}]
[null,{"$f":"Datenerfassung!$AH12","v":"Slowfox"},{"$nulls":8},{"$f":"Datenerfassung!$AH13","v":"Slowfox"}]
[null,{"$f":"Datenerfassung!$AI12","v":"Quickstep"},{"$nulls":8},{"$f":"Datenerfassung!$AI13","v":"Quickstep"}]
[null,{"$f":"Datenerfassung!$AJ12","v":"Samba"},{"$nulls":8},{"$f":"Datenerfassung!$AJ13","v":"Samba"}]
[null,{"$f":"Datenerfassung!$AK12","v":"Chachacha"},{"$nulls":8},{"$f":"Datenerfassung!$AK13","v":"Chachacha"}]
[null,{"$f":"Datenerfassung!$AL12","v":"Rumba"},{"$nulls":8},{"$f":"Datenerfassung!$AL13","v":"Rumba"}]
[null,{"$f":"Datenerfassung!$AM12","v":"Paso Doble"},{"$nulls":8},{"$f":"Datenerfassung!$AM13","v":"Paso Doble"}]
[null,{"$f":"Datenerfassung!$AN12","v":"Jive"},{"$nulls":8},{"$f":"Datenerfassung!$AN13","v":"Jive"}]
[null,{"$f":"Datenerfassung!$AO12","v":"Discofox"},{"$nulls":8},{"$f":"Datenerfassung!$AO13","v":"Discofox"}]
[]
[null,"Gemäß Ausbildungsordnung des DTV wurde eine Leistung für den Lizenzerwerb (10-Tänze-Gold) erbracht.",{"$nulls":8},"Gemäß Ausbildungsordnung des DTV wurde eine Leistung für den Lizenzerwerb (10-Tänze-Gold) erbracht."]
[]
["Unterschriften Abnehmer/innen:",{"$nulls":8},"Unterschriften Abnehmer/innen:"]
[]
[]
[{"$f":"Anmeldung!$L$19","v":"00:00:00"},null,null,null,{"$f":"Anmeldung!$L$20","v":0},null,null,{"$f":"Anmeldung!$L$21","v":0},null,{"$f":"Anmeldung!$L$19","v":"00:00:00"},null,null,null,{"$f":"Anmeldung!$L$20","v":0},null,null,{"$f":"Anmeldung!$L$21","v":0}]
["Abnahmekarte für das deutsche Tanzsportabzeichen DTSA",{"$nulls":8},"Abnahmekarte für das deutsche Tanzsportabzeichen DTSA"]
[{"$f":"Anmeldung!$E$7","v":"00:00:00"},null,{"$f":"Anmeldung!$E$8","v":0},{"$nulls":4},{"$f":"\"# \"&Datenerfassung!$H14","v":"# 5"},null,{"$f":"Anmeldung!$E$7","v":"00:00:00"},null,{"$f":"Anmeldung!$E$8","v":0},{"$nulls":4},{"$f":"\"# \"&Datenerfassung!$H15","v":"# 6"}]
["Vorname",null,{"$f":"Datenerfassung!$C14","v":0},null,null,null,"Der/die Bewerber/innen erkennen mit Unterschrift die DTSA-Verleihungsbedingungen an. \n",null,null,"Vorname",null,{"$f":"Datenerfassung!$C15","v":0},null,null,null,"Der/die Bewerber/innen erkennen mit Unterschrift die DTSA-Verleihungsbedingungen an. \n"]
["Nachname",null,{"$f":"Datenerfassung!$D14","v":0},{"$nulls":6},"Nachname",null,{"$f":"Datenerfassung!$D15","v":0}]
["Verein/Schule",null,{"$f":"Datenerfassung!$G14","v":"00:00:00"},{"$nulls":6},"Verein/Schule",null,{"$f":"Datenerfassung!$G15","v":"00:00:00"}]
[]
["Medaille",null,{"$f":"Datenerfassung!$B14","v":0},{"$nulls":6},"Medaille",null,{"$f":"Datenerfassung!$B15","v":0}]
[{"$nulls":6},"Anerkennung der Bedingungen durch Unterschrift",{"$nulls":8},"Anerkennung der Bedingungen durch Unterschrift"]
[]
[" Tanz bitte eintragen/ankreuzen",null,null,"Musik","Balancen","Bewegg.-\nAblauf","X =\nbestanden","spezielle Bemerkungen (Lob/Hinweis/Kritik)\nder/des Abnehmer/in",null," Tanz bitte eintragen/ankreuzen",null,null,"Musik","Balancen","Bewegg.-\nAblauf","X =\nbestanden","spezielle Bemerkungen (Lob/Hinweis/Kritik)\nder/des Abnehmer/in"]
[null,{"$f":"Datenerfassung!$AE14","v":"Langsamer Walzer"},{"$nulls":8},{"$f":"Datenerfassung!$AE15","v":"Langsamer Walzer"}]
[null,{"$f":"Datenerfassung!$AF14","v":"Tango"},{"$nulls":8},{"$f":"Datenerfassung!$AF15","v":"Tango"}]
[null,{"$f":"Datenerfassung!$AG14","v":"Wiener Walzer"},{"$nulls":8},{"$f":"Datenerfassung!$AG15","v":"Wiener Walzer"}]
[null,{"$f":"Datenerfassung!$AH14","v":"Slowfox"},{"$nulls":8},{"$f":"Datenerfassung!$AH15","v":"Slowfox"}]
[null,{"$f":"Datenerfassung!$AI14","v":"Quickstep"},{"$nulls":8},{"$f":"Datenerfassung!$AI15","v":"Quickstep"}]
[null,{"$f":"Datenerfassung!$AJ14","v":"Samba"},{"$nulls":8},{"$f":"Datenerfassung!$AJ15","v":"Samba"}]
[null,{"$f":"Datenerfassung!$AK14","v":"Chachacha"},{"$nulls":8},{"$f":"Datenerfassung!$AK15","v":"Chachacha"}]
[null,{"$f":"Datenerfassung!$AL14","v":"Rumba"},{"$nulls":8},{"$f":"Datenerfassung!$AL15","v":"Rumba"}]
[null,{"$f":"Datenerfassung!$AM14","v":"Paso Doble"},{"$nulls":8},{"$f":"Datenerfassung!$AM15","v":"Paso Doble"}]
[null,{"$f":"Datenerfassung!$AN14","v":"Jive"},{"$nulls":8},{"$f":"Datenerfassung!$AN15","v":"Jive"}]
[null,{"$f":"Datenerfassung!$AO14","v":"Discofox"},{"$nulls":8},{"$f":"Datenerfassung!$AO15","v":"Discofox"}]
[]
[null,"Gemäß Ausbildungsordnung des DTV wurde eine Leistung für den Lizenzerwerb (10-Tänze-Gold) erbracht.",{"$nulls":8},"Gemäß Ausbildungsordnung des DTV wurde eine Leistung für den Lizenzerwerb (10-Tänze-Gold) erbracht."]
[]
["Unterschriften Abnehmer/innen:",{"$nulls":8},"Unterschriften Abnehmer/innen:"]
[]
[]
[{"$f":"Anmeldung!$L$19","v":"00:00:00"},null,null,null,{"$f":"Anmeldung!$L$20","v":0},null,null,{"$f":"Anmeldung!$L$21","v":0},null,{"$f":"Anmeldung!$L$19","v":"00:00:00"},null,null,null,{"$f":"Anmeldung!$L$20","v":0},null,null,{"$f":"Anmeldung!$L$21","v":0}]
["Abnahmekarte für das deutsche Tanzsportabzeichen DTSA",{"$nulls":8},"Abnahmekarte für das deutsche Tanzsportabzeichen DTSA"]
[{"$f":"Anmeldung!$E$7","v":"00:00:00"},null,{"$f":"Anmeldung!$E$8","v":0},{"$nulls":4},{"$f":"\"# \"&Datenerfassung!$H16","v":"# 7"},null,{"$f":"Anmeldung!$E$7","v":"00:00:00"},null,{"$f":"Anmeldung!$E$8","v":0},{"$nulls":4},{"$f":"\"# \"&Datenerfassung!$H17","v":"# 8"}]
["Vorname",null,{"$f":"Datenerfassung!$C16","v":0},null,null,null,"Der/die Bewerber/innen erkennen mit Unterschrift die DTSA-Verleihungsbedingungen an. \n",null,null,"Vorname",null,{"$f":"Datenerfassung!$C17","v":0},null,null,null,"Der/die Bewerber/innen erkennen mit Unterschrift die DTSA-Verleihungsbedingungen an. \n"]
["Nachname",null,{"$f":"Datenerfassung!$D16","v":0},{"$nulls":6},"Nachname",null,{"$f":"Datenerfassung!$D17","v":0}]
["Verein/Schule",null,{"$f":"Datenerfassung!$G16","v":"00:00:00"},{"$nulls":6},"Verein/Schule",null,{"$f":"Datenerfassung!$G17","v":"00:00:00"}]
[]
["Medaille",null,{"$f":"Datenerfassung!$B16","v":0},{"$nulls":6},"Medaille",null,{"$f":"Datenerfassung!$B17","v":0}]
[{"$nulls":6},"Anerkennung der Bedingungen durch Unterschrift",{"$nulls":8},"Anerkennung der Bedingungen durch Unterschrift"]
[]
[" Tanz bitte eintragen/ankreuzen",null,null,"Musik","Balancen","Bewegg.-\nAblauf","X =\nbestanden","spezielle Bemerkungen (Lob/Hinweis/Kritik)\nder/des Abnehmer/in",null," Tanz bitte eintragen/ankreuzen",null,null,"Musik","Balancen","Bewegg.-\nAblauf","X =\nbestanden","spezielle Bemerkungen (Lob/Hinweis/Kritik)\nder/des Abnehmer/in"]
[null,{"$f":"Datenerfassung!$AE16","v":"Langsamer Walzer"},{"$nulls":8},{"$f":"Datenerfassung!$AE17","v":"Langsamer Walzer"}]
[null,{"$f":"Datenerfassung!$AF16","v":"Tango"},{"$nulls":8},{"$f":"Datenerfassung!$AF17","v":"Tango"}]
[null,{"$f":"Datenerfassung!$AG16","v":"Wiener Walzer"},{"$nulls":8},{"$f":"Datenerfassung!$AG17","v":"Wiener Walzer"}]
[null,{"$f":"Datenerfassung!$AH16","v":"Slowfox"},{"$nulls":8},{"$f":"Datenerfassung!$AH17","v":"Slowfox"}]
[null,{"$f":"Datenerfassung!$AI16","v":"Quickstep"},{"$nulls":8},{"$f":"Datenerfassung!$AI17","v":"Quickstep"}]
[null,{"$f":"Datenerfassung!$AJ16","v":"Samba"},{"$nulls":8},{"$f":"Datenerfassung!$AJ17","v":"Samba"}]
[null,{"$f":"Datenerfassung!$AK16","v":"Chachacha"},{"$nulls":8},{"$f":"Datenerfassung!$AK17","v":"Chachacha"}]
[null,{"$f":"Datenerfassung!$AL16","v":"Rumba"},{"$nulls":8},{"$f":"Datenerfassung!$AL17","v":"Rumba"}]
[null,{"$f":"Datenerfassung!$AM16","v":"Paso Doble"},{"$nulls":8},{"$f":"Datenerfassung!$AM17","v":"Paso Doble"}]
[null,{"$f":"Datenerfassung!$AN16","v":"Jive"},{"$nulls":8},{"$f":"Datenerfassung!$AN17","v":"Jive"}]
[null,{"$f":"Datenerfassung!$AO16","v":"Discofox"},{"$nulls":8},{"$f":"Datenerfassung!$AO17","v":"Discofox"}]
[]
[null,"Gemäß Ausbildungsordnung des DTV wurde eine Leistung für den Lizenzerwerb (10-Tänze-Gold) erbracht.",{"$nulls":8},"Gemäß Ausbildungsordnung des DTV wurde eine Leistung für den Lizenzerwerb (10-Tänze-Gold) erbracht."]
[]
["Unterschriften Abnehmer/innen:",{"$nulls":8},"Unterschriften Abnehmer/innen:"]
[]
[]
[{"$f":"Anmeldung!$L$19","v":"00:00:00"},null,null,null,{"$f":"Anmeldung!$L$20","v":0},null,null,{"$f":"Anmeldung!$L$21","v":0},null,{"$f":"Anmeldung!$L$19","v":"00:00:00"},null,null,null,{"$f":"Anmeldung!$L$20","v":0},null,null,{"$f":"Anmeldung!$L$21","v":0}]
["Abnahmekarte für das deutsche Tanzsportabzeichen DTSA",{"$nulls":8},"Abnahmekarte für das deutsche Tanzsportabzeichen DTSA"]
[{"$f":"Anmeldung!$E$7","v":"00:00:00"},null,{"$f":"Anmeldung!$E$8","v":0},{"$nulls":4},{"$f":"\"# \"&Datenerfassung!$H18","v":"# 9"},null,{"$f":"Anmeldung!$E$7","v":"00:00:00"},null,{"$f":"Anmeldung!$E$8","v":0},{"$nulls":4},{"$f":"\"# \"&Datenerfassung!$H19","v":"# 10"}]
["Vorname",null,{"$f":"Datenerfassung!$C18","v":0},null,null,null,"Der/die Bewerber/innen erkennen mit Unterschrift die DTSA-Verleihungsbedingungen an. \n",null,null,"Vorname",null,{"$f":"Datenerfassung!$C19","v":0},null,null,null,"Der/die Bewerber/innen erkennen mit Unterschrift die DTSA-Verleihungsbedingungen an. \n"]
["Nachname",null,{"$f":"Datenerfassung!$D18","v":0},{"$nulls":6},"Nachname",null,{"$f":"Datenerfassung!$D19","v":0}]
["Verein/Schule",null,{"$f":"Datenerfassung!$G18","v":"00:00:00"},{"$nulls":6},"Verein/Schule",null,{"$f":"Datenerfassung!$G19","v":"00:00:00"}]
[]
["Medaille",null,{"$f":"Datenerfassung!$B18","v":0},{"$nulls":6},"Medaille",null,{"$f":"Datenerfassung!$B19","v":0}]
[{"$nulls":6},"Anerkennung der Bedingungen durch Unterschrift",{"$nulls":8},"Anerkennung der Bedingungen durch Unterschrift"]
[]
[" Tanz bitte eintragen/ankreuzen",null,null,"Musik","Balancen","Bewegg.-\nAblauf","X =\nbestanden","spezielle Bemerkungen (Lob/Hinweis/Kritik)\nder/des Abnehmer/in",null," Tanz bitte eintragen/ankreuzen",null,null,"Musik","Balancen","Bewegg.-\nAblauf","X =\nbestanden","spezielle Bemerkungen (Lob/Hinweis/Kritik)\nder/des Abnehmer/in"]
[null,{"$f":"Datenerfassung!$AE18","v":"Langsamer Walzer"},{"$nulls":8},{"$f":"Datenerfassung!$AE19","v":"Langsamer Walzer"}]
[null,{"$f":"Datenerfassung!$AF18","v":"Tango"},{"$nulls":8},{"$f":"Datenerfassung!$AF19","v":"Tango"}]
[null,{"$f":"Datenerfassung!$AG18","v":"Wiener Walzer"},{"$nulls":8},{"$f":"Datenerfassung!$AG19","v":"Wiener Walzer"}]
[null,{"$f":"Datenerfassung!$AH18","v":"Slowfox"},{"$nulls":8},{"$f":"Datenerfassung!$AH19","v":"Slowfox"}]
[null,{"$f":"Datenerfassung!$AI18","v":"Quickstep"},{"$nulls":8},{"$f":"Datenerfassung!$AI19","v":"Quickstep"}]
[null,{"$f":"Datenerfassung!$AJ18","v":"Samba"},{"$nulls":8},{"$f":"Datenerfassung!$AJ19","v":"Samba"}]
[null,{"$f":"Datenerfassung!$AK18","v":"Chachacha"},{"$nulls":8},{"$f":"Datenerfassung!$AK19","v":"Chachacha"}]
[null,{"$f":"Datenerfassung!$AL18","v":"Rumba"},{"$nulls":8},{"$f":"Datenerfassung!$AL19","v":"Rumba"}]
[null,{"$f":"Datenerfassung!$AM18","v":"Paso Doble"},{"$nulls":8},{"$f":"Datenerfassung!$AM19","v":"Paso Doble"}]
[null,{"$f":"Datenerfassung!$AN18","v":"Jive"},{"$nulls":8},{"$f":"Datenerfassung!$AN19","v":"Jive"}]
[null,{"$f":"Datenerfassung!$AO18","v":"Discofox"},{"$nulls":8},{"$f":"Datenerfassung!$AO19","v":"Discofox"}]
[]
[null,"Gemäß Ausbildungsordnung des DTV wurde eine Leistung für den Lizenzerwerb (10-Tänze-Gold) erbracht.",{"$nulls":8},"Gemäß Ausbildungsordnung des DTV wurde eine Leistung für den Lizenzerwerb (10-Tänze-Gold) erbracht."]
[]
["Unterschriften Abnehmer/innen:",{"$nulls":8},"Unterschriften Abnehmer/innen:"]
[]
[]
[{"$f":"Anmeldung!$L$19","v":"00:00:00"},null,null,null,{"$f":"Anmeldung!$L$20","v":0},null,null,{"$f":"Anmeldung!$L$21","v":0},null,{"$f":"Anmeldung!$L$19","v":"00:00:00"},null,null,null,{"$f":"Anmeldung!$L$20","v":0},null,null,{"$f":"Anmeldung!$L$21","v":0}]
["Abnahmekarte für das deutsche Tanzsportabzeichen DTSA",{"$nulls":8},"Abnahmekarte für das deutsche Tanzsportabzeichen DTSA"]
[{"$f":"Anmeldung!$E$7","v":"00:00:00"},null,{"$f":"Anmeldung!$E$8","v":0},{"$nulls":4},{"$f":"\"# \"&Datenerfassung!$H20","v":"# 11"},null,{"$f":"Anmeldung!$E$7","v":"00:00:00"},null,{"$f":"Anmeldung!$E$8","v":0},{"$nulls":4},{"$f":"\"# \"&Datenerfassung!$H21","v":"# 12"}]
["Vorname",null,{"$f":"Datenerfassung!$C20","v":0},null,null,null,"Der/die Bewerber/innen erkennen mit Unterschrift die DTSA-Verleihungsbedingungen an. \n",null,null,"Vorname",null,{"$f":"Datenerfassung!$C21","v":0},null,null,null,"Der/die Bewerber/innen erkennen mit Unterschrift die DTSA-Verleihungsbedingungen an. \n"]
["Nachname",null,{"$f":"Datenerfassung!$D20","v":0},{"$nulls":6},"Nachname",null,{"$f":"Datenerfassung!$D21","v":0}]
["Verein/Schule",null,{"$f":"Datenerfassung!$G20","v":"00:00:00"},{"$nulls":6},"Verein/Schule",null,{"$f":"Datenerfassung!$G21","v":"00:00:00"}]
[]
["Medaille",null,{"$f":"Datenerfassung!$B20","v":0},{"$nulls":6},"Medaille",null,{"$f":"Datenerfassung!$B21","v":0}]
[{"$nulls":6},"Anerkennung der Bedingungen durch Unterschrift",{"$nulls":8},"Anerkennung der Bedingungen durch Unterschrift"]
[]
[" Tanz bitte eintragen/ankreuzen",null,null,"Musik","Balancen","Bewegg.-\nAblauf","X =\nbestanden","spezielle Bemerkungen (Lob/Hinweis/Kritik)\nder/des Abnehmer/in",null," Tanz bitte eintragen/ankreuzen",null,null,"Musik","Balancen","Bewegg.-\nAblauf","X =\nbestanden","spezielle Bemerkungen (Lob/Hinweis/Kritik)\nder/des Abnehmer/in"]
[null,{"$f":"Datenerfassung!$AE20","v":"Langsamer Walzer"},{"$nulls":8},{"$f":"Datenerfassung!$AE21","v":"Langsamer Walzer"}]
[null,{"$f":"Datenerfassung!$AF20","v":"Tango"},{"$nulls":8},{"$f":"Datenerfassung!$AF21","v":"Tango"}]
[null,{"$f":"Datenerfassung!$AG20","v":"Wiener Walzer"},{"$nulls":8},{"$f":"Datenerfassung!$AG21","v":"Wiener Walzer"}]
[null,{"$f":"Datenerfassung!$AH20","v":"Slowfox"},{"$nulls":8},{"$f":"Datenerfassung!$AH21","v":"Slowfox"}]
[null,{"$f":"Datenerfassung!$AI20","v":"Quickstep"},{"$nulls":8},{"$f":"Datenerfassung!$AI21","v":"Quickstep"}]
[null,{"$f":"Datenerfassung!$AJ20","v":"Samba"},{"$nulls":8},{"$f":"Datenerfassung!$AJ21","v":"Samba"}]
[null,{"$f":"Datenerfassung!$AK20","v":"Chachacha"},{"$nulls":8},{"$f":"Datenerfassung!$AK21","v":"Chachacha"}]
[null,{"$f":"Datenerfassung!$AL20","v":"Rumba"},{"$nulls":8},{"$f":"Datenerfassung!$AL21","v":"Rumba"}]
[null,{"$f":"Datenerfassung!$AM20","v":"Paso Doble"},{"$nulls":8},{"$f":"Datenerfassung!$AM21","v":"Paso Doble"}]
[null,{"$f":"Datenerfassung!$AN20","v":"Jive"},{"$nulls":8},{"$f":"Datenerfassung!$AN21","v":"Jive"}]
[null,{"$f":"Datenerfassung!$AO20","v":"Discofox"},{"$nulls":8},{"$f":"Datenerfassung!$AO21","v":"Discofox"}]
[]
[null,"Gemäß Ausbildungsordnung des DTV wurde eine Leistung für den Lizenzerwerb (10-Tänze-Gold) erbracht.",{"$nulls":8},"Gemäß Ausbildungsordnung des DTV wurde eine Leistung für den Lizenzerwerb (10-Tänze-Gold) erbracht."]
[]
["Unterschriften Abnehmer/innen:",{"$nulls":8},"Unterschriften Abnehmer/innen:"]
[]
[]
[{"$f":"Anmeldung!$L$19","v":"00:00:00"},null,null,null,{"$f":"Anmeldung!$L$20","v":0},null,null,{"$f":"Anmeldung!$L$21","v":0},null,{"$f":"Anmeldung!$L$19","v":"00:00:00"},null,null,null,{"$f":"Anmeldung!$L$20","v":0},null,null,{"$f":"Anmeldung!$L$21","v":0}]
["Abnahmekarte für das deutsche Tanzsportabzeichen DTSA",{"$nulls":8},"Abnahmekarte für das deutsche Tanzsportabzeichen DTSA"]
[{"$f":"Anmeldung!$E$7","v":"00:00:00"},null,{"$f":"Anmeldung!$E$8","v":0},{"$nulls":4},{"$f":"\"# \"&Datenerfassung!$H22","v":"# 13"},null,{"$f":"Anmeldung!$E$7","v":"00:00:00"},null,{"$f":"Anmeldung!$E$8","v":0},{"$nulls":4},{"$f":"\"# \"&Datenerfassung!$H23","v":"# 14"}]
["Vorname",null,{"$f":"Datenerfassung!$C22","v":0},null,null,null,"Der/die Bewerber/innen erkennen mit Unterschrift die DTSA-Verleihungsbedingungen an. \n",null,null,"Vorname",null,{"$f":"Datenerfassung!$C23","v":0},null,null,null,"Der/die Bewerber/innen erkennen mit Unterschrift die DTSA-Verleihungsbedingungen an. \n"]
["Nachname",null,{"$f":"Datenerfassung!$D22","v":0},{"$nulls":6},"Nachname",null,{"$f":"Datenerfassung!$D23","v":0}]
["Verein/Schule",null,{"$f":"Datenerfassung!$G22","v":"00:00:00"},{"$nulls":6},"Verein/Schule",null,{"$f":"Datenerfassung!$G23","v":"00:00:00"}]
[]
["Medaille",null,{"$f":"Datenerfassung!$B22","v":0},{"$nulls":6},"Medaille",null,{"$f":"Datenerfassung!$B23","v":0}]
[{"$nulls":6},"Anerkennung der Bedingungen durch Unterschrift",{"$nulls":8},"Anerkennung der Bedingungen durch Unterschrift"]
[]
[" Tanz bitte eintragen/ankreuzen",null,null,"Musik","Balancen","Bewegg.-\nAblauf","X =\nbestanden","spezielle Bemerkungen (Lob/Hinweis/Kritik)\nder/des Abnehmer/in",null," Tanz bitte eintragen/ankreuzen",null,null,"Musik","Balancen","Bewegg.-\nAblauf","X =\nbestanden","spezielle Bemerkungen (Lob/Hinweis/Kritik)\nder/des Abnehmer/in"]
[null,{"$f":"Datenerfassung!$AE22","v":"Langsamer Walzer"},{"$nulls":8},{"$f":"Datenerfassung!$AE23","v":"Langsamer Walzer"}]
[null,{"$f":"Datenerfassung!$AF22","v":"Tango"},{"$nulls":8},{"$f":"Datenerfassung!$AF23","v":"Tango"}]
[null,{"$f":"Datenerfassung!$AG22","v":"Wiener Walzer"},{"$nulls":8},{"$f":"Datenerfassung!$AG23","v":"Wiener Walzer"}]
[null,{"$f":"Datenerfassung!$AH22","v":"Slowfox"},{"$nulls":8},{"$f":"Datenerfassung!$AH23","v":"Slowfox"}]
[null,{"$f":"Datenerfassung!$AI22","v":"Quickstep"},{"$nulls":8},{"$f":"Datenerfassung!$AI23","v":"Quickstep"}]
[null,{"$f":"Datenerfassung!$AJ22","v":"Samba"},{"$nulls":8},{"$f":"Datenerfassung!$AJ23","v":"Samba"}]
[null,{"$f":"Datenerfassung!$AK22","v":"Chachacha"},{"$nulls":8},{"$f":"Datenerfassung!$AK23","v":"Chachacha"}]
[null,{"$f":"Datenerfassung!$AL22","v":"Rumba"},{"$nulls":8},{"$f":"Datenerfassung!$AL23","v":"Rumba"}]
[null,{"$f":"Datenerfassung!$AM22","v":"Paso Doble"},{"$nulls":8},{"$f":"Datenerfassung!$AM23","v":"Paso Doble"}]
[null,{"$f":"Datenerfassung!$AN22","v":"Jive"},{"$nulls":8},{"$f":"Datenerfassung!$AN23","v":"Jive"}]
[null,{"$f":"Datenerfassung!$AO22","v":"Discofox"},{"$nulls":8},{"$f":"Datenerfassung!$AO23","v":"Discofox"}]
[]
[null,"Gemäß Ausbildungsordnung des DTV wurde eine Leistung für den Lizenzerwerb (10-Tänze-Gold) erbracht.",{"$nulls":8},"Gemäß Ausbildungsordnung des DTV wurde eine Leistung für den Lizenzerwerb (10-Tänze-Gold) erbracht."]
[]
["Unterschriften Abnehmer/innen:",{"$nulls":8},"Unterschriften Abnehmer/innen:"]
[]
[]
[{"$f":"Anmeldung!$L$19","v":"00:00:00"},null,null,null,{"$f":"Anmeldung!$L$20","v":0},null,null,{"$f":"Anmeldung!$L$21","v":0},null,{"$f":"Anmeldung!$L$19","v":"00:00:00"},null,null,null,{"$f":"Anmeldung!$L$20","v":0},null,null,{"$f":"Anmeldung!$L$21","v":0}]
["Abnahmekarte für das deutsche Tanzsportabzeichen DTSA",{"$nulls":8},"Abnahmekarte für das deutsche Tanzsportabzeichen DTSA"]
[{"$f":"Anmeldung!$E$7","v":"00:00:00"},null,{"$f":"Anmeldung!$E$8","v":0},{"$nulls":4},{"$f":"\"# \"&Datenerfassung!$H24","v":"# 15"},null,{"$f":"Anmeldung!$E$7","v":"00:00:00"},null,{"$f":"Anmeldung!$E$8","v":0},{"$nulls":4},{"$f":"\"# \"&Datenerfassung!$H25","v":"# 16"}]
["Vorname",null,{"$f":"Datenerfassung!$C24","v":0},null,null,null,"Der/die Bewerber/innen erkennen mit Unterschrift die DTSA-Verleihungsbedingungen an. \n",null,null,"Vorname",null,{"$f":"Datenerfassung!$C25","v":0},null,null,null,"Der/die Bewerber/innen erkennen mit Unterschrift die DTSA-Verleihungsbedingungen an. \n"]
["Nachname",null,{"$f":"Datenerfassung!$D24","v":0},{"$nulls":6},"Nachname",null,{"$f":"Datenerfassung!$D25","v":0}]
["Verein/Schule",null,{"$f":"Datenerfassung!$G24","v":"00:00:00"},{"$nulls":6},"Verein/Schule",null,{"$f":"Datenerfassung!$G25","v":"00:00:00"}]
[]
["Medaille",null,{"$f":"Datenerfassung!$B24","v":0},{"$nulls":6},"Medaille",null,{"$f":"Datenerfassung!$B25","v":0}]
[{"$nulls":6},"Anerkennung der Bedingungen durch Unterschrift",{"$nulls":8},"Anerkennung der Bedingungen durch Unterschrift"]
[]
[" Tanz bitte eintragen/ankreuzen",null,null,"Musik","Balancen","Bewegg.-\nAblauf","X =\nbestanden","spezielle Bemerkungen (Lob/Hinweis/Kritik)\nder/des Abnehmer/in",null," Tanz bitte eintragen/ankreuzen",null,null,"Musik","Balancen","Bewegg.-\nAblauf","X =\nbestanden","spezielle Bemerkungen (Lob/Hinweis/Kritik)\nder/des Abnehmer/in"]
[null,{"$f":"Datenerfassung!$AE24","v":"Langsamer Walzer"},{"$nulls":8},{"$f":"Datenerfassung!$AE25","v":"Langsamer Walzer"}]
[null,{"$f":"Datenerfassung!$AF24","v":"Tango"},{"$nulls":8},{"$f":"Datenerfassung!$AF25","v":"Tango"}]
[null,{"$f":"Datenerfassung!$AG24","v":"Wiener Walzer"},{"$nulls":8},{"$f":"Datenerfassung!$AG25","v":"Wiener Walzer"}]
[null,{"$f":"Datenerfassung!$AH24","v":"Slowfox"},{"$nulls":8},{"$f":"Datenerfassung!$AH25","v":"Slowfox"}]
[null,{"$f":"Datenerfassung!$AI24","v":"Quickstep"},{"$nulls":8},{"$f":"Datenerfassung!$AI25","v":"Quickstep"}]
[null,{"$f":"Datenerfassung!$AJ24","v":"Samba"},{"$nulls":8},{"$f":"Datenerfassung!$AJ25","v":"Samba"}]
[null,{"$f":"Datenerfassung!$AK24","v":"Chachacha"},{"$nulls":8},{"$f":"Datenerfassung!$AK25","v":"Chachacha"}]
[null,{"$f":"Datenerfassung!$AL24","v":"Rumba"},{"$nulls":8},{"$f":"Datenerfassung!$AL25","v":"Rumba"}]
[null,{"$f":"Datenerfassung!$AM24","v":"Paso Doble"},{"$nulls":8},{"$f":"Datenerfassung!$AM25","v":"Paso Doble"}]
[null,{"$f":"Datenerfassung!$AN24","v":"Jive"},{"$nulls":8},{"$f":"Datenerfassung!$AN25","v":"Jive"}]
[null,{"$f":"Datenerfassung!$AO24","v":"Discofox"},{"$nulls":8},{"$f":"Datenerfassung!$AO25","v":"Discofox"}]
[]
[null,"Gemäß Ausbildungsordnung des DTV wurde eine Leistung für den Lizenzerwerb (10-Tänze-Gold) erbracht.",{"$nulls":8},"Gemäß Ausbildungsordnung des DTV wurde eine Leistung für den Lizenzerwerb (10-Tänze-Gold) erbracht."]
[]
["Unterschriften Abnehmer/innen:",{"$nulls":8},"Unterschriften Abnehmer/innen:"]
[]
[]
[{"$f":"Anmeldung!$L$19","v":"00:00:00"},null,null,null,{"$f":"Anmeldung!$L$20","v":0},null,null,{"$f":"Anmeldung!$L$21","v":0},null,{"$f":"Anmeldung!$L$19","v":"00:00:00"},null,null,null,{"$f":"Anmeldung!$L$20","v":0},null,null,{"$f":"Anmeldung!$L$21","v":0}]
["Abnahmekarte für das deutsche Tanzsportabzeichen DTSA",{"$nulls":8},"Abnahmekarte für das deutsche Tanzsportabzeichen DTSA"]
[{"$f":"Anmeldung!$E$7","v":"00:00:00"},null,{"$f":"Anmeldung!$E$8","v":0},{"$nulls":4},{"$f":"\"# \"&Datenerfassung!$H26","v":"# 17"},null,{"$f":"Anmeldung!$E$7","v":"00:00:00"},null,{"$f":"Anmeldung!$E$8","v":0},{"$nulls":4},{"$f":"\"# \"&Datenerfassung!$H27","v":"# 18"}]
["Vorname",null,{"$f":"Datenerfassung!$C26","v":0},null,null,null,"Der/die Bewerber/innen erkennen mit Unterschrift die DTSA-Verleihungsbedingungen an. \n",null,null,"Vorname",null,{"$f":"Datenerfassung!$C27","v":0},null,null,null,"Der/die Bewerber/innen erkennen mit Unterschrift die DTSA-Verleihungsbedingungen an. \n"]
["Nachname",null,{"$f":"Datenerfassung!$D26","v":0},{"$nulls":6},"Nachname",null,{"$f":"Datenerfassung!$D27","v":0}]
["Verein/Schule",null,{"$f":"Datenerfassung!$G26","v":"00:00:00"},{"$nulls":6},"Verein/Schule",null,{"$f":"Datenerfassung!$G27","v":"00:00:00"}]
[]
["Medaille",null,{"$f":"Datenerfassung!$B26","v":0},{"$nulls":6},"Medaille",null,{"$f":"Datenerfassung!$B27","v":0}]
[{"$nulls":6},"Anerkennung der Bedingungen durch Unterschrift",{"$nulls":8},"Anerkennung der Bedingungen durch Unterschrift"]
[]
[" Tanz bitte eintragen/ankreuzen",null,null,"Musik","Balancen","Bewegg.-\nAblauf","X =\nbestanden","spezielle Bemerkungen (Lob/Hinweis/Kritik)\nder/des Abnehmer/in",null," Tanz bitte eintragen/ankreuzen",null,null,"Musik","Balancen","Bewegg.-\nAblauf","X =\nbestanden","spezielle Bemerkungen (Lob/Hinweis/Kritik)\nder/des Abnehmer/in"]
[null,{"$f":"Datenerfassung!$AE26","v":"Langsamer Walzer"},{"$nulls":8},{"$f":"Datenerfassung!$AE27","v":"Langsamer Walzer"}]
[null,{"$f":"Datenerfassung!$AF26","v":"Tango"},{"$nulls":8},{"$f":"Datenerfassung!$AF27","v":"Tango"}]
[null,{"$f":"Datenerfassung!$AG26","v":"Wiener Walzer"},{"$nulls":8},{"$f":"Datenerfassung!$AG27","v":"Wiener Walzer"}]
[null,{"$f":"Datenerfassung!$AH26","v":"Slowfox"},{"$nulls":8},{"$f":"Datenerfassung!$AH27","v":"Slowfox"}]
[null,{"$f":"Datenerfassung!$AI26","v":"Quickstep"},{"$nulls":8},{"$f":"Datenerfassung!$AI27","v":"Quickstep"}]
[null,{"$f":"Datenerfassung!$AJ26","v":"Samba"},{"$nulls":8},{"$f":"Datenerfassung!$AJ27","v":"Samba"}]
[null,{"$f":"Datenerfassung!$AK26","v":"Chachacha"},{"$nulls":8},{"$f":"Datenerfassung!$AK27","v":"Chachacha"}]
[null,{"$f":"Datenerfassung!$AL26","v":"Rumba"},{"$nulls":8},{"$f":"Datenerfassung!$AL27","v":"Rumba"}]
[null,{"$f":"Datenerfassung!$AM26","v":"Paso Doble"},{"$nulls":8},{"$f":"Datenerfassung!$AM27","v":"Paso Doble"}]
[null,{"$f":"Datenerfassung!$AN26","v":"Jive"},{"$nulls":8},{"$f":"Datenerfassung!$AN27","v":"Jive"}]
[null,{"$f":"Datenerfassung!$AO26","v":"Discofox"},{"$nulls":8},{"$f":"Datenerfassung!$AO27","v":"Discofox"}]
[]
[null,"Gemäß Ausbildungsordnung des DTV wurde eine Leistung für den Lizenzerwerb (10-Tänze-Gold) erbracht.",{"$nulls":8},"Gemäß Ausbildungsordnung des DTV wurde eine Leistung für den Lizenzerwerb (10-Tänze-Gold) erbracht."]
[]
["Unterschriften Abnehmer/innen:",{"$nulls":8},"Unterschriften Abnehmer/innen:"]
[]
[]
[{"$f":"Anmeldung!$L$19","v":"00:00:00"},null,null,null,{"$f":"Anmeldung!$L$20","v":0},null,null,{"$f":"Anmeldung!$L$21","v":0},null,{"$f":"Anmeldung!$L$19","v":"00:00:00"},null,null,null,{"$f":"Anmeldung!$L$20","v":0},null,null,{"$f":"Anmeldung!$L$21","v":0}]
["Abnahmekarte für das deutsche Tanzsportabzeichen DTSA",{"$nulls":8},"Abnahmekarte für das deutsche Tanzsportabzeichen DTSA"]
[{"$f":"Anmeldung!$E$7","v":"00:00:00"},null,{"$f":"Anmeldung!$E$8","v":0},{"$nulls":4},{"$f":"\"# \"&Datenerfassung!$H28","v":"# 19"},null,{"$f":"Anmeldung!$E$7","v":"00:00:00"},null,{"$f":"Anmeldung!$E$8","v":0},{"$nulls":4},{"$f":"\"# \"&Datenerfassung!$H29","v":"# 20"}]
["Vorname",null,{"$f":"Datenerfassung!$C28","v":0},null,null,null,"Der/die Bewerber/innen erkennen mit Unterschrift die DTSA-Verleihungsbedingungen an. \n",null,null,"Vorname",null,{"$f":"Datenerfassung!$C29","v":0},null,null,null,"Der/die Bewerber/innen erkennen mit Unterschrift die DTSA-Verleihungsbedingungen an. \n"]
["Nachname",null,{"$f":"Datenerfassung!$D28","v":0},{"$nulls":6},"Nachname",null,{"$f":"Datenerfassung!$D29","v":0}]
["Verein/Schule",null,{"$f":"Datenerfassung!$G28","v":"00:00:00"},{"$nulls":6},"Verein/Schule",null,{"$f":"Datenerfassung!$G29","v":"00:00:00"}]
[]
["Medaille",null,{"$f":"Datenerfassung!$B28","v":0},{"$nulls":6},"Medaille",null,{"$f":"Datenerfassung!$B29","v":0}]
[{"$nulls":6},"Anerkennung der Bedingungen durch Unterschrift",{"$nulls":8},"Anerkennung der Bedingungen durch Unterschrift"]
[]
[" Tanz bitte eintragen/ankreuzen",null,null,"Musik","Balancen","Bewegg.-\nAblauf","X =\nbestanden","spezielle Bemerkungen (Lob/Hinweis/Kritik)\nder/des Abnehmer/in",null," Tanz bitte eintragen/ankreuzen",null,null,"Musik","Balancen","Bewegg.-\nAblauf","X =\nbestanden","spezielle Bemerkungen (Lob/Hinweis/Kritik)\nder/des Abnehmer/in"]
[null,{"$f":"Datenerfassung!$AE28","v":"Langsamer Walzer"},{"$nulls":8},{"$f":"Datenerfassung!$AE29","v":"Langsamer Walzer"}]
[null,{"$f":"Datenerfassung!$AF28","v":"Tango"},{"$nulls":8},{"$f":"Datenerfassung!$AF29","v":"Tango"}]
[null,{"$f":"Datenerfassung!$AG28","v":"Wiener Walzer"},{"$nulls":8},{"$f":"Datenerfassung!$AG29","v":"Wiener Walzer"}]
[null,{"$f":"Datenerfassung!$AH28","v":"Slowfox"},{"$nulls":8},{"$f":"Datenerfassung!$AH29","v":"Slowfox"}]
[null,{"$f":"Datenerfassung!$AI28","v":"Quickstep"},{"$nulls":8},{"$f":"Datenerfassung!$AI29","v":"Quickstep"}]
[null,{"$f":"Datenerfassung!$AJ28","v":"Samba"},{"$nulls":8},{"$f":"Datenerfassung!$AJ29","v":"Samba"}]
[null,{"$f":"Datenerfassung!$AK28","v":"Chachacha"},{"$nulls":8},{"$f":"Datenerfassung!$AK29","v":"Chachacha"}]
[null,{"$f":"Datenerfassung!$AL28","v":"Rumba"},{"$nulls":8},{"$f":"Datenerfassung!$AL29","v":"Rumba"}]
[null,{"$f":"Datenerfassung!$AM28","v":"Paso Doble"},{"$nulls":8},{"$f":"Datenerfassung!$AM29","v":"Paso Doble"}]
[null,{"$f":"Datenerfassung!$AN28","v":"Jive"},{"$nulls":8},{"$f":"Datenerfassung!$AN29","v":"Jive"}]
[null,{"$f":"Datenerfassung!$AO28","v":"Discofox"},{"$nulls":8},{"$f":"Datenerfassung!$AO29","v":"Discofox"}]
[]
[null,"Gemäß Ausbildungsordnung des DTV wurde eine Leistung für den Lizenzerwerb (10-Tänze-Gold) erbracht.",{"$nulls":8},"Gemäß Ausbildungsordnung des DTV wurde eine Leistung für den Lizenzerwerb (10-Tänze-Gold) erbracht."]
[]
["Unterschriften Abnehmer/innen:",{"$nulls":8},"Unterschriften Abnehmer/innen:"]
[]
[]
[{"$f":"Anmeldung!$L$19","v":"00:00:00"},null,null,null,{"$f":"Anmeldung!$L$20","v":0},null,null,{"$f":"Anmeldung!$L$21","v":0},null,{"$f":"Anmeldung!$L$19","v":"00:00:00"},null,null,null,{"$f":"Anmeldung!$L$20","v":0},null,null,{"$f":"Anmeldung!$L$21","v":0}]

{"sheet":"Einzel 21-40","index":4,"n_rows":280,"n_cols":17,"rows_kept":280,"cut":false,"hidden":false,"merged":[[274,1,274,7],[274,10,274,16],[276,0,276,7],[276,9,276,16],[279,4,279,6],[279,13,279,15],[270,1,270,2],[270,10,270,11],[271,1,271,2],[271,10,271,11],[272,1,272,2],[272,10,272,11],[267,1,267,2],[267,10,267,11],[268,1,268,2],[268,10,268,11],[269,1,269,2],[269,10,269,11],[264,1,264,2],[264,10,264,11],[265,1,265,2],[265,10,265,11],[266,1,266,2],[266,10,266,11],[261,0,261,2],[261,9,261,11],[262,1,262,2],[262,10,262,11],[263,1,263,2],[263,10,263,11],[258,2,258,5],[258,6,258,7],[258,11,258,14],[258,15,258,16],[259,2,259,5],[259,11,259,14],[254,2,254,5],[254,6,256,7],[254,11,254,14],[254,15,256,16],[255,2,255,5],[255,11,255,14],[256,2,256,5],[256,11,256,14],[251,4,251,6],[251,13,251,15],[253,0,253,1],[253,2,253,6],[253,9,253,10],[253,11,253,15],[244,1,244,2],[244,10,244,11],[246,1,246,7],[246,10,246,16],[248,0,248,7],[248,9,248,16],[241,1,241,2],[241,10,241,11],[242,1,242,2],[242,10,242,11],[243,1,243,2],[243,10,243,11],[238,1,238,2],[238,10,238,11],[239,1,239,2],[239,10,239,11],[240,1,240,2],[240,10,240,11],[235,1,235,2],[235,10,235,11],[236,1,236,2],[236,10,236,11],[237,1,237,2],[237,10,237,11],[230,15,230,16],[231,2,231,5],[231,11,231,14],[233,0,233,2],[233,9,233,11],[234,1,234,2],[234,10,234,11],[228,2,228,5],[228,11,228,14],[230,2,230,5],[230,6,230,7],[230,11,230,14],[225,0,225,1],[225,2,225,6],[225,9,225,10],[225,11,225,15],[226,2,226,5],[226,6,228,7],[226,11,226,14],[226,15,228,16],[227,2,227,5],[227,11,227,14],[218,1,218,7],[218,10,218,16],[220,0,220,7],[220,9,220,16],[223,4,223,6],[223,13,223,15],[214,1,214,2],[214,10,214,11],[215,1,215,2],[215,10,215,11],[216,1,216,2],[216,10,216,11],[211,1,211,2],[211,10,211,11],[212,1,212,2],[212,10,212,11],[213,1,213,2],[213,10,213,11],[208,1,208,2],[208,10,208,11],[209,1,209,2],[209,10,209,11],[210,1,210,2],[210,10,210,11],[205,0,205,2],[205,9,205,11],[206,1,206,2],[206,10,206,11],[207,1,207,2],[207,10,207,11],[202,2,202,5],[202,6,202,7],[202,11,202,14],[202,15,202,16],[203,2,203,5],[203,11,203,14],[198,2,198,5],[198,6,200,7],[198,11,198,14],[198,15,200,16],[199,2,199,5],[199,11,199,14],[200,2,200,5],[200,11,200,14],[195,4,195,6],[195,13,195,15],[197,0,197,1],[197,2,197,6],[197,9,197,10],[197,11,197,15],[188,1,188,2],[188,10,188,11],[190,1,190,7],[190,10,190,16],[192,0,192,7],[192,9,192,16],[185,1,185,2],[185,10,185,11],[186,1,186,2],[186,10,186,11],[187,1,187,2],[187,10,187,11],[182,1,182,2],[182,10,182,11],[183,1,183,2],[183,10,183,11],[184,1,184,2],[184,10,184,11],[179,1,179,2],[179,10,179,11],[180,1,180,2],[180,10,180,11],[181,1,181,2],[181,10,181,11],[174,15,174,16],[175,2,175,5],[175,11,175,14],[177,0,177,2],[177,9,177,11],[178,1,178,2],[178,10,178,11],[172,2,172,5],[172,11,172,14],[174,2,174,5],[174,6,174,7],[174,11,174,14],[169,0,169,1],[169,2,169,6],[169,9,169,10],[169,11,169,15],[170,2,170,5],[170,6,172,7],[170,11,170,14],[170,15,172,16],[171,2,171,5],[171,11,171,14],[162,1,162,7],[162,10,162,16],[164,0,164,7],[164,9,164,16],[167,4,167,6],[167,13,167,15],[158,1,158,2],[158,10,158,11],[159,1,159,2],[159,10,159,11],[160,1,160,2],[160,10,160,11],[155,1,155,2],[155,10,155,11],[156,1,156,2],[156,10,156,11],[157,1,157,2],[157,10,157,11],[152,1,152,2],[152,10,152,11],[153,1,153,2],[153,10,153,11],[154,1,154,2],[154,10,154,11],[149,0,149,2],[149,9,149,11],[150,1,150,2],[150,10,150,11],[151,1,151,2],[151,10,151,11],[146,2,146,5],[146,6,146,7],[146,11,146,14],[146,15,146,16],[147,2,147,5],[147,11,147,14],[142,2,142,5],[142,6,144,7],[142,11,142,14],[142,15,144,16],[143,2,143,5],[143,11,143,14],[144,2,144,5],[144,11,144,14],[139,4,139,6],[139,13,139,15],[141,0,141,1],[141,2,141,6],[141,9,141,10],[141,11,141,15],[132,1,132,2],[132,10,132,11],[134,1,134,7],[134,10,134,16],[136,0,136,7],[136,9,136,16],[129,1,129,2],[129,10,129,11],[130,1,130,2],[130,10,130,11],[131,1,131,2],[131,10,131,11],[126,1,126,2],[126,10,126,11],[127,1,127,2],[127,10,127,11],[128,1,128,2],[128,10,128,11],[123,1,123,2],[123,10,123,11],[124,1,124,2],[124,10,124,11],[125,1,125,2],[125,10,125,11],[118,15,118,16],[119,2,119,5],[119,11,119,14],[121,0,121,2],[121,9,121,11],[122,1,122,2],[122,10,122,11],[116,2,116,5],[116,11,116,14],[118,2,118,5],[118,6,118,7],[118,11,118,14],[113,0,113,1],[113,2,113,6],[113,9,113,10],[113,11,113,15],[114,2,114,5],[114,6,116,7],[114,11,114,14],[114,15,116,16],[115,2,115,5],[115,11,115,14],[106,1,106,7],[106,10,106,16],[108,0,108,7],[108,9,108,16],[111,4,111,6],[111,13,111,15],[102,1,102,2],[102,10,102,11],[103,1,103,2],[103,10,103,11],[104,1,104,2],[104,10,104,11],[99,1,99,2],[99,10,99,11],[100,1,100,2],[100,10,100,11],[101,1,101,2],[101,10,101,11],[96,1,96,2],[96,10,96,11],[97,1,97,2],[97,10,97,11],[98,1,98,2],[98,10,98,11],[93,0,93,2],[93,9,93,11],[94,1,94,2],[94,10,94,11],[95,1,95,2],[95,10,95,11],[90,2,90,5],[90,6,90,7],[90,11,90,14],[90,15,90,16],[91,2,91,5],[91,11,91,14],[86,2,86,5],[86,6,88,7],[86,11,86,14],[86,15,88,16],[87,2,87,5],[87,11,87,14],[88,2,88,5],[88,11,88,14],[83,4,83,6],[83,13,83,15],[85,0,85,1],[85,2,85,6],[85,9,85,10],[85,11,85,15],[76,1,76,2],[76,10,76,11],[78,1,78,7],[78,10,78,16],[80,0,80,7],[80,9,80,16],[73,1,73,2],[73,10,73,11],[74,1,74,2],[74,10,74,11],[75,1,75,2],[75,10,75,11],[70,1,70,2],[70,10,70,11],[71,1,71,2],[71,10,71,11],[72,1,72,2],[72,10,72,11],[67,1,67,2],[67,10,67,11],[68,1,68,2],[68,10,68,11],[69,1,69,2],[69,10,69,11],[62,15,62,16],[63,2,63,5],[63,11,63,14],[65,0,65,2],[65,9,65,11],[66,1,66,2],[66,10,66,11],[60,2,60,5],[60,11,60,14],[62,2,62,5],[62,6,62,7],[62,11,62,14],[57,0,57,1],[57,2,57,6],[57,9,57,10],[57,11,57,15],[58,2,58,5],[58,6,60,7],[58,11,58,14],[58,15,60,16],[59,2,59,5],[59,11,59,14],[50,1,50,7],[50,10,50,16],[52,0,52,7],[52,9,52,16],[55,4,55,6],[55,13,55,15],[46,1,46,2],[46,10,46,11],[47,1,47,2],[47,10,47,11],[48,1,48,2],[48,10,48,11],[43,1,43,2],[43,10,43,11],[44,1,44,2],[44,10,44,11],[45,1,45,2],[45,10,45,11],[40,1,40,2],[40,10,40,11],[41,1,41,2],[41,10,41,11],[42,1,42,2],[42,10,42,11],[37,0,37,2],[37,9,37,11],[38,1,38,2],[38,10,38,11],[39,1,39,2],[39,10,39,11],[34,2,34,5],[34,6,34,7],[34,11,34,14],[34,15,34,16],[35,2,35,5],[35,11,35,14],[30,2,30,5],[30,6,32,7],[30,11,30,14],[30,15,32,16],[31,2,31,5],[31,11,31,14],[32,2,32,5],[32,11,32,14],[27,4,27,6],[27,13,27,15],[29,0,29,1],[29,2,29,6],[29,9,29,10],[29,11,29,15],[20,1,20,2],[20,10,20,11],[22,1,22,7],[22,10,22,16],[24,0,24,7],[24,9,24,16],[17,1,17,2],[17,10,17,11],[18,1,18,2],[18,10,18,11],[19,1,19,2],[19,10,19,11],[14,1,14,2],[14,10,14,11],[15,1,15,2],[15,10,15,11],[16,1,16,2],[16,10,16,11],[11,1,11,2],[11,10,11,11],[12,1,12,2],[12,10,12,11],[13,1,13,2],[13,10,13,11],[6,15,6,16],[7,2,7,5],[7,11,7,14],[9,0,9,2],[9,9,9,11],[10,1,10,2],[10,10,10,11],[4,2,4,5],[4,11,4,14],[6,2,6,5],[6,6,6,7],[6,11,6,14],[1,0,1,1],[1,2,1,6],[1,9,1,10],[1,11,1,15],[2,2,2,5],[2,6,4,7],[2,11,2,14],[2,15,4,16],[3,2,3,5],[3,11,3,14]]}
["Abnahmekarte für das deutsche Tanzsportabzeichen DTSA",{"$nulls":8},"Abnahmekarte für das deutsche Tanzsportabzeichen DTSA"]
[{"$f":"Anmeldung!$E$7","v":"00:00:00"},null,{"$f":"Anmeldung!$E$8","v":0},{"$nulls":4},{"$f":"\"# \"&Datenerfassung!$H30","v":"# 21"},null,{"$f":"Anmeldung!$E$7","v":"00:00:00"},null,{"$f":"Anmeldung!$E$8","v":0},{"$nulls":4},{"$f":"\"# \"&Datenerfassung!$H31","v":"# 22"}]
["Vorname",null,{"$f":"Datenerfassung!$C30","v":0},null,null,null,"Der/die Bewerber/innen erkennen mit Unterschrift die DTSA-Verleihungsbedingungen an. \n",null,null,"Vorname",null,{"$f":"Datenerfassung!$C31","v":0},null,null,null,"Der/die Bewerber/innen erkennen mit Unterschrift die DTSA-Verleihungsbedingungen an. \n"]
["Nachname",null,{"$f":"Datenerfassung!$D30","v":0},{"$nulls":6},"Nachname",null,{"$f":"Datenerfassung!$D31","v":0}]
["Verein/Schule",null,{"$f":"Datenerfassung!$G30","v":"00:00:00"},{"$nulls":6},"Verein/Schule",null,{"$f":"Datenerfassung!$G31","v":"00:00:00"}]
[]
["Medaille",null,{"$f":"Datenerfassung!$B30","v":0},{"$nulls":6},"Medaille",null,{"$f":"Datenerfassung!$B31","v":0}]
[{"$nulls":6},"Anerkennung der Bedingungen durch Unterschrift",{"$nulls":8},"Anerkennung der Bedingungen durch Unterschrift"]
[]
[" Tanz bitte eintragen/ankreuzen",null,null,"Musik","Balancen","Bewegg.-\nAblauf","X =\nbestanden","spezielle Bemerkungen (Lob/Hinweis/Kritik)\nder/des Abnehmer/in",null," Tanz bitte eintragen/ankreuzen",null,null,"Musik","Balancen","Bewegg.-\nAblauf","X =\nbestanden","spezielle Bemerkungen (Lob/Hinweis/Kritik)\nder/des Abnehmer/in"]
[null,{"$f":"Datenerfassung!$AE30","v":"Langsamer Walzer"},{"$nulls":8},{"$f":"Datenerfassung!$AE31","v":"Langsamer Walzer"}]
[null,{"$f":"Datenerfassung!$AF30","v":"Tango"},{"$nulls":8},{"$f":"Datenerfassung!$AF31","v":"Tango"}]
[null,{"$f":"Datenerfassung!$AG30","v":"Wiener Walzer"},{"$nulls":8},{"$f":"Datenerfassung!$AG31","v":"Wiener Walzer"}]
[null,{"$f":"Datenerfassung!$AH30","v":"Slowfox"},{"$nulls":8},{"$f":"Datenerfassung!$AH31","v":"Slowfox"}]
[null,{"$f":"Datenerfassung!$AI30","v":"Quickstep"},{"$nulls":8},{"$f":"Datenerfassung!$AI31","v":"Quickstep"}]
[null,{"$f":"Datenerfassung!$AJ30","v":"Samba"},{"$nulls":8},{"$f":"Datenerfassung!$AJ31","v":"Samba"}]
[null,{"$f":"Datenerfassung!$AK30","v":"Chachacha"},{"$nulls":8},{"$f":"Datenerfassung!$AK31","v":"Chachacha"}]
[null,{"$f":"Datenerfassung!$AL30","v":"Rumba"},{"$nulls":8},{"$f":"Datenerfassung!$AL31","v":"Rumba"}]
[null,{"$f":"Datenerfassung!$AM30","v":"Paso Doble"},{"$nulls":8},{"$f":"Datenerfassung!$AM31","v":"Paso Doble"}]
[null,{"$f":"Datenerfassung!$AN30","v":"Jive"},{"$nulls":8},{"$f":"Datenerfassung!$AN31","v":"Jive"}]
[null,{"$f":"Datenerfassung!$AO30","v":"Discofox"},{"$nulls":8},{"$f":"Datenerfassung!$AO31","v":"Discofox"}]
[]
[null,"Gemäß Ausbildungsordnung des DTV wurde eine Leistung für den Lizenzerwerb (10-Tänze-Gold) erbracht.",{"$nulls":8},"Gemäß Ausbildungsordnung des DTV wurde eine Leistung für den Lizenzerwerb (10-Tänze-Gold) erbracht."]
[]
["Unterschriften Abnehmer/innen:",{"$nulls":8},"Unterschriften Abnehmer/innen:"]
[]
[]
[{"$f":"Anmeldung!$L$19","v":"00:00:00"},null,null,null,{"$f":"Anmeldung!$L$20","v":0},null,null,{"$f":"Anmeldung!$L$21","v":0},null,{"$f":"Anmeldung!$L$19","v":"00:00:00"},null,null,null,{"$f":"Anmeldung!$L$20","v":0},null,null,{"$f":"Anmeldung!$L$21","v":0}]
["Abnahmekarte für das deutsche Tanzsportabzeichen DTSA",{"$nulls":8},"Abnahmekarte für das deutsche Tanzsportabzeichen DTSA"]
[{"$f":"Anmeldung!$E$7","v":"00:00:00"},null,{"$f":"Anmeldung!$E$8","v":0},{"$nulls":4},{"$f":"\"# \"&Datenerfassung!$H32","v":"# 23"},null,{"$f":"Anmeldung!$E$7","v":"00:00:00"},null,{"$f":"Anmeldung!$E$8","v":0},{"$nulls":4},{"$f":"\"# \"&Datenerfassung!$H33","v":"# 24"}]
["Vorname",null,{"$f":"Datenerfassung!$C32","v":0},null,null,null,"Der/die Bewerber/innen erkennen mit Unterschrift die DTSA-Verleihungsbedingungen an. \n",null,null,"Vorname",null,{"$f":"Datenerfassung!$C33","v":0},null,null,null,"Der/die Bewerber/innen erkennen mit Unterschrift die DTSA-Verleihungsbedingungen an. \n"]
["Nachname",null,{"$f":"Datenerfassung!$D32","v":0},{"$nulls":6},"Nachname",null,{"$f":"Datenerfassung!$D33","v":0}]
["Verein/Schule",null,{"$f":"Datenerfassung!$G32","v":"00:00:00"},{"$nulls":6},"Verein/Schule",null,{"$f":"Datenerfassung!$G33","v":"00:00:00"}]
[]
["Medaille",null,{"$f":"Datenerfassung!$B32","v":0},{"$nulls":6},"Medaille",null,{"$f":"Datenerfassung!$B33","v":0}]
[{"$nulls":6},"Anerkennung der Bedingungen durch Unterschrift",{"$nulls":8},"Anerkennung der Bedingungen durch Unterschrift"]
[]
[" Tanz bitte eintragen/ankreuzen",null,null,"Musik","Balancen","Bewegg.-\nAblauf","X =\nbestanden","spezielle Bemerkungen (Lob/Hinweis/Kritik)\nder/des Abnehmer/in",null," Tanz bitte eintragen/ankreuzen",null,null,"Musik","Balancen","Bewegg.-\nAblauf","X =\nbestanden","spezielle Bemerkungen (Lob/Hinweis/Kritik)\nder/des Abnehmer/in"]
[null,{"$f":"Datenerfassung!$AE32","v":"Langsamer Walzer"},{"$nulls":8},{"$f":"Datenerfassung!$AE33","v":"Langsamer Walzer"}]
[null,{"$f":"Datenerfassung!$AF32","v":"Tango"},{"$nulls":8},{"$f":"Datenerfassung!$AF33","v":"Tango"}]
[null,{"$f":"Datenerfassung!$AG32","v":"Wiener Walzer"},{"$nulls":8},{"$f":"Datenerfassung!$AG33","v":"Wiener Walzer"}]
[null,{"$f":"Datenerfassung!$AH32","v":"Slowfox"},{"$nulls":8},{"$f":"Datenerfassung!$AH33","v":"Slowfox"}]
[null,{"$f":"Datenerfassung!$AI32","v":"Quickstep"},{"$nulls":8},{"$f":"Datenerfassung!$AI33","v":"Quickstep"}]
[null,{"$f":"Datenerfassung!$AJ32","v":"Samba"},{"$nulls":8},{"$f":"Datenerfassung!$AJ33","v":"Samba"}]
[null,{"$f":"Datenerfassung!$AK32","v":"Chachacha"},{"$nulls":8},{"$f":"Datenerfassung!$AK33","v":"Chachacha"}]
[null,{"$f":"Datenerfassung!$AL32","v":"Rumba"},{"$nulls":8},{"$f":"Datenerfassung!$AL33","v":"Rumba"}]
[null,{"$f":"Datenerfassung!$AM32","v":"Paso Doble"},{"$nulls":8},{"$f":"Datenerfassung!$AM33","v":"Paso Doble"}]
[null,{"$f":"Datenerfassung!$AN32","v":"Jive"},{"$nulls":8},{"$f":"Datenerfassung!$AN33","v":"Jive"}]
[null,{"$f":"Datenerfassung!$AO32","v":"Discofox"},{"$nulls":8},{"$f":"Datenerfassung!$AO33","v":"Discofox"}]
[]
[null,"Gemäß Ausbildungsordnung des DTV wurde eine Leistung für den Lizenzerwerb (10-Tänze-Gold) erbracht.",{"$nulls":8},"Gemäß Ausbildungsordnung des DTV wurde eine Leistung für den Lizenzerwerb (10-Tänze-Gold) erbracht."]
[]
["Unterschriften Abnehmer/innen:",{"$nulls":8},"Unterschriften Abnehmer/innen:"]
[]
[]
[{"$f":"Anmeldung!$L$19","v":"00:00:00"},null,null,null,{"$f":"Anmeldung!$L$20","v":0},null,null,{"$f":"Anmeldung!$L$21","v":0},null,{"$f":"Anmeldung!$L$19","v":"00:00:00"},null,null,null,{"$f":"Anmeldung!$L$20","v":0},null,null,{"$f":"Anmeldung!$L$21","v":0}]
["Abnahmekarte für das deutsche Tanzsportabzeichen DTSA",{"$nulls":8},"Abnahmekarte für das deutsche Tanzsportabzeichen DTSA"]
[{"$f":"Anmeldung!$E$7","v":"00:00:00"},null,{"$f":"Anmeldung!$E$8","v":0},{"$nulls":4},{"$f":"\"# \"&Datenerfassung!$H34","v":"# 25"},null,{"$f":"Anmeldung!$E$7","v":"00:00:00"},null,{"$f":"Anmeldung!$E$8","v":0},{"$nulls":4},{"$f":"\"# \"&Datenerfassung!$H35","v":"# 26"}]
["Vorname",null,{"$f":"Datenerfassung!$C34","v":0},null,null,null,"Der/die Bewerber/innen erkennen mit Unterschrift die DTSA-Verleihungsbedingungen an. \n",null,null,"Vorname",null,{"$f":"Datenerfassung!$C35","v":0},null,null,null,"Der/die Bewerber/innen erkennen mit Unterschrift die DTSA-Verleihungsbedingungen an. \n"]
["Nachname",null,{"$f":"Datenerfassung!$D34","v":0},{"$nulls":6},"Nachname",null,{"$f":"Datenerfassung!$D35","v":0}]
["Verein/Schule",null,{"$f":"Datenerfassung!$G34","v":"00:00:00"},{"$nulls":6},"Verein/Schule",null,{"$f":"Datenerfassung!$G35","v":"00:00:00"}]
[]
["Medaille",null,{"$f":"Datenerfassung!$B34","v":0},{"$nulls":6},"Medaille",null,{"$f":"Datenerfassung!$B35","v":0}]
[{"$nulls":6},"Anerkennung der Bedingungen durch Unterschrift",{"$nulls":8},"Anerkennung der Bedingungen durch Unterschrift"]
[]
[" Tanz bitte eintragen/ankreuzen",null,null,"Musik","Balancen","Bewegg.-\nAblauf","X =\nbestanden","spezielle Bemerkungen (Lob/Hinweis/Kritik)\nder/des Abnehmer/in",null," Tanz bitte eintragen/ankreuzen",null,null,"Musik","Balancen","Bewegg.-\nAblauf","X =\nbestanden","spezielle Bemerkungen (Lob/Hinweis/Kritik)\nder/des Abnehmer/in"]
[null,{"$f":"Datenerfassung!$AE34","v":"Langsamer Walzer"},{"$nulls":8},{"$f":"Datenerfassung!$AE35","v":"Langsamer Walzer"}]
[null,{"$f":"Datenerfassung!$AF34","v":"Tango"},{"$nulls":8},{"$f":"Datenerfassung!$AF35","v":"Tango"}]
[null,{"$f":"Datenerfassung!$AG34","v":"Wiener Walzer"},{"$nulls":8},{"$f":"Datenerfassung!$AG35","v":"Wiener Walzer"}]
[null,{"$f":"Datenerfassung!$AH34","v":"Slowfox"},{"$nulls":8},{"$f":"Datenerfassung!$AH35","v":"Slowfox"}]
[null,{"$f":"Datenerfassung!$AI34","v":"Quickstep"},{"$nulls":8},{"$f":"Datenerfassung!$AI35","v":"Quickstep"}]
[null,{"$f":"Datenerfassung!$AJ34","v":"Samba"},{"$nulls":8},{"$f":"Datenerfassung!$AJ35","v":"Samba"}]
[null,{"$f":"Datenerfassung!$AK34","v":"Chachacha"},{"$nulls":8},{"$f":"Datenerfassung!$AK35","v":"Chachacha"}]
[null,{"$f":"Datenerfassung!$AL34","v":"Rumba"},{"$nulls":8},{"$f":"Datenerfassung!$AL35","v":"Rumba"}]
[null,{"$f":"Datenerfassung!$AM34","v":"Paso Doble"},{"$nulls":8},{"$f":"Datenerfassung!$AM35","v":"Paso Doble"}]
[null,{"$f":"Datenerfassung!$AN34","v":"Jive"},{"$nulls":8},{"$f":"Datenerfassung!$AN35","v":"Jive"}]
[null,{"$f":"Datenerfassung!$AO34","v":"Discofox"},{"$nulls":8},{"$f":"Datenerfassung!$AO35","v":"Discofox"}]
[]
[null,"Gemäß Ausbildungsordnung des DTV wurde eine Leistung für den Lizenzerwerb (10-Tänze-Gold) erbracht.",{"$nulls":8},"Gemäß Ausbildungsordnung des DTV wurde eine Leistung für den Lizenzerwerb (10-Tänze-Gold) erbracht."]
[]
["Unterschriften Abnehmer/innen:",{"$nulls":8},"Unterschriften Abnehmer/innen:"]
[]
[]
[{"$f":"Anmeldung!$L$19","v":"00:00:00"},null,null,null,{"$f":"Anmeldung!$L$20","v":0},null,null,{"$f":"Anmeldung!$L$21","v":0},null,{"$f":"Anmeldung!$L$19","v":"00:00:00"},null,null,null,{"$f":"Anmeldung!$L$20","v":0},null,null,{"$f":"Anmeldung!$L$21","v":0}]
["Abnahmekarte für das deutsche Tanzsportabzeichen DTSA",{"$nulls":8},"Abnahmekarte für das deutsche Tanzsportabzeichen DTSA"]
[{"$f":"Anmeldung!$E$7","v":"00:00:00"},null,{"$f":"Anmeldung!$E$8","v":0},{"$nulls":4},{"$f":"\"# \"&Datenerfassung!$H36","v":"# 27"},null,{"$f":"Anmeldung!$E$7","v":"00:00:00"},null,{"$f":"Anmeldung!$E$8","v":0},{"$nulls":4},{"$f":"\"# \"&Datenerfassung!$H37","v":"# 28"}]
["Vorname",null,{"$f":"Datenerfassung!$C36","v":0},null,null,null,"Der/die Bewerber/innen erkennen mit Unterschrift die DTSA-Verleihungsbedingungen an. \n",null,null,"Vorname",null,{"$f":"Datenerfassung!$C37","v":0},null,null,null,"Der/die Bewerber/innen erkennen mit Unterschrift die DTSA-Verleihungsbedingungen an. \n"]
["Nachname",null,{"$f":"Datenerfassung!$D36","v":0},{"$nulls":6},"Nachname",null,{"$f":"Datenerfassung!$D37","v":0}]
["Verein/Schule",null,{"$f":"Datenerfassung!$G36","v":"00:00:00"},{"$nulls":6},"Verein/Schule",null,{"$f":"Datenerfassung!$G37","v":"00:00:00"}]
[]
["Medaille",null,{"$f":"Datenerfassung!$B36","v":0},{"$nulls":6},"Medaille",null,{"$f":"Datenerfassung!$B37","v":0}]
[{"$nulls":6},"Anerkennung der Bedingungen durch Unterschrift",{"$nulls":8},"Anerkennung der Bedingungen durch Unterschrift"]
[]
[" Tanz bitte eintragen/ankreuzen",null,null,"Musik","Balancen","Bewegg.-\nAblauf","X =\nbestanden","spezielle Bemerkungen (Lob/Hinweis/Kritik)\nder/des Abnehmer/in",null," Tanz bitte eintragen/ankreuzen",null,null,"Musik","Balancen","Bewegg.-\nAblauf","X =\nbestanden","spezielle Bemerkungen (Lob/Hinweis/Kritik)\nder/des Abnehmer/in"]
[null,{"$f":"Datenerfassung!$AE36","v":"Langsamer Walzer"},{"$nulls":8},{"$f":"Datenerfassung!$AE37","v":"Langsamer Walzer"}]
[null,{"$f":"Datenerfassung!$AF36","v":"Tango"},{"$nulls":8},{"$f":"Datenerfassung!$AF37","v":"Tango"}]
[null,{"$f":"Datenerfassung!$AG36","v":"Wiener Walzer"},{"$nulls":8},{"$f":"Datenerfassung!$AG37","v":"Wiener Walzer"}]
[null,{"$f":"Datenerfassung!$AH36","v":"Slowfox"},{"$nulls":8},{"$f":"Datenerfassung!$AH37","v":"Slowfox"}]
[null,{"$f":"Datenerfassung!$AI36","v":"Quickstep"},{"$nulls":8},{"$f":"Datenerfassung!$AI37","v":"Quickstep"}]
[null,{"$f":"Datenerfassung!$AJ36","v":"Samba"},{"$nulls":8},{"$f":"Datenerfassung!$AJ37","v":"Samba"}]
[null,{"$f":"Datenerfassung!$AK36","v":"Chachacha"},{"$nulls":8},{"$f":"Datenerfassung!$AK37","v":"Chachacha"}]
[null,{"$f":"Datenerfassung!$AL36","v":"Rumba"},{"$nulls":8},{"$f":"Datenerfassung!$AL37","v":"Rumba"}]
[null,{"$f":"Datenerfassung!$AM36","v":"Paso Doble"},{"$nulls":8},{"$f":"Datenerfassung!$AM37","v":"Paso Doble"}]
[null,{"$f":"Datenerfassung!$AN36","v":"Jive"},{"$nulls":8},{"$f":"Datenerfassung!$AN37","v":"Jive"}]
[null,{"$f":"Datenerfassung!$AO36","v":"Discofox"},{"$nulls":8},{"$f":"Datenerfassung!$AO37","v":"Discofox"}]
[]
[null,"Gemäß Ausbildungsordnung des DTV wurde eine Leistung für den Lizenzerwerb (10-Tänze-Gold) erbracht.",{"$nulls":8},"Gemäß Ausbildungsordnung des DTV wurde eine Leistung für den Lizenzerwerb (10-Tänze-Gold) erbracht."]
[]
["Unterschriften Abnehmer/innen:",{"$nulls":8},"Unterschriften Abnehmer/innen:"]
[]
[]
[{"$f":"Anmeldung!$L$19","v":"00:00:00"},null,null,null,{"$f":"Anmeldung!$L$20","v":0},null,null,{"$f":"Anmeldung!$L$21","v":0},null,{"$f":"Anmeldung!$L$19","v":"00:00:00"},null,null,null,{"$f":"Anmeldung!$L$20","v":0},null,null,{"$f":"Anmeldung!$L$21","v":0}]
["Abnahmekarte für das deutsche Tanzsportabzeichen DTSA",{"$nulls":8},"Abnahmekarte für das deutsche Tanzsportabzeichen DTSA"]
[{"$f":"Anmeldung!$E$7","v":"00:00:00"},null,{"$f":"Anmeldung!$E$8","v":0},{"$nulls":4},{"$f":"\"# \"&Datenerfassung!$H38","v":"# 29"},null,{"$f":"Anmeldung!$E$7","v":"00:00:00"},null,{"$f":"Anmeldung!$E$8","v":0},{"$nulls":4},{"$f":"\"# \"&Datenerfassung!$H39","v":"# 30"}]
["Vorname",null,{"$f":"Datenerfassung!$C38","v":0},null,null,null,"Der/die Bewerber/innen erkennen mit Unterschrift die DTSA-Verleihungsbedingungen an. \n",null,null,"Vorname",null,{"$f":"Datenerfassung!$C39","v":0},null,null,null,"Der/die Bewerber/innen erkennen mit Unterschrift die DTSA-Verleihungsbedingungen an. \n"]
["Nachname",null,{"$f":"Datenerfassung!$D38","v":0},{"$nulls":6},"Nachname",null,{"$f":"Datenerfassung!$D39","v":0}]
["Verein/Schule",null,{"$f":"Datenerfassung!$G38","v":"00:00:00"},{"$nulls":6},"Verein/Schule",null,{"$f":"Datenerfassung!$G39","v":"00:00:00"}]
[]
["Medaille",null,{"$f":"Datenerfassung!$B38","v":0},{"$nulls":6},"Medaille",null,{"$f":"Datenerfassung!$B39","v":0}]
[{"$nulls":6},"Anerkennung der Bedingungen durch Unterschrift",{"$nulls":8},"Anerkennung der Bedingungen durch Unterschrift"]
[]
[" Tanz bitte eintragen/ankreuzen",null,null,"Musik","Balancen","Bewegg.-\nAblauf","X =\nbestanden","spezielle Bemerkungen (Lob/Hinweis/Kritik)\nder/des Abnehmer/in",null," Tanz bitte eintragen/ankreuzen",null,null,"Musik","Balancen","Bewegg.-\nAblauf","X =\nbestanden","spezielle Bemerkungen (Lob/Hinweis/Kritik)\nder/des Abnehmer/in"]
[null,{"$f":"Datenerfassung!$AE38","v":"Langsamer Walzer"},{"$nulls":8},{"$f":"Datenerfassung!$AE39","v":"Langsamer Walzer"}]
[null,{"$f":"Datenerfassung!$AF38","v":"Tango"},{"$nulls":8},{"$f":"Datenerfassung!$AF39","v":"Tango"}]
[null,{"$f":"Datenerfassung!$AG38","v":"Wiener Walzer"},{"$nulls":8},{"$f":"Datenerfassung!$AG39","v":"Wiener Walzer"}]
[null,{"$f":"Datenerfassung!$AH38","v":"Slowfox"},{"$nulls":8},{"$f":"Datenerfassung!$AH39","v":"Slowfox"}]
[null,{"$f":"Datenerfassung!$AI38","v":"Quickstep"},{"$nulls":8},{"$f":"Datenerfassung!$AI39","v":"Quickstep"}]
[null,{"$f":"Datenerfassung!$AJ38","v":"Samba"},{"$nulls":8},{"$f":"Datenerfassung!$AJ39","v":"Samba"}]
[null,{"$f":"Datenerfassung!$AK38","v":"Chachacha"},{"$nulls":8},{"$f":"Datenerfassung!$AK39","v":"Chachacha"}]
[null,{"$f":"Datenerfassung!$AL38","v":"Rumba"},{"$nulls":8},{"$f":"Datenerfassung!$AL39","v":"Rumba"}]
[null,{"$f":"Datenerfassung!$AM38","v":"Paso Doble"},{"$nulls":8},{"$f":"Datenerfassung!$AM39","v":"Paso Doble"}]
[null,{"$f":"Datenerfassung!$AN38","v":"Jive"},{"$nulls":8},{"$f":"Datenerfassung!$AN39","v":"Jive"}]
[null,{"$f":"Datenerfassung!$AO38","v":"Discofox"},{"$nulls":8},{"$f":"Datenerfassung!$AO39","v":"Discofox"}]
[]
[null,"Gemäß Ausbildungsordnung des DTV wurde eine Leistung für den Lizenzerwerb (10-Tänze-Gold) erbracht.",{"$nulls":8},"Gemäß Ausbildungsordnung des DTV wurde eine Leistung für den Lizenzerwerb (10-Tänze-Gold) erbracht."]
[]
["Unterschriften Abnehmer/innen:",{"$nulls":8},"Unterschriften Abnehmer/innen:"]
[]
[]
[{"$f":"Anmeldung!$L$19","v":"00:00:00"},null,null,null,{"$f":"Anmeldung!$L$20","v":0},null,null,{"$f":"Anmeldung!$L$21","v":0},null,{"$f":"Anmeldung!$L$19","v":"00:00:00"},null,null,null,{"$f":"Anmeldung!$L$20","v":0},null,null,{"$f":"Anmeldung!$L$21","v":0}]
["Abnahmekarte für das deutsche Tanzsportabzeichen DTSA",{"$nulls":8},"Abnahmekarte für das deutsche Tanzsportabzeichen DTSA"]
[{"$f":"Anmeldung!$E$7","v":"00:00:00"},null,{"$f":"Anmeldung!$E$8","v":0},{"$nulls":4},{"$f":"\"# \"&Datenerfassung!$H40","v":"# 31"},null,{"$f":"Anmeldung!$E$7","v":"00:00:00"},null,{"$f":"Anmeldung!$E$8","v":0},{"$nulls":4},{"$f":"\"# \"&Datenerfassung!$H41","v":"# 32"}]
["Vorname",null,{"$f":"Datenerfassung!$C40","v":0},null,null,null,"Der/die Bewerber/innen erkennen mit Unterschrift die DTSA-Verleihungsbedingungen an. \n",null,null,"Vorname",null,{"$f":"Datenerfassung!$C41","v":0},null,null,null,"Der/die Bewerber/innen erkennen mit Unterschrift die DTSA-Verleihungsbedingungen an. \n"]
["Nachname",null,{"$f":"Datenerfassung!$D40","v":0},{"$nulls":6},"Nachname",null,{"$f":"Datenerfassung!$D41","v":0}]
["Verein/Schule",null,{"$f":"Datenerfassung!$G40","v":"00:00:00"},{"$nulls":6},"Verein/Schule",null,{"$f":"Datenerfassung!$G41","v":"00:00:00"}]
[]
["Medaille",null,{"$f":"Datenerfassung!$B40","v":0},{"$nulls":6},"Medaille",null,{"$f":"Datenerfassung!$B41","v":0}]
[{"$nulls":6},"Anerkennung der Bedingungen durch Unterschrift",{"$nulls":8},"Anerkennung der Bedingungen durch Unterschrift"]
[]
[" Tanz bitte eintragen/ankreuzen",null,null,"Musik","Balancen","Bewegg.-\nAblauf","X =\nbestanden","spezielle Bemerkungen (Lob/Hinweis/Kritik)\nder/des Abnehmer/in",null," Tanz bitte eintragen/ankreuzen",null,null,"Musik","Balancen","Bewegg.-\nAblauf","X =\nbestanden","spezielle Bemerkungen (Lob/Hinweis/Kritik)\nder/des Abnehmer/in"]
[null,{"$f":"Datenerfassung!$AE40","v":"Langsamer Walzer"},{"$nulls":8},{"$f":"Datenerfassung!$AE41","v":"Langsamer Walzer"}]
[null,{"$f":"Datenerfassung!$AF40","v":"Tango"},{"$nulls":8},{"$f":"Datenerfassung!$AF41","v":"Tango"}]
[null,{"$f":"Datenerfassung!$AG40","v":"Wiener Walzer"},{"$nulls":8},{"$f":"Datenerfassung!$AG41","v":"Wiener Walzer"}]
[null,{"$f":"Datenerfassung!$AH40","v":"Slowfox"},{"$nulls":8},{"$f":"Datenerfassung!$AH41","v":"Slowfox"}]
[null,{"$f":"Datenerfassung!$AI40","v":"Quickstep"},{"$nulls":8},{"$f":"Datenerfassung!$AI41","v":"Quickstep"}]
[null,{"$f":"Datenerfassung!$AJ40","v":"Samba"},{"$nulls":8},{"$f":"Datenerfassung!$AJ41","v":"Samba"}]
[null,{"$f":"Datenerfassung!$AK40","v":"Chachacha"},{"$nulls":8},{"$f":"Datenerfassung!$AK41","v":"Chachacha"}]
[null,{"$f":"Datenerfassung!$AL40","v":"Rumba"},{"$nulls":8},{"$f":"Datenerfassung!$AL41","v":"Rumba"}]
[null,{"$f":"Datenerfassung!$AM40","v":"Paso Doble"},{"$nulls":8},{"$f":"Datenerfassung!$AM41","v":"Paso Doble"}]
[null,{"$f":"Datenerfassung!$AN40","v":"Jive"},{"$nulls":8},{"$f":"Datenerfassung!$AN41","v":"Jive"}]
[null,{"$f":"Datenerfassung!$AO40","v":"Discofox"},{"$nulls":8},{"$f":"Datenerfassung!$AO41","v":"Discofox"}]
[]
[null,"Gemäß Ausbildungsordnung des DTV wurde eine Leistung für den Lizenzerwerb (10-Tänze-Gold) erbracht.",{"$nulls":8},"Gemäß Ausbildungsordnung des DTV wurde eine Leistung für den Lizenzerwerb (10-Tänze-Gold) erbracht."]
[]
["Unterschriften Abnehmer/innen:",{"$nulls":8},"Unterschriften Abnehmer/innen:"]
[]
[]
[{"$f":"Anmeldung!$L$19","v":"00:00:00"},null,null,null,{"$f":"Anmeldung!$L$20","v":0},null,null,{"$f":"Anmeldung!$L$21","v":0},null,{"$f":"Anmeldung!$L$19","v":"00:00:00"},null,null,null,{"$f":"Anmeldung!$L$20","v":0},null,null,{"$f":"Anmeldung!$L$21","v":0}]
["Abnahmekarte für das deutsche Tanzsportabzeichen DTSA",{"$nulls":8},"Abnahmekarte für das deutsche Tanzsportabzeichen DTSA"]
[{"$f":"Anmeldung!$E$7","v":"00:00:00"},null,{"$f":"Anmeldung!$E$8","v":0},{"$nulls":4},{"$f":"\"# \"&Datenerfassung!$H42","v":"# 33"},null,{"$f":"Anmeldung!$E$7","v":"00:00:00"},null,{"$f":"Anmeldung!$E$8","v":0},{"$nulls":4},{"$f":"\"# \"&Datenerfassung!$H43","v":"# 34"}]
["Vorname",null,{"$f":"Datenerfassung!$C42","v":0},null,null,null,"Der/die Bewerber/innen erkennen mit Unterschrift die DTSA-Verleihungsbedingungen an. \n",null,null,"Vorname",null,{"$f":"Datenerfassung!$C43","v":0},null,null,null,"Der/die Bewerber/innen erkennen mit Unterschrift die DTSA-Verleihungsbedingungen an. \n"]
["Nachname",null,{"$f":"Datenerfassung!$D42","v":0},{"$nulls":6},"Nachname",null,{"$f":"Datenerfassung!$D43","v":0}]
["Verein/Schule",null,{"$f":"Datenerfassung!$G42","v":"00:00:00"},{"$nulls":6},"Verein/Schule",null,{"$f":"Datenerfassung!$G43","v":"00:00:00"}]
[]
["Medaille",null,{"$f":"Datenerfassung!$B42","v":0},{"$nulls":6},"Medaille",null,{"$f":"Datenerfassung!$B43","v":0}]
[{"$nulls":6},"Anerkennung der Bedingungen durch Unterschrift",{"$nulls":8},"Anerkennung der Bedingungen durch Unterschrift"]
[]
[" Tanz bitte eintragen/ankreuzen",null,null,"Musik","Balancen","Bewegg.-\nAblauf","X =\nbestanden","spezielle Bemerkungen (Lob/Hinweis/Kritik)\nder/des Abnehmer/in",null," Tanz bitte eintragen/ankreuzen",null,null,"Musik","Balancen","Bewegg.-\nAblauf","X =\nbestanden","spezielle Bemerkungen (Lob/Hinweis/Kritik)\nder/des Abnehmer/in"]
[null,{"$f":"Datenerfassung!$AE42","v":"Langsamer Walzer"},{"$nulls":8},{"$f":"Datenerfassung!$AE43","v":"Langsamer Walzer"}]
[null,{"$f":"Datenerfassung!$AF42","v":"Tango"},{"$nulls":8},{"$f":"Datenerfassung!$AF43","v":"Tango"}]
[null,{"$f":"Datenerfassung!$AG42","v":"Wiener Walzer"},{"$nulls":8},{"$f":"Datenerfassung!$AG43","v":"Wiener Walzer"}]
[null,{"$f":"Datenerfassung!$AH42","v":"Slowfox"},{"$nulls":8},{"$f":"Datenerfassung!$AH43","v":"Slowfox"}]
[null,{"$f":"Datenerfassung!$AI42","v":"Quickstep"},{"$nulls":8},{"$f":"Datenerfassung!$AI43","v":"Quickstep"}]
[null,{"$f":"Datenerfassung!$AJ42","v":"Samba"},{"$nulls":8},{"$f":"Datenerfassung!$AJ43","v":"Samba"}]
[null,{"$f":"Datenerfassung!$AK42","v":"Chachacha"},{"$nulls":8},{"$f":"Datenerfassung!$AK43","v":"Chachacha"}]
[null,{"$f":"Datenerfassung!$AL42","v":"Rumba"},{"$nulls":8},{"$f":"Datenerfassung!$AL43","v":"Rumba"}]
[null,{"$f":"Datenerfassung!$AM42","v":"Paso Doble"},{"$nulls":8},{"$f":"Datenerfassung!$AM43","v":"Paso Doble"}]
[null,{"$f":"Datenerfassung!$AN42","v":"Jive"},{"$nulls":8},{"$f":"Datenerfassung!$AN43","v":"Jive"}]
[null,{"$f":"Datenerfassung!$AO42","v":"Discofox"},{"$nulls":8},{"$f":"Datenerfassung!$AO43","v":"Discofox"}]
[]
[null,"Gemäß Ausbildungsordnung des DTV wurde eine Leistung für den Lizenzerwerb (10-Tänze-Gold) erbracht.",{"$nulls":8},"Gemäß Ausbildungsordnung des DTV wurde eine Leistung für den Lizenzerwerb (10-Tänze-Gold) erbracht."]
[]
["Unterschriften Abnehmer/innen:",{"$nulls":8},"Unterschriften Abnehmer/innen:"]
[]
[]
[{"$f":"Anmeldung!$L$19","v":"00:00:00"},null,null,null,{"$f":"Anmeldung!$L$20","v":0},null,null,{"$f":"Anmeldung!$L$21","v":0},null,{"$f":"Anmeldung!$L$19","v":"00:00:00"},null,null,null,{"$f":"Anmeldung!$L$20","v":0},null,null,{"$f":"Anmeldung!$L$21","v":0}]
["Abnahmekarte für das deutsche Tanzsportabzeichen DTSA",{"$nulls":8},"Abnahmekarte für das deutsche Tanzsportabzeichen DTSA"]
[{"$f":"Anmeldung!$E$7","v":"00:00:00"},null,{"$f":"Anmeldung!$E$8","v":0},{"$nulls":4},{"$f":"\"# \"&Datenerfassung!$H44","v":"# 35"},null,{"$f":"Anmeldung!$E$7","v":"00:00:00"},null,{"$f":"Anmeldung!$E$8","v":0},{"$nulls":4},{"$f":"\"# \"&Datenerfassung!$H45","v":"# 36"}]
["Vorname",null,{"$f":"Datenerfassung!$C44","v":0},null,null,null,"Der/die Bewerber/innen erkennen mit Unterschrift die DTSA-Verleihungsbedingungen an. \n",null,null,"Vorname",null,{"$f":"Datenerfassung!$C45","v":0},null,null,null,"Der/die Bewerber/innen erkennen mit Unterschrift die DTSA-Verleihungsbedingungen an. \n"]
["Nachname",null,{"$f":"Datenerfassung!$D44","v":0},{"$nulls":6},"Nachname",null,{"$f":"Datenerfassung!$D45","v":0}]
["Verein/Schule",null,{"$f":"Datenerfassung!$G44","v":"00:00:00"},{"$nulls":6},"Verein/Schule",null,{"$f":"Datenerfassung!$G45","v":"00:00:00"}]
[]
["Medaille",null,{"$f":"Datenerfassung!$B44","v":0},{"$nulls":6},"Medaille",null,{"$f":"Datenerfassung!$B45","v":0}]
[{"$nulls":6},"Anerkennung der Bedingungen durch Unterschrift",{"$nulls":8},"Anerkennung der Bedingungen durch Unterschrift"]
[]
[" Tanz bitte eintragen/ankreuzen",null,null,"Musik","Balancen","Bewegg.-\nAblauf","X =\nbestanden","spezielle Bemerkungen (Lob/Hinweis/Kritik)\nder/des Abnehmer/in",null," Tanz bitte eintragen/ankreuzen",null,null,"Musik","Balancen","Bewegg.-\nAblauf","X =\nbestanden","spezielle Bemerkungen (Lob/Hinweis/Kritik)\nder/des Abnehmer/in"]
[null,{"$f":"Datenerfassung!$AE44","v":"Langsamer Walzer"},{"$nulls":8},{"$f":"Datenerfassung!$AE45","v":"Langsamer Walzer"}]
[null,{"$f":"Datenerfassung!$AF44","v":"Tango"},{"$nulls":8},{"$f":"Datenerfassung!$AF45","v":"Tango"}]
[null,{"$f":"Datenerfassung!$AG44","v":"Wiener Walzer"},{"$nulls":8},{"$f":"Datenerfassung!$AG45","v":"Wiener Walzer"}]
[null,{"$f":"Datenerfassung!$AH44","v":"Slowfox"},{"$nulls":8},{"$f":"Datenerfassung!$AH45","v":"Slowfox"}]
[null,{"$f":"Datenerfassung!$AI44","v":"Quickstep"},{"$nulls":8},{"$f":"Datenerfassung!$AI45","v":"Quickstep"}]
[null,{"$f":"Datenerfassung!$AJ44","v":"Samba"},{"$nulls":8},{"$f":"Datenerfassung!$AJ45","v":"Samba"}]
[null,{"$f":"Datenerfassung!$AK44","v":"Chachacha"},{"$nulls":8},{"$f":"Datenerfassung!$AK45","v":"Chachacha"}]
[null,{"$f":"Datenerfassung!$AL44","v":"Rumba"},{"$nulls":8},{"$f":"Datenerfassung!$AL45","v":"Rumba"}]
[null,{"$f":"Datenerfassung!$AM44","v":"Paso Doble"},{"$nulls":8},{"$f":"Datenerfassung!$AM45","v":"Paso Doble"}]
[null,{"$f":"Datenerfassung!$AN44","v":"Jive"},{"$nulls":8},{"$f":"Datenerfassung!$AN45","v":"Jive"}]
[null,{"$f":"Datenerfassung!$AO44","v":"Discofox"},{"$nulls":8},{"$f":"Datenerfassung!$AO45","v":"Discofox"}]
[]
[null,"Gemäß Ausbildungsordnung des DTV wurde eine Leistung für den Lizenzerwerb (10-Tänze-Gold) erbracht.",{"$nulls":8},"Gemäß Ausbildungsordnung des DTV wurde eine Leistung für den Lizenzerwerb (10-Tänze-Gold) erbracht."]
[]
["Unterschriften Abnehmer/innen:",{"$nulls":8},"Unterschriften Abnehmer/innen:"]
[]
[]
[{"$f":"Anmeldung!$L$19","v":"00:00:00"},null,null,null,{"$f":"Anmeldung!$L$20","v":0},null,null,{"$f":"Anmeldung!$L$21","v":0},null,{"$f":"Anmeldung!$L$19","v":"00:00:00"},null,null,null,{"$f":"Anmeldung!$L$20","v":0},null,null,{"$f":"Anmeldung!$L$21","v":0}]
["Abnahmekarte für das deutsche Tanzsportabzeichen DTSA",{"$nulls":8},"Abnahmekarte für das deutsche Tanzsportabzeichen DTSA"]
[{"$f":"Anmeldung!$E$7","v":"00:00:00"},null,{"$f":"Anmeldung!$E$8","v":0},{"$nulls":4},{"$f":"\"# \"&Datenerfassung!$H46","v":"# 37"},null,{"$f":"Anmeldung!$E$7","v":"00:00:00"},null,{"$f":"Anmeldung!$E$8","v":0},{"$nulls":4},{"$f":"\"# \"&Datenerfassung!$H47","v":"# 38"}]
["Vorname",null,{"$f":"Datenerfassung!$C46","v":0},null,null,null,"Der/die Bewerber/innen erkennen mit Unterschrift die DTSA-Verleihungsbedingungen an. \n",null,null,"Vorname",null,{"$f":"Datenerfassung!$C47","v":0},null,null,null,"Der/die Bewerber/innen erkennen mit Unterschrift die DTSA-Verleihungsbedingungen an. \n"]
["Nachname",null,{"$f":"Datenerfassung!$D46","v":0},{"$nulls":6},"Nachname",null,{"$f":"Datenerfassung!$D47","v":0}]
["Verein/Schule",null,{"$f":"Datenerfassung!$G46","v":"00:00:00"},{"$nulls":6},"Verein/Schule",null,{"$f":"Datenerfassung!$G47","v":"00:00:00"}]
[]
["Medaille",null,{"$f":"Datenerfassung!$B46","v":0},{"$nulls":6},"Medaille",null,{"$f":"Datenerfassung!$B47","v":0}]
[{"$nulls":6},"Anerkennung der Bedingungen durch Unterschrift",{"$nulls":8},"Anerkennung der Bedingungen durch Unterschrift"]
[]
[" Tanz bitte eintragen/ankreuzen",null,null,"Musik","Balancen","Bewegg.-\nAblauf","X =\nbestanden","spezielle Bemerkungen (Lob/Hinweis/Kritik)\nder/des Abnehmer/in",null," Tanz bitte eintragen/ankreuzen",null,null,"Musik","Balancen","Bewegg.-\nAblauf","X =\nbestanden","spezielle Bemerkungen (Lob/Hinweis/Kritik)\nder/des Abnehmer/in"]
[null,{"$f":"Datenerfassung!$AE46","v":"Langsamer Walzer"},{"$nulls":8},{"$f":"Datenerfassung!$AE47","v":"Langsamer Walzer"}]
[null,{"$f":"Datenerfassung!$AF46","v":"Tango"},{"$nulls":8},{"$f":"Datenerfassung!$AF47","v":"Tango"}]
[null,{"$f":"Datenerfassung!$AG46","v":"Wiener Walzer"},{"$nulls":8},{"$f":"Datenerfassung!$AG47","v":"Wiener Walzer"}]
[null,{"$f":"Datenerfassung!$AH46","v":"Slowfox"},{"$nulls":8},{"$f":"Datenerfassung!$AH47","v":"Slowfox"}]
[null,{"$f":"Datenerfassung!$AI46","v":"Quickstep"},{"$nulls":8},{"$f":"Datenerfassung!$AI47","v":"Quickstep"}]
[null,{"$f":"Datenerfassung!$AJ46","v":"Samba"},{"$nulls":8},{"$f":"Datenerfassung!$AJ47","v":"Samba"}]
[null,{"$f":"Datenerfassung!$AK46","v":"Chachacha"},{"$nulls":8},{"$f":"Datenerfassung!$AK47","v":"Chachacha"}]
[null,{"$f":"Datenerfassung!$AL46","v":"Rumba"},{"$nulls":8},{"$f":"Datenerfassung!$AL47","v":"Rumba"}]
[null,{"$f":"Datenerfassung!$AM46","v":"Paso Doble"},{"$nulls":8},{"$f":"Datenerfassung!$AM47","v":"Paso Doble"}]
[null,{"$f":"Datenerfassung!$AN46","v":"Jive"},{"$nulls":8},{"$f":"Datenerfassung!$AN47","v":"Jive"}]
[null,{"$f":"Datenerfassung!$AO46","v":"Discofox"},{"$nulls":8},{"$f":"Datenerfassung!$AO47","v":"Discofox"}]
[]
[null,"Gemäß Ausbildungsordnung des DTV wurde eine Leistung für den Lizenzerwerb (10-Tänze-Gold) erbracht.",{"$nulls":8},"Gemäß Ausbildungsordnung des DTV wurde eine Leistung für den Lizenzerwerb (10-Tänze-Gold) erbracht."]
[]
["Unterschriften Abnehmer/innen:",{"$nulls":8},"Unterschriften Abnehmer/innen:"]
[]
[]
[{"$f":"Anmeldung!$L$19","v":"00:00:00"},null,null,null,{"$f":"Anmeldung!$L$20","v":0},null,null,{"$f":"Anmeldung!$L$21","v":0},null,{"$f":"Anmeldung!$L$19","v":"00:00:00"},null,null,null,{"$f":"Anmeldung!$L$20","v":0},null,null,{"$f":"Anmeldung!$L$21","v":0}]
["Abnahmekarte für das deutsche Tanzsportabzeichen DTSA",{"$nulls":8},"Abnahmekarte für das deutsche Tanzsportabzeichen DTSA"]
[{"$f":"Anmeldung!$E$7","v":"00:00:00"},null,{"$f":"Anmeldung!$E$8","v":0},{"$nulls":4},{"$f":"\"# \"&Datenerfassung!$H48","v":"# 39"},null,{"$f":"Anmeldung!$E$7","v":"00:00:00"},null,{"$f":"Anmeldung!$E$8","v":0},{"$nulls":4},{"$f":"\"# \"&Datenerfassung!$H49","v":"# 40"}]
["Vorname",null,{"$f":"Datenerfassung!$C48","v":0},null,null,null,"Der/die Bewerber/innen erkennen mit Unterschrift die DTSA-Verleihungsbedingungen an. \n",null,null,"Vorname",null,{"$f":"Datenerfassung!$C49","v":0},null,null,null,"Der/die Bewerber/innen erkennen mit Unterschrift die DTSA-Verleihungsbedingungen an. \n"]
["Nachname",null,{"$f":"Datenerfassung!$D48","v":0},{"$nulls":6},"Nachname",null,{"$f":"Datenerfassung!$D49","v":0}]
["Verein/Schule",null,{"$f":"Datenerfassung!$G48","v":"00:00:00"},{"$nulls":6},"Verein/Schule",null,{"$f":"Datenerfassung!$G49","v":"00:00:00"}]
[]
["Medaille",null,{"$f":"Datenerfassung!$B48","v":0},{"$nulls":6},"Medaille",null,{"$f":"Datenerfassung!$B49","v":0}]
[{"$nulls":6},"Anerkennung der Bedingungen durch Unterschrift",{"$nulls":8},"Anerkennung der Bedingungen durch Unterschrift"]
[]
[" Tanz bitte eintragen/ankreuzen",null,null,"Musik","Balancen","Bewegg.-\nAblauf","X =\nbestanden","spezielle Bemerkungen (Lob/Hinweis/Kritik)\nder/des Abnehmer/in",null," Tanz bitte eintragen/ankreuzen",null,null,"Musik","Balancen","Bewegg.-\nAblauf","X =\nbestanden","spezielle Bemerkungen (Lob/Hinweis/Kritik)\nder/des Abnehmer/in"]
[null,{"$f":"Datenerfassung!$AE48","v":"Langsamer Walzer"},{"$nulls":8},{"$f":"Datenerfassung!$AE49","v":"Langsamer Walzer"}]
[null,{"$f":"Datenerfassung!$AF48","v":"Tango"},{"$nulls":8},{"$f":"Datenerfassung!$AF49","v":"Tango"}]
[null,{"$f":"Datenerfassung!$AG48","v":"Wiener Walzer"},{"$nulls":8},{"$f":"Datenerfassung!$AG49","v":"Wiener Walzer"}]
[null,{"$f":"Datenerfassung!$AH48","v":"Slowfox"},{"$nulls":8},{"$f":"Datenerfassung!$AH49","v":"Slowfox"}]
[null,{"$f":"Datenerfassung!$AI48","v":"Quickstep"},{"$nulls":8},{"$f":"Datenerfassung!$AI49","v":"Quickstep"}]
[null,{"$f":"Datenerfassung!$AJ48","v":"Samba"},{"$nulls":8},{"$f":"Datenerfassung!$AJ49","v":"Samba"}]
[null,{"$f":"Datenerfassung!$AK48","v":"Chachacha"},{"$nulls":8},{"$f":"Datenerfassung!$AK49","v":"Chachacha"}]
[null,{"$f":"Datenerfassung!$AL48","v":"Rumba"},{"$nulls":8},{"$f":"Datenerfassung!$AL49","v":"Rumba"}]
[null,{"$f":"Datenerfassung!$AM48","v":"Paso Doble"},{"$nulls":8},{"$f":"Datenerfassung!$AM49","v":"Paso Doble"}]
[null,{"$f":"Datenerfassung!$AN48","v":"Jive"},{"$nulls":8},{"$f":"Datenerfassung!$AN49","v":"Jive"}]
[null,{"$f":"Datenerfassung!$AO48","v":"Discofox"},{"$nulls":8},{"$f":"Datenerfassung!$AO49","v":"Discofox"}]
[]
[null,"Gemäß Ausbildungsordnung des DTV wurde eine Leistung für den Lizenzerwerb (10-Tänze-Gold) erbracht.",{"$nulls":8},"Gemäß Ausbildungsordnung des DTV wurde eine Leistung für den Lizenzerwerb (10-Tänze-Gold) erbracht."]
[]
["Unterschriften Abnehmer/innen:",{"$nulls":8},"Unterschriften Abnehmer/innen:"]
[]
[]
[{"$f":"Anmeldung!$L$19","v":"00:00:00"},null,null,null,{"$f":"Anmeldung!$L$20","v":0},null,null,{"$f":"Anmeldung!$L$21","v":0},null,{"$f":"Anmeldung!$L$19","v":"00:00:00"},null,null,null,{"$f":"Anmeldung!$L$20","v":0},null,null,{"$f":"Anmeldung!$L$21","v":0}]

{"sheet":"Einzel 41-60","index":5,"n_rows":280,"n_cols":17,"rows_kept":280,"cut":false,"hidden":false,"merged":[[4,2,4,5],[4,11,4,14],[6,2,6,5],[6,6,6,7],[6,11,6,14],[1,0,1,1],[1,2,1,6],[1,9,1,10],[1,11,1,15],[2,2,2,5],[2,6,4,7],[2,11,2,14],[2,15,4,16],[3,2,3,5],[3,11,3,14],[11,1,11,2],[11,10,11,11],[12,1,12,2],[12,10,12,11],[13,1,13,2],[13,10,13,11],[6,15,6,16],[7,2,7,5],[7,11,7,14],[9,0,9,2],[9,9,9,11],[10,1,10,2],[10,10,10,11],[17,1,17,2],[17,10,17,11],[18,1,18,2],[18,10,18,11],[19,1,19,2],[19,10,19,11],[14,1,14,2],[14,10,14,11],[15,1,15,2],[15,10,15,11],[16,1,16,2],[16,10,16,11],[27,4,27,6],[27,13,27,15],[29,0,29,1],[29,2,29,6],[29,9,29,10],[29,11,29,15],[20,1,20,2],[20,10,20,11],[22,1,22,7],[22,10,22,16],[24,0,24,7],[24,9,24,16],[34,15,34,16],[35,2,35,5],[35,11,35,14],[30,2,30,5],[30,6,32,7],[30,11,30,14],[30,15,32,16],[31,2,31,5],[31,11,31,14],[32,2,32,5],[32,11,32,14],[37,0,37,2],[37,9,37,11],[38,1,38,2],[38,10,38,11],[39,1,39,2],[39,10,39,11],[34,2,34,5],[34,6,34,7],[34,11,34,14],[43,1,43,2],[43,10,43,11],[44,1,44,2],[44,10,44,11],[45,1,45,2],[45,10,45,11],[40,1,40,2],[40,10,40,11],[41,1,41,2],[41,10,41,11],[42,1,42,2],[42,10,42,11],[50,1,50,7],[50,10,50,16],[52,0,52,7],[52,9,52,16],[55,4,55,6],[55,13,55,15],[46,1,46,2],[46,10,46,11],[47,1,47,2],[47,10,47,11],[48,1,48,2],[48,10,48,11],[60,2,60,5],[60,11,60,14],[62,2,62,5],[62,6,62,7],[62,11,62,14],[57,0,57,1],[57,2,57,6],[57,9,57,10],[57,11,57,15],[58,2,58,5],[58,6,60,7],[58,11,58,14],[58,15,60,16],[59,2,59,5],[59,11,59,14],[67,1,67,2],[67,10,67,11],[68,1,68,2],[68,10,68,11],[69,1,69,2],[69,10,69,11],[62,15,62,16],[63,2,63,5],[63,11,63,14],[65,0,65,2],[65,9,65,11],[66,1,66,2],[66,10,66,11],[73,1,73,2],[73,10,73,11],[74,1,74,2],[74,10,74,11],[75,1,75,2],[75,10,75,11],[70,1,70,2],[70,10,70,11],[71,1,71,2],[71,10,71,11],[72,1,72,2],[72,10,72,11],[83,4,83,6],[83,13,83,15],[85,0,85,1],[85,2,85,6],[85,9,85,10],[85,11,85,15],[76,1,76,2],[76,10,76,11],[78,1,78,7],[78,10,78,16],[80,0,80,7],[80,9,80,16],[90,15,90,16],[91,2,91,5],[91,11,91,14],[86,2,86,5],[86,6,88,7],[86,11,86,14],[86,15,88,16],[87,2,87,5],[87,11,87,14],[88,2,88,5],[88,11,88,14],[93,0,93,2],[93,9,93,11],[94,1,94,2],[94,10,94,11],[95,1,95,2],[95,10,95,11],[90,2,90,5],[90,6,90,7],[90,11,90,14],[99,1,99,2],[99,10,99,11],[100,1,100,2],[100,10,100,11],[101,1,101,2],[101,10,101,11],[96,1,96,2],[96,10,96,11],[97,1,97,2],[97,10,97,11],[98,1,98,2],[98,10,98,11],[106,1,106,7],[106,10,106,16],[108,0,108,7],[108,9,108,16],[111,4,111,6],[111,13,111,15],[102,1,102,2],[102,10,102,11],[103,1,103,2],[103,10,103,11],[104,1,104,2],[104,10,104,11],[116,2,116,5],[116,11,116,14],[118,2,118,5],[118,6,118,7],[118,11,118,14],[113,0,113,1],[113,2,113,6],[113,9,113,10],[113,11,113,15],[114,2,114,5],[114,6,116,7],[114,11,114,14],[114,15,116,16],[115,2,115,5],[115,11,115,14],[123,1,123,2],[123,10,123,11],[124,1,124,2],[124,10,124,11],[125,1,125,2],[125,10,125,11],[118,15,118,16],[119,2,119,5],[119,11,119,14],[121,0,121,2],[121,9,121,11],[122,1,122,2],[122,10,122,11],[129,1,129,2],[129,10,129,11],[130,1,130,2],[130,10,130,11],[131,1,131,2],[131,10,131,11],[126,1,126,2],[126,10,126,11],[127,1,127,2],[127,10,127,11],[128,1,128,2],[128,10,128,11],[139,4,139,6],[139,13,139,15],[141,0,141,1],[141,2,141,6],[141,9,141,10],[141,11,141,15],[132,1,132,2],[132,10,132,11],[134,1,134,7],[134,10,134,16],[136,0,136,7],[136,9,136,16],[146,15,146,16],[147,2,147,5],[147,11,147,14],[142,2,142,5],[142,6,144,7],[142,11,142,14],[142,15,144,16],[143,2,143,5],[143,11,143,14],[144,2,144,5],[144,11,144,14],[149,0,149,2],[149,9,149,11],[150,1,150,2],[150,10,150,11],[151,1,151,2],[151,10,151,11],[146,2,146,5],[146,6,146,7],[146,11,146,14],[155,1,155,2],[155,10,155,11],[156,1,156,2],[156,10,156,11],[157,1,157,2],[157,10,157,11],[152,1,152,2],[152,10,152,11],[153,1,153,2],[153,10,153,11],[154,1,154,2],[154,10,154,11],[162,1,162,7],[162,10,162,16],[164,0,164,7],[164,9,164,16],[167,4,167,6],[167,13,167,15],[158,1,158,2],[158,10,158,11],[159,1,159,2],[159,10,159,11],[160,1,160,2],[160,10,160,11],[172,2,172,5],[172,11,172,14],[174,2,174,5],[174,6,174,7],[174,11,174,14],[169,0,169,1],[169,2,169,6],[169,9,169,10],[169,11,169,15],[170,2,170,5],[170,6,172,7],[170,11,170,14],[170,15,172,16],[171,2,171,5],[171,11,171,14],[179,1,179,2],[179,10,179,11],[180,1,180,2],[180,10,180,11],[181,1,181,2],[181,10,181,11],[174,15,174,16],[175,2,175,5],[175,11,175,14],[177,0,177,2],[177,9,177,11],[178,1,178,2],[178,10,178,11],[185,1,185,2],[185,10,185,11],[186,1,186,2],[186,10,186,11],[187,1,187,2],[187,10,187,11],[182,1,182,2],[182,10,182,11],[183,1,183,2],[183,10,183,11],[184,1,184,2],[184,10,184,11],[195,4,195,6],[195,13,195,15],[197,0,197,1],[197,2,197,6],[197,9,197,10],[197,11,197,15],[188,1,188,2],[188,10,188,11],[190,1,190,7],[190,10,190,16],[192,0,192,7],[192,9,192,16],[202,15,202,16],[203,2,203,5],[203,11,203,14],[198,2,198,5],[198,6,200,7],[198,11,198,14],[198,15,200,16],[199,2,199,5],[199,11,199,14],[200,2,200,5],[200,11,200,14],[205,0,205,2],[205,9,205,11],[206,1,206,2],[206,10,206,11],[207,1,207,2],[207,10,207,11],[202,2,202,5],[202,6,202,7],[202,11,202,14],[211,1,211,2],[211,10,211,11],[212,1,212,2],[212,10,212,11],[213,1,213,2],[213,10,213,11],[208,1,208,2],[208,10,208,11],[209,1,209,2],[209,10,209,11],[210,1,210,2],[210,10,210,11],[218,1,218,7],[218,10,218,16],[220,0,220,7],[220,9,220,16],[223,4,223,6],[223,13,223,15],[214,1,214,2],[214,10,214,11],[215,1,215,2],[215,10,215,11],[216,1,216,2],[216,10,216,11],[228,2,228,5],[228,11,228,14],[230,2,230,5],[230,6,230,7],[230,11,230,14],[225,0,225,1],[225,2,225,6],[225,9,225,10],[225,11,225,15],[226,2,226,5],[226,6,228,7],[226,11,226,14],[226,15,228,16],[227,2,227,5],[227,11,227,14],[235,1,235,2],[235,10,235,11],[236,1,236,2],[236,10,236,11],[237,1,237,2],[237,10,237,11],[230,15,230,16],[231,2,231,5],[231,11,231,14],[233,0,233,2],[233,9,233,11],[234,1,234,2],[234,10,234,11],[241,1,241,2],[241,10,241,11],[242,1,242,2],[242,10,242,11],[243,1,243,2],[243,10,243,11],[238,1,238,2],[238,10,238,11],[239,1,239,2],[239,10,239,11],[240,1,240,2],[240,10,240,11],[251,4,251,6],[251,13,251,15],[253,0,253,1],[253,2,253,6],[253,9,253,10],[253,11,253,15],[244,1,244,2],[244,10,244,11],[246,1,246,7],[246,10,246,16],[248,0,248,7],[248,9,248,16],[258,15,258,16],[259,2,259,5],[259,11,259,14],[254,2,254,5],[254,6,256,7],[254,11,254,14],[254,15,256,16],[255,2,255,5],[255,11,255,14],[256,2,256,5],[256,11,256,14],[261,0,261,2],[261,9,261,11],[262,1,262,2],[262,10,262,11],[263,1,263,2],[263,10,263,11],[258,2,258,5],[258,6,258,7],[258,11,258,14],[267,1,267,2],[267,10,267,11],[268,1,268,2],[268,10,268,11],[269,1,269,2],[269,10,269,11],[264,1,264,2],[264,10,264,11],[265,1,265,2],[265,10,265,11],[266,1,266,2],[266,10,266,11],[274,1,274,7],[274,10,274,16],[276,0,276,7],[276,9,276,16],[279,4,279,6],[279,13,279,15],[270,1,270,2],[270,10,270,11],[271,1,271,2],[271,10,271,11],[272,1,272,2],[272,10,272,11]]}
["Abnahmekarte für das deutsche Tanzsportabzeichen DTSA",{"$nulls":8},"Abnahmekarte für das deutsche Tanzsportabzeichen DTSA"]
[{"$f":"Anmeldung!$E$7","v":"00:00:00"},null,{"$f":"Anmeldung!$E$8","v":0},{"$nulls":4},{"$f":"\"# \"&Datenerfassung!$H50","v":"# 41"},null,{"$f":"Anmeldung!$E$7","v":"00:00:00"},null,{"$f":"Anmeldung!$E$8","v":0},{"$nulls":4},{"$f":"\"# \"&Datenerfassung!$H51","v":"# 42"}]
["Vorname",null,{"$f":"Datenerfassung!$C50","v":0},null,null,null,"Der/die Bewerber/innen erkennen mit Unterschrift die DTSA-Verleihungsbedingungen an. \n",null,null,"Vorname",null,{"$f":"Datenerfassung!$C51","v":0},null,null,null,"Der/die Bewerber/innen erkennen mit Unterschrift die DTSA-Verleihungsbedingungen an. \n"]
["Nachname",null,{"$f":"Datenerfassung!$D50","v":0},{"$nulls":6},"Nachname",null,{"$f":"Datenerfassung!$D51","v":0}]
["Verein/Schule",null,{"$f":"Datenerfassung!$G50","v":"00:00:00"},{"$nulls":6},"Verein/Schule",null,{"$f":"Datenerfassung!$G51","v":"00:00:00"}]
[]
["Medaille",null,{"$f":"Datenerfassung!$B50","v":0},{"$nulls":6},"Medaille",null,{"$f":"Datenerfassung!$B51","v":0}]
[{"$nulls":6},"Anerkennung der Bedingungen durch Unterschrift",{"$nulls":8},"Anerkennung der Bedingungen durch Unterschrift"]
[]
[" Tanz bitte eintragen/ankreuzen",null,null,"Musik","Balancen","Bewegg.-\nAblauf","X =\nbestanden","spezielle Bemerkungen (Lob/Hinweis/Kritik)\nder/des Abnehmer/in",null," Tanz bitte eintragen/ankreuzen",null,null,"Musik","Balancen","Bewegg.-\nAblauf","X =\nbestanden","spezielle Bemerkungen (Lob/Hinweis/Kritik)\nder/des Abnehmer/in"]
[null,{"$f":"Datenerfassung!$AE50","v":"Langsamer Walzer"},{"$nulls":8},{"$f":"Datenerfassung!$AE51","v":"Langsamer Walzer"}]
[null,{"$f":"Datenerfassung!$AF50","v":"Tango"},{"$nulls":8},{"$f":"Datenerfassung!$AF51","v":"Tango"}]
[null,{"$f":"Datenerfassung!$AG50","v":"Wiener Walzer"},{"$nulls":8},{"$f":"Datenerfassung!$AG51","v":"Wiener Walzer"}]
[null,{"$f":"Datenerfassung!$AH50","v":"Slowfox"},{"$nulls":8},{"$f":"Datenerfassung!$AH51","v":"Slowfox"}]
[null,{"$f":"Datenerfassung!$AI50","v":"Quickstep"},{"$nulls":8},{"$f":"Datenerfassung!$AI51","v":"Quickstep"}]
[null,{"$f":"Datenerfassung!$AJ50","v":"Samba"},{"$nulls":8},{"$f":"Datenerfassung!$AJ51","v":"Samba"}]
[null,{"$f":"Datenerfassung!$AK50","v":"Chachacha"},{"$nulls":8},{"$f":"Datenerfassung!$AK51","v":"Chachacha"}]
[null,{"$f":"Datenerfassung!$AL50","v":"Rumba"},{"$nulls":8},{"$f":"Datenerfassung!$AL51","v":"Rumba"}]
[null,{"$f":"Datenerfassung!$AM50","v":"Paso Doble"},{"$nulls":8},{"$f":"Datenerfassung!$AM51","v":"Paso Doble"}]
[null,{"$f":"Datenerfassung!$AN50","v":"Jive"},{"$nulls":8},{"$f":"Datenerfassung!$AN51","v":"Jive"}]
[null,{"$f":"Datenerfassung!$AO50","v":"Discofox"},{"$nulls":8},{"$f":"Datenerfassung!$AO51","v":"Discofox"}]
[]
[null,"Gemäß Ausbildungsordnung des DTV wurde eine Leistung für den Lizenzerwerb (10-Tänze-Gold) erbracht.",{"$nulls":8},"Gemäß Ausbildungsordnung des DTV wurde eine Leistung für den Lizenzerwerb (10-Tänze-Gold) erbracht."]
[]
["Unterschriften Abnehmer/innen:",{"$nulls":8},"Unterschriften Abnehmer/innen:"]
[]
[]
[{"$f":"Anmeldung!$L$19","v":"00:00:00"},null,null,null,{"$f":"Anmeldung!$L$20","v":0},null,null,{"$f":"Anmeldung!$L$21","v":0},null,{"$f":"Anmeldung!$L$19","v":"00:00:00"},null,null,null,{"$f":"Anmeldung!$L$20","v":0},null,null,{"$f":"Anmeldung!$L$21","v":0}]
["Abnahmekarte für das deutsche Tanzsportabzeichen DTSA",{"$nulls":8},"Abnahmekarte für das deutsche Tanzsportabzeichen DTSA"]
[{"$f":"Anmeldung!$E$7","v":"00:00:00"},null,{"$f":"Anmeldung!$E$8","v":0},{"$nulls":4},{"$f":"\"# \"&Datenerfassung!$H52","v":"# 43"},null,{"$f":"Anmeldung!$E$7","v":"00:00:00"},null,{"$f":"Anmeldung!$E$8","v":0},{"$nulls":4},{"$f":"\"# \"&Datenerfassung!$H53","v":"# 44"}]
["Vorname",null,{"$f":"Datenerfassung!$C52","v":0},null,null,null,"Der/die Bewerber/innen erkennen mit Unterschrift die DTSA-Verleihungsbedingungen an. \n",null,null,"Vorname",null,{"$f":"Datenerfassung!$C53","v":0},null,null,null,"Der/die Bewerber/innen erkennen mit Unterschrift die DTSA-Verleihungsbedingungen an. \n"]
["Nachname",null,{"$f":"Datenerfassung!$D52","v":0},{"$nulls":6},"Nachname",null,{"$f":"Datenerfassung!$D53","v":0}]
["Verein/Schule",null,{"$f":"Datenerfassung!$G52","v":"00:00:00"},{"$nulls":6},"Verein/Schule",null,{"$f":"Datenerfassung!$G53","v":"00:00:00"}]
[]
["Medaille",null,{"$f":"Datenerfassung!$B52","v":0},{"$nulls":6},"Medaille",null,{"$f":"Datenerfassung!$B53","v":0}]
[{"$nulls":6},"Anerkennung der Bedingungen durch Unterschrift",{"$nulls":8},"Anerkennung der Bedingungen durch Unterschrift"]
[]
[" Tanz bitte eintragen/ankreuzen",null,null,"Musik","Balancen","Bewegg.-\nAblauf","X =\nbestanden","spezielle Bemerkungen (Lob/Hinweis/Kritik)\nder/des Abnehmer/in",null," Tanz bitte eintragen/ankreuzen",null,null,"Musik","Balancen","Bewegg.-\nAblauf","X =\nbestanden","spezielle Bemerkungen (Lob/Hinweis/Kritik)\nder/des Abnehmer/in"]
[null,{"$f":"Datenerfassung!$AE52","v":"Langsamer Walzer"},{"$nulls":8},{"$f":"Datenerfassung!$AE53","v":"Langsamer Walzer"}]
[null,{"$f":"Datenerfassung!$AF52","v":"Tango"},{"$nulls":8},{"$f":"Datenerfassung!$AF53","v":"Tango"}]
[null,{"$f":"Datenerfassung!$AG52","v":"Wiener Walzer"},{"$nulls":8},{"$f":"Datenerfassung!$AG53","v":"Wiener Walzer"}]
[null,{"$f":"Datenerfassung!$AH52","v":"Slowfox"},{"$nulls":8},{"$f":"Datenerfassung!$AH53","v":"Slowfox"}]
[null,{"$f":"Datenerfassung!$AI52","v":"Quickstep"},{"$nulls":8},{"$f":"Datenerfassung!$AI53","v":"Quickstep"}]
[null,{"$f":"Datenerfassung!$AJ52","v":"Samba"},{"$nulls":8},{"$f":"Datenerfassung!$AJ53","v":"Samba"}]
[null,{"$f":"Datenerfassung!$AK52","v":"Chachacha"},{"$nulls":8},{"$f":"Datenerfassung!$AK53","v":"Chachacha"}]
[null,{"$f":"Datenerfassung!$AL52","v":"Rumba"},{"$nulls":8},{"$f":"Datenerfassung!$AL53","v":"Rumba"}]
[null,{"$f":"Datenerfassung!$AM52","v":"Paso Doble"},{"$nulls":8},{"$f":"Datenerfassung!$AM53","v":"Paso Doble"}]
[null,{"$f":"Datenerfassung!$AN52","v":"Jive"},{"$nulls":8},{"$f":"Datenerfassung!$AN53","v":"Jive"}]
[null,{"$f":"Datenerfassung!$AO52","v":"Discofox"},{"$nulls":8},{"$f":"Datenerfassung!$AO53","v":"Discofox"}]
[]
[null,"Gemäß Ausbildungsordnung des DTV wurde eine Leistung für den Lizenzerwerb (10-Tänze-Gold) erbracht.",{"$nulls":8},"Gemäß Ausbildungsordnung des DTV wurde eine Leistung für den Lizenzerwerb (10-Tänze-Gold) erbracht."]
[]
["Unterschriften Abnehmer/innen:",{"$nulls":8},"Unterschriften Abnehmer/innen:"]
[]
[]
[{"$f":"Anmeldung!$L$19","v":"00:00:00"},null,null,null,{"$f":"Anmeldung!$L$20","v":0},null,null,{"$f":"Anmeldung!$L$21","v":0},null,{"$f":"Anmeldung!$L$19","v":"00:00:00"},null,null,null,{"$f":"Anmeldung!$L$20","v":0},null,null,{"$f":"Anmeldung!$L$21","v":0}]
["Abnahmekarte für das deutsche Tanzsportabzeichen DTSA",{"$nulls":8},"Abnahmekarte für das deutsche Tanzsportabzeichen DTSA"]
[{"$f":"Anmeldung!$E$7","v":"00:00:00"},null,{"$f":"Anmeldung!$E$8","v":0},{"$nulls":4},{"$f":"\"# \"&Datenerfassung!$H54","v":"# 45"},null,{"$f":"Anmeldung!$E$7","v":"00:00:00"},null,{"$f":"Anmeldung!$E$8","v":0},{"$nulls":4},{"$f":"\"# \"&Datenerfassung!$H55","v":"# 46"}]
["Vorname",null,{"$f":"Datenerfassung!$C54","v":0},null,null,null,"Der/die Bewerber/innen erkennen mit Unterschrift die DTSA-Verleihungsbedingungen an. \n",null,null,"Vorname",null,{"$f":"Datenerfassung!$C55","v":0},null,null,null,"Der/die Bewerber/innen erkennen mit Unterschrift die DTSA-Verleihungsbedingungen an. \n"]
["Nachname",null,{"$f":"Datenerfassung!$D54","v":0},{"$nulls":6},"Nachname",null,{"$f":"Datenerfassung!$D55","v":0}]
["Verein/Schule",null,{"$f":"Datenerfassung!$G54","v":"00:00:00"},{"$nulls":6},"Verein/Schule",null,{"$f":"Datenerfassung!$G55","v":"00:00:00"}]
[]
["Medaille",null,{"$f":"Datenerfassung!$B54","v":0},{"$nulls":6},"Medaille",null,{"$f":"Datenerfassung!$B55","v":0}]
[{"$nulls":6},"Anerkennung der Bedingungen durch Unterschrift",{"$nulls":8},"Anerkennung der Bedingungen durch Unterschrift"]
[]
[" Tanz bitte eintragen/ankreuzen",null,null,"Musik","Balancen","Bewegg.-\nAblauf","X =\nbestanden","spezielle Bemerkungen (Lob/Hinweis/Kritik)\nder/des Abnehmer/in",null," Tanz bitte eintragen/ankreuzen",null,null,"Musik","Balancen","Bewegg.-\nAblauf","X =\nbestanden","spezielle Bemerkungen (Lob/Hinweis/Kritik)\nder/des Abnehmer/in"]
[null,{"$f":"Datenerfassung!$AE54","v":"Langsamer Walzer"},{"$nulls":8},{"$f":"Datenerfassung!$AE55","v":"Langsamer Walzer"}]
[null,{"$f":"Datenerfassung!$AF54","v":"Tango"},{"$nulls":8},{"$f":"Datenerfassung!$AF55","v":"Tango"}]
[null,{"$f":"Datenerfassung!$AG54","v":"Wiener Walzer"},{"$nulls":8},{"$f":"Datenerfassung!$AG55","v":"Wiener Walzer"}]
[null,{"$f":"Datenerfassung!$AH54","v":"Slowfox"},{"$nulls":8},{"$f":"Datenerfassung!$AH55","v":"Slowfox"}]
[null,{"$f":"Datenerfassung!$AI54","v":"Quickstep"},{"$nulls":8},{"$f":"Datenerfassung!$AI55","v":"Quickstep"}]
[null,{"$f":"Datenerfassung!$AJ54","v":"Samba"},{"$nulls":8},{"$f":"Datenerfassung!$AJ55","v":"Samba"}]
[null,{"$f":"Datenerfassung!$AK54","v":"Chachacha"},{"$nulls":8},{"$f":"Datenerfassung!$AK55","v":"Chachacha"}]
[null,{"$f":"Datenerfassung!$AL54","v":"Rumba"},{"$nulls":8},{"$f":"Datenerfassung!$AL55","v":"Rumba"}]
[null,{"$f":"Datenerfassung!$AM54","v":"Paso Doble"},{"$nulls":8},{"$f":"Datenerfassung!$AM55","v":"Paso Doble"}]
[null,{"$f":"Datenerfassung!$AN54","v":"Jive"},{"$nulls":8},{"$f":"Datenerfassung!$AN55","v":"Jive"}]
[null,{"$f":"Datenerfassung!$AO54","v":"Discofox"},{"$nulls":8},{"$f":"Datenerfassung!$AO55","v":"Discofox"}]
[]
[null,"Gemäß Ausbildungsordnung des DTV wurde eine Leistung für den Lizenzerwerb (10-Tänze-Gold) erbracht.",{"$nulls":8},"Gemäß Ausbildungsordnung des DTV wurde eine Leistung für den Lizenzerwerb (10-Tänze-Gold) erbracht."]
[]
["Unterschriften Abnehmer/innen:",{"$nulls":8},"Unterschriften Abnehmer/innen:"]
[]
[]
[{"$f":"Anmeldung!$L$19","v":"00:00:00"},null,null,null,{"$f":"Anmeldung!$L$20","v":0},null,null,{"$f":"Anmeldung!$L$21","v":0},null,{"$f":"Anmeldung!$L$19","v":"00:00:00"},null,null,null,{"$f":"Anmeldung!$L$20","v":0},null,null,{"$f":"Anmeldung!$L$21","v":0}]
["Abnahmekarte für das deutsche Tanzsportabzeichen DTSA",{"$nulls":8},"Abnahmekarte für das deutsche Tanzsportabzeichen DTSA"]
[{"$f":"Anmeldung!$E$7","v":"00:00:00"},null,{"$f":"Anmeldung!$E$8","v":0},{"$nulls":4},{"$f":"\"# \"&Datenerfassung!$H56","v":"# 47"},null,{"$f":"Anmeldung!$E$7","v":"00:00:00"},null,{"$f":"Anmeldung!$E$8","v":0},{"$nulls":4},{"$f":"\"# \"&Datenerfassung!$H57","v":"# 48"}]
["Vorname",null,{"$f":"Datenerfassung!$C56","v":0},null,null,null,"Der/die Bewerber/innen erkennen mit Unterschrift die DTSA-Verleihungsbedingungen an. \n",null,null,"Vorname",null,{"$f":"Datenerfassung!$C57","v":0},null,null,null,"Der/die Bewerber/innen erkennen mit Unterschrift die DTSA-Verleihungsbedingungen an. \n"]
["Nachname",null,{"$f":"Datenerfassung!$D56","v":0},{"$nulls":6},"Nachname",null,{"$f":"Datenerfassung!$D57","v":0}]
["Verein/Schule",null,{"$f":"Datenerfassung!$G56","v":"00:00:00"},{"$nulls":6},"Verein/Schule",null,{"$f":"Datenerfassung!$G57","v":"00:00:00"}]
[]
["Medaille",null,{"$f":"Datenerfassung!$B56","v":0},{"$nulls":6},"Medaille",null,{"$f":"Datenerfassung!$B57","v":0}]
[{"$nulls":6},"Anerkennung der Bedingungen durch Unterschrift",{"$nulls":8},"Anerkennung der Bedingungen durch Unterschrift"]
[]
[" Tanz bitte eintragen/ankreuzen",null,null,"Musik","Balancen","Bewegg.-\nAblauf","X =\nbestanden","spezielle Bemerkungen (Lob/Hinweis/Kritik)\nder/des Abnehmer/in",null," Tanz bitte eintragen/ankreuzen",null,null,"Musik","Balancen","Bewegg.-\nAblauf","X =\nbestanden","spezielle Bemerkungen (Lob/Hinweis/Kritik)\nder/des Abnehmer/in"]
[null,{"$f":"Datenerfassung!$AE56","v":"Langsamer Walzer"},{"$nulls":8},{"$f":"Datenerfassung!$AE57","v":"Langsamer Walzer"}]
[null,{"$f":"Datenerfassung!$AF56","v":"Tango"},{"$nulls":8},{"$f":"Datenerfassung!$AF57","v":"Tango"}]
[null,{"$f":"Datenerfassung!$AG56","v":"Wiener Walzer"},{"$nulls":8},{"$f":"Datenerfassung!$AG57","v":"Wiener Walzer"}]
[null,{"$f":"Datenerfassung!$AH56","v":"Slowfox"},{"$nulls":8},{"$f":"Datenerfassung!$AH57","v":"Slowfox"}]
[null,{"$f":"Datenerfassung!$AI56","v":"Quickstep"},{"$nulls":8},{"$f":"Datenerfassung!$AI57","v":"Quickstep"}]
[null,{"$f":"Datenerfassung!$AJ56","v":"Samba"},{"$nulls":8},{"$f":"Datenerfassung!$AJ57","v":"Samba"}]
[null,{"$f":"Datenerfassung!$AK56","v":"Chachacha"},{"$nulls":8},{"$f":"Datenerfassung!$AK57","v":"Chachacha"}]
[null,{"$f":"Datenerfassung!$AL56","v":"Rumba"},{"$nulls":8},{"$f":"Datenerfassung!$AL57","v":"Rumba"}]
[null,{"$f":"Datenerfassung!$AM56","v":"Paso Doble"},{"$nulls":8},{"$f":"Datenerfassung!$AM57","v":"Paso Doble"}]
[null,{"$f":"Datenerfassung!$AN56","v":"Jive"},{"$nulls":8},{"$f":"Datenerfassung!$AN57","v":"Jive"}]
[null,{"$f":"Datenerfassung!$AO56","v":"Discofox"},{"$nulls":8},{"$f":"Datenerfassung!$AO57","v":"Discofox"}]
[]
[null,"Gemäß Ausbildungsordnung des DTV wurde eine Leistung für den Lizenzerwerb (10-Tänze-Gold) erbracht.",{"$nulls":8},"Gemäß Ausbildungsordnung des DTV wurde eine Leistung für den Lizenzerwerb (10-Tänze-Gold) erbracht."]
[]
["Unterschriften Abnehmer/innen:",{"$nulls":8},"Unterschriften Abnehmer/innen:"]
[]
[]
[{"$f":"Anmeldung!$L$19","v":"00:00:00"},null,null,null,{"$f":"Anmeldung!$L$20","v":0},null,null,{"$f":"Anmeldung!$L$21","v":0},null,{"$f":"Anmeldung!$L$19","v":"00:00:00"},null,null,null,{"$f":"Anmeldung!$L$20","v":0},null,null,{"$f":"Anmeldung!$L$21","v":0}]
["Abnahmekarte für das deutsche Tanzsportabzeichen DTSA",{"$nulls":8},"Abnahmekarte für das deutsche Tanzsportabzeichen DTSA"]
[{"$f":"Anmeldung!$E$7","v":"00:00:00"},null,{"$f":"Anmeldung!$E$8","v":0},{"$nulls":4},{"$f":"\"# \"&Datenerfassung!$H58","v":"# 49"},null,{"$f":"Anmeldung!$E$7","v":"00:00:00"},null,{"$f":"Anmeldung!$E$8","v":0},{"$nulls":4},{"$f":"\"# \"&Datenerfassung!$H59","v":"# 50"}]
["Vorname",null,{"$f":"Datenerfassung!$C58","v":0},null,null,null,"Der/die Bewerber/innen erkennen mit Unterschrift die DTSA-Verleihungsbedingungen an. \n",null,null,"Vorname",null,{"$f":"Datenerfassung!$C59","v":0},null,null,null,"Der/die Bewerber/innen erkennen mit Unterschrift die DTSA-Verleihungsbedingungen an. \n"]
["Nachname",null,{"$f":"Datenerfassung!$D58","v":0},{"$nulls":6},"Nachname",null,{"$f":"Datenerfassung!$D59","v":0}]
["Verein/Schule",null,{"$f":"Datenerfassung!$G58","v":"00:00:00"},{"$nulls":6},"Verein/Schule",null,{"$f":"Datenerfassung!$G59","v":"00:00:00"}]
[]
["Medaille",null,{"$f":"Datenerfassung!$B58","v":0},{"$nulls":6},"Medaille",null,{"$f":"Datenerfassung!$B59","v":0}]
[{"$nulls":6},"Anerkennung der Bedingungen durch Unterschrift",{"$nulls":8},"Anerkennung der Bedingungen durch Unterschrift"]
[]
[" Tanz bitte eintragen/ankreuzen",null,null,"Musik","Balancen","Bewegg.-\nAblauf","X =\nbestanden","spezielle Bemerkungen (Lob/Hinweis/Kritik)\nder/des Abnehmer/in",null," Tanz bitte eintragen/ankreuzen",null,null,"Musik","Balancen","Bewegg.-\nAblauf","X =\nbestanden","spezielle Bemerkungen (Lob/Hinweis/Kritik)\nder/des Abnehmer/in"]
[null,{"$f":"Datenerfassung!$AE58","v":"Langsamer Walzer"},{"$nulls":8},{"$f":"Datenerfassung!$AE59","v":"Langsamer Walzer"}]
[null,{"$f":"Datenerfassung!$AF58","v":"Tango"},{"$nulls":8},{"$f":"Datenerfassung!$AF59","v":"Tango"}]
[null,{"$f":"Datenerfassung!$AG58","v":"Wiener Walzer"},{"$nulls":8},{"$f":"Datenerfassung!$AG59","v":"Wiener Walzer"}]
[null,{"$f":"Datenerfassung!$AH58","v":"Slowfox"},{"$nulls":8},{"$f":"Datenerfassung!$AH59","v":"Slowfox"}]
[null,{"$f":"Datenerfassung!$AI58","v":"Quickstep"},{"$nulls":8},{"$f":"Datenerfassung!$AI59","v":"Quickstep"}]
[null,{"$f":"Datenerfassung!$AJ58","v":"Samba"},{"$nulls":8},{"$f":"Datenerfassung!$AJ59","v":"Samba"}]
[null,{"$f":"Datenerfassung!$AK58","v":"Chachacha"},{"$nulls":8},{"$f":"Datenerfassung!$AK59","v":"Chachacha"}]
[null,{"$f":"Datenerfassung!$AL58","v":"Rumba"},{"$nulls":8},{"$f":"Datenerfassung!$AL59","v":"Rumba"}]
[null,{"$f":"Datenerfassung!$AM58","v":"Paso Doble"},{"$nulls":8},{"$f":"Datenerfassung!$AM59","v":"Paso Doble"}]
[null,{"$f":"Datenerfassung!$AN58","v":"Jive"},{"$nulls":8},{"$f":"Datenerfassung!$AN59","v":"Jive"}]
[null,{"$f":"Datenerfassung!$AO58","v":"Discofox"},{"$nulls":8},{"$f":"Datenerfassung!$AO59","v":"Discofox"}]
[]
[null,"Gemäß Ausbildungsordnung des DTV wurde eine Leistung für den Lizenzerwerb (10-Tänze-Gold) erbracht.",{"$nulls":8},"Gemäß Ausbildungsordnung des DTV wurde eine Leistung für den Lizenzerwerb (10-Tänze-Gold) erbracht."]
[]
["Unterschriften Abnehmer/innen:",{"$nulls":8},"Unterschriften Abnehmer/innen:"]
[]
[]
[{"$f":"Anmeldung!$L$19","v":"00:00:00"},null,null,null,{"$f":"Anmeldung!$L$20","v":0},null,null,{"$f":"Anmeldung!$L$21","v":0},null,{"$f":"Anmeldung!$L$19","v":"00:00:00"},null,null,null,{"$f":"Anmeldung!$L$20","v":0},null,null,{"$f":"Anmeldung!$L$21","v":0}]
["Abnahmekarte für das deutsche Tanzsportabzeichen DTSA",{"$nulls":8},"Abnahmekarte für das deutsche Tanzsportabzeichen DTSA"]
[{"$f":"Anmeldung!$E$7","v":"00:00:00"},null,{"$f":"Anmeldung!$E$8","v":0},{"$nulls":4},{"$f":"\"# \"&Datenerfassung!$H60","v":"# 51"},null,{"$f":"Anmeldung!$E$7","v":"00:00:00"},null,{"$f":"Anmeldung!$E$8","v":0},{"$nulls":4},{"$f":"\"# \"&Datenerfassung!$H61","v":"# 52"}]
["Vorname",null,{"$f":"Datenerfassung!$C60","v":0},null,null,null,"Der/die Bewerber/innen erkennen mit Unterschrift die DTSA-Verleihungsbedingungen an. \n",null,null,"Vorname",null,{"$f":"Datenerfassung!$C61","v":0},null,null,null,"Der/die Bewerber/innen erkennen mit Unterschrift die DTSA-Verleihungsbedingungen an. \n"]
["Nachname",null,{"$f":"Datenerfassung!$D60","v":0},{"$nulls":6},"Nachname",null,{"$f":"Datenerfassung!$D61","v":0}]
["Verein/Schule",null,{"$f":"Datenerfassung!$G60","v":"00:00:00"},{"$nulls":6},"Verein/Schule",null,{"$f":"Datenerfassung!$G61","v":"00:00:00"}]
[]
["Medaille",null,{"$f":"Datenerfassung!$B60","v":0},{"$nulls":6},"Medaille",null,{"$f":"Datenerfassung!$B61","v":0}]
[{"$nulls":6},"Anerkennung der Bedingungen durch Unterschrift",{"$nulls":8},"Anerkennung der Bedingungen durch Unterschrift"]
[]
[" Tanz bitte eintragen/ankreuzen",null,null,"Musik","Balancen","Bewegg.-\nAblauf","X =\nbestanden","spezielle Bemerkungen (Lob/Hinweis/Kritik)\nder/des Abnehmer/in",null," Tanz bitte eintragen/ankreuzen",null,null,"Musik","Balancen","Bewegg.-\nAblauf","X =\nbestanden","spezielle Bemerkungen (Lob/Hinweis/Kritik)\nder/des Abnehmer/in"]
[null,{"$f":"Datenerfassung!$AE60","v":"Langsamer Walzer"},{"$nulls":8},{"$f":"Datenerfassung!$AE61","v":"Langsamer Walzer"}]
[null,{"$f":"Datenerfassung!$AF60","v":"Tango"},{"$nulls":8},{"$f":"Datenerfassung!$AF61","v":"Tango"}]
[null,{"$f":"Datenerfassung!$AG60","v":"Wiener Walzer"},{"$nulls":8},{"$f":"Datenerfassung!$AG61","v":"Wiener Walzer"}]
[null,{"$f":"Datenerfassung!$AH60","v":"Slowfox"},{"$nulls":8},{"$f":"Datenerfassung!$AH61","v":"Slowfox"}]
[null,{"$f":"Datenerfassung!$AI60","v":"Quickstep"},{"$nulls":8},{"$f":"Datenerfassung!$AI61","v":"Quickstep"}]
[null,{"$f":"Datenerfassung!$AJ60","v":"Samba"},{"$nulls":8},{"$f":"Datenerfassung!$AJ61","v":"Samba"}]
[null,{"$f":"Datenerfassung!$AK60","v":"Chachacha"},{"$nulls":8},{"$f":"Datenerfassung!$AK61","v":"Chachacha"}]
[null,{"$f":"Datenerfassung!$AL60","v":"Rumba"},{"$nulls":8},{"$f":"Datenerfassung!$AL61","v":"Rumba"}]
[null,{"$f":"Datenerfassung!$AM60","v":"Paso Doble"},{"$nulls":8},{"$f":"Datenerfassung!$AM61","v":"Paso Doble"}]
[null,{"$f":"Datenerfassung!$AN60","v":"Jive"},{"$nulls":8},{"$f":"Datenerfassung!$AN61","v":"Jive"}]
[null,{"$f":"Datenerfassung!$AO60","v":"Discofox"},{"$nulls":8},{"$f":"Datenerfassung!$AO61","v":"Discofox"}]
[]
[null,"Gemäß Ausbildungsordnung des DTV wurde eine Leistung für den Lizenzerwerb (10-Tänze-Gold) erbracht.",{"$nulls":8},"Gemäß Ausbildungsordnung des DTV wurde eine Leistung für den Lizenzerwerb (10-Tänze-Gold) erbracht."]
[]
["Unterschriften Abnehmer/innen:",{"$nulls":8},"Unterschriften Abnehmer/innen:"]
[]
[]
[{"$f":"Anmeldung!$L$19","v":"00:00:00"},null,null,null,{"$f":"Anmeldung!$L$20","v":0},null,null,{"$f":"Anmeldung!$L$21","v":0},null,{"$f":"Anmeldung!$L$19","v":"00:00:00"},null,null,null,{"$f":"Anmeldung!$L$20","v":0},null,null,{"$f":"Anmeldung!$L$21","v":0}]
["Abnahmekarte für das deutsche Tanzsportabzeichen DTSA",{"$nulls":8},"Abnahmekarte für das deutsche Tanzsportabzeichen DTSA"]
[{"$f":"Anmeldung!$E$7","v":"00:00:00"},null,{"$f":"Anmeldung!$E$8","v":0},{"$nulls":4},{"$f":"\"# \"&Datenerfassung!$H62","v":"# 53"},null,{"$f":"Anmeldung!$E$7","v":"00:00:00"},null,{"$f":"Anmeldung!$E$8","v":0},{"$nulls":4},{"$f":"\"# \"&Datenerfassung!$H63","v":"# 54"}]
["Vorname",null,{"$f":"Datenerfassung!$C62","v":0},null,null,null,"Der/die Bewerber/innen erkennen mit Unterschrift die DTSA-Verleihungsbedingungen an. \n",null,null,"Vorname",null,{"$f":"Datenerfassung!$C63","v":0},null,null,null,"Der/die Bewerber/innen erkennen mit Unterschrift die DTSA-Verleihungsbedingungen an. \n"]
["Nachname",null,{"$f":"Datenerfassung!$D62","v":0},{"$nulls":6},"Nachname",null,{"$f":"Datenerfassung!$D63","v":0}]
["Verein/Schule",null,{"$f":"Datenerfassung!$G62","v":"00:00:00"},{"$nulls":6},"Verein/Schule",null,{"$f":"Datenerfassung!$G63","v":"00:00:00"}]
[]
["Medaille",null,{"$f":"Datenerfassung!$B62","v":0},{"$nulls":6},"Medaille",null,{"$f":"Datenerfassung!$B63","v":0}]
[{"$nulls":6},"Anerkennung der Bedingungen durch Unterschrift",{"$nulls":8},"Anerkennung der Bedingungen durch Unterschrift"]
[]
[" Tanz bitte eintragen/ankreuzen",null,null,"Musik","Balancen","Bewegg.-\nAblauf","X =\nbestanden","spezielle Bemerkungen (Lob/Hinweis/Kritik)\nder/des Abnehmer/in",null," Tanz bitte eintragen/ankreuzen",null,null,"Musik","Balancen","Bewegg.-\nAblauf","X =\nbestanden","spezielle Bemerkungen (Lob/Hinweis/Kritik)\nder/des Abnehmer/in"]
[null,{"$f":"Datenerfassung!$AE62","v":"Langsamer Walzer"},{"$nulls":8},{"$f":"Datenerfassung!$AE63","v":"Langsamer Walzer"}]
[null,{"$f":"Datenerfassung!$AF62","v":"Tango"},{"$nulls":8},{"$f":"Datenerfassung!$AF63","v":"Tango"}]
[null,{"$f":"Datenerfassung!$AG62","v":"Wiener Walzer"},{"$nulls":8},{"$f":"Datenerfassung!$AG63","v":"Wiener Walzer"}]
[null,{"$f":"Datenerfassung!$AH62","v":"Slowfox"},{"$nulls":8},{"$f":"Datenerfassung!$AH63","v":"Slowfox"}]
[null,{"$f":"Datenerfassung!$AI62","v":"Quickstep"},{"$nulls":8},{"$f":"Datenerfassung!$AI63","v":"Quickstep"}]
[null,{"$f":"Datenerfassung!$AJ62","v":"Samba"},{"$nulls":8},{"$f":"Datenerfassung!$AJ63","v":"Samba"}]
[null,{"$f":"Datenerfassung!$AK62","v":"Chachacha"},{"$nulls":8},{"$f":"Datenerfassung!$AK63","v":"Chachacha"}]
[null,{"$f":"Datenerfassung!$AL62","v":"Rumba"},{"$nulls":8},{"$f":"Datenerfassung!$AL63","v":"Rumba"}]
[null,{"$f":"Datenerfassung!$AM62","v":"Paso Doble"},{"$nulls":8},{"$f":"Datenerfassung!$AM63","v":"Paso Doble"}]
[null,{"$f":"Datenerfassung!$AN62","v":"Jive"},{"$nulls":8},{"$f":"Datenerfassung!$AN63","v":"Jive"}]
[null,{"$f":"Datenerfassung!$AO62","v":"Discofox"},{"$nulls":8},{"$f":"Datenerfassung!$AO63","v":"Discofox"}]
[]
[null,"Gemäß Ausbildungsordnung des DTV wurde eine Leistung für den Lizenzerwerb (10-Tänze-Gold) erbracht.",{"$nulls":8},"Gemäß Ausbildungsordnung des DTV wurde eine Leistung für den Lizenzerwerb (10-Tänze-Gold) erbracht."]
[]
["Unterschriften Abnehmer/innen:",{"$nulls":8},"Unterschriften Abnehmer/innen:"]
[]
[]
[{"$f":"Anmeldung!$L$19","v":"00:00:00"},null,null,null,{"$f":"Anmeldung!$L$20","v":0},null,null,{"$f":"Anmeldung!$L$21","v":0},null,{"$f":"Anmeldung!$L$19","v":"00:00:00"},null,null,null,{"$f":"Anmeldung!$L$20","v":0},null,null,{"$f":"Anmeldung!$L$21","v":0}]
["Abnahmekarte für das deutsche Tanzsportabzeichen DTSA",{"$nulls":8},"Abnahmekarte für das deutsche Tanzsportabzeichen DTSA"]
[{"$f":"Anmeldung!$E$7","v":"00:00:00"},null,{"$f":"Anmeldung!$E$8","v":0},{"$nulls":4},{"$f":"\"# \"&Datenerfassung!$H64","v":"# 55"},null,{"$f":"Anmeldung!$E$7","v":"00:00:00"},null,{"$f":"Anmeldung!$E$8","v":0},{"$nulls":4},{"$f":"\"# \"&Datenerfassung!$H65","v":"# 56"}]
["Vorname",null,{"$f":"Datenerfassung!$C64","v":0},null,null,null,"Der/die Bewerber/innen erkennen mit Unterschrift die DTSA-Verleihungsbedingungen an. \n",null,null,"Vorname",null,{"$f":"Datenerfassung!$C65","v":0},null,null,null,"Der/die Bewerber/innen erkennen mit Unterschrift die DTSA-Verleihungsbedingungen an. \n"]
["Nachname",null,{"$f":"Datenerfassung!$D64","v":0},{"$nulls":6},"Nachname",null,{"$f":"Datenerfassung!$D65","v":0}]
["Verein/Schule",null,{"$f":"Datenerfassung!$G64","v":"00:00:00"},{"$nulls":6},"Verein/Schule",null,{"$f":"Datenerfassung!$G65","v":"00:00:00"}]
[]
["Medaille",null,{"$f":"Datenerfassung!$B64","v":0},{"$nulls":6},"Medaille",null,{"$f":"Datenerfassung!$B65","v":0}]
[{"$nulls":6},"Anerkennung der Bedingungen durch Unterschrift",{"$nulls":8},"Anerkennung der Bedingungen durch Unterschrift"]
[]
[" Tanz bitte eintragen/ankreuzen",null,null,"Musik","Balancen","Bewegg.-\nAblauf","X =\nbestanden","spezielle Bemerkungen (Lob/Hinweis/Kritik)\nder/des Abnehmer/in",null," Tanz bitte eintragen/ankreuzen",null,null,"Musik","Balancen","Bewegg.-\nAblauf","X =\nbestanden","spezielle Bemerkungen (Lob/Hinweis/Kritik)\nder/des Abnehmer/in"]
[null,{"$f":"Datenerfassung!$AE64","v":"Langsamer Walzer"},{"$nulls":8},{"$f":"Datenerfassung!$AE65","v":"Langsamer Walzer"}]
[null,{"$f":"Datenerfassung!$AF64","v":"Tango"},{"$nulls":8},{"$f":"Datenerfassung!$AF65","v":"Tango"}]
[null,{"$f":"Datenerfassung!$AG64","v":"Wiener Walzer"},{"$nulls":8},{"$f":"Datenerfassung!$AG65","v":"Wiener Walzer"}]
[null,{"$f":"Datenerfassung!$AH64","v":"Slowfox"},{"$nulls":8},{"$f":"Datenerfassung!$AH65","v":"Slowfox"}]
[null,{"$f":"Datenerfassung!$AI64","v":"Quickstep"},{"$nulls":8},{"$f":"Datenerfassung!$AI65","v":"Quickstep"}]
[null,{"$f":"Datenerfassung!$AJ64","v":"Samba"},{"$nulls":8},{"$f":"Datenerfassung!$AJ65","v":"Samba"}]
[null,{"$f":"Datenerfassung!$AK64","v":"Chachacha"},{"$nulls":8},{"$f":"Datenerfassung!$AK65","v":"Chachacha"}]
[null,{"$f":"Datenerfassung!$AL64","v":"Rumba"},{"$nulls":8},{"$f":"Datenerfassung!$AL65","v":"Rumba"}]
[null,{"$f":"Datenerfassung!$AM64","v":"Paso Doble"},{"$nulls":8},{"$f":"Datenerfassung!$AM65","v":"Paso Doble"}]
[null,{"$f":"Datenerfassung!$AN64","v":"Jive"},{"$nulls":8},{"$f":"Datenerfassung!$AN65","v":"Jive"}]
[null,{"$f":"Datenerfassung!$AO64","v":"Discofox"},{"$nulls":8},{"$f":"Datenerfassung!$AO65","v":"Discofox"}]
[]
[null,"Gemäß Ausbildungsordnung des DTV wurde eine Leistung für den Lizenzerwerb (10-Tänze-Gold) erbracht.",{"$nulls":8},"Gemäß Ausbildungsordnung des DTV wurde eine Leistung für den Lizenzerwerb (10-Tänze-Gold) erbracht."]
[]
["Unterschriften Abnehmer/innen:",{"$nulls":8},"Unterschriften Abnehmer/innen:"]
[]
[]
[{"$f":"Anmeldung!$L$19","v":"00:00:00"},null,null,null,{"$f":"Anmeldung!$L$20","v":0},null,null,{"$f":"Anmeldung!$L$21","v":0},null,{"$f":"Anmeldung!$L$19","v":"00:00:00"},null,null,null,{"$f":"Anmeldung!$L$20","v":0},null,null,{"$f":"Anmeldung!$L$21","v":0}]
["Abnahmekarte für das deutsche Tanzsportabzeichen DTSA",{"$nulls":8},"Abnahmekarte für das deutsche Tanzsportabzeichen DTSA"]
[{"$f":"Anmeldung!$E$7","v":"00:00:00"},null,{"$f":"Anmeldung!$E$8","v":0},{"$nulls":4},{"$f":"\"# \"&Datenerfassung!$H66","v":"# 57"},null,{"$f":"Anmeldung!$E$7","v":"00:00:00"},null,{"$f":"Anmeldung!$E$8","v":0},{"$nulls":4},{"$f":"\"# \"&Datenerfassung!$H67","v":"# 58"}]
["Vorname",null,{"$f":"Datenerfassung!$C66","v":0},null,null,null,"Der/die Bewerber/innen erkennen mit Unterschrift die DTSA-Verleihungsbedingungen an. \n",null,null,"Vorname",null,{"$f":"Datenerfassung!$C67","v":0},null,null,null,"Der/die Bewerber/innen erkennen mit Unterschrift die DTSA-Verleihungsbedingungen an. \n"]
["Nachname",null,{"$f":"Datenerfassung!$D66","v":0},{"$nulls":6},"Nachname",null,{"$f":"Datenerfassung!$D67","v":0}]
["Verein/Schule",null,{"$f":"Datenerfassung!$G66","v":"00:00:00"},{"$nulls":6},"Verein/Schule",null,{"$f":"Datenerfassung!$G67","v":"00:00:00"}]
[]
["Medaille",null,{"$f":"Datenerfassung!$B66","v":0},{"$nulls":6},"Medaille",null,{"$f":"Datenerfassung!$B67","v":0}]
[{"$nulls":6},"Anerkennung der Bedingungen durch Unterschrift",{"$nulls":8},"Anerkennung der Bedingungen durch Unterschrift"]
[]
[" Tanz bitte eintragen/ankreuzen",null,null,"Musik","Balancen","Bewegg.-\nAblauf","X =\nbestanden","spezielle Bemerkungen (Lob/Hinweis/Kritik)\nder/des Abnehmer/in",null," Tanz bitte eintragen/ankreuzen",null,null,"Musik","Balancen","Bewegg.-\nAblauf","X =\nbestanden","spezielle Bemerkungen (Lob/Hinweis/Kritik)\nder/des Abnehmer/in"]
[null,{"$f":"Datenerfassung!$AE66","v":"Langsamer Walzer"},{"$nulls":8},{"$f":"Datenerfassung!$AE67","v":"Langsamer Walzer"}]
[null,{"$f":"Datenerfassung!$AF66","v":"Tango"},{"$nulls":8},{"$f":"Datenerfassung!$AF67","v":"Tango"}]
[null,{"$f":"Datenerfassung!$AG66","v":"Wiener Walzer"},{"$nulls":8},{"$f":"Datenerfassung!$AG67","v":"Wiener Walzer"}]
[null,{"$f":"Datenerfassung!$AH66","v":"Slowfox"},{"$nulls":8},{"$f":"Datenerfassung!$AH67","v":"Slowfox"}]
[null,{"$f":"Datenerfassung!$AI66","v":"Quickstep"},{"$nulls":8},{"$f":"Datenerfassung!$AI67","v":"Quickstep"}]
[null,{"$f":"Datenerfassung!$AJ66","v":"Samba"},{"$nulls":8},{"$f":"Datenerfassung!$AJ67","v":"Samba"}]
[null,{"$f":"Datenerfassung!$AK66","v":"Chachacha"},{"$nulls":8},{"$f":"Datenerfassung!$AK67","v":"Chachacha"}]
[null,{"$f":"Datenerfassung!$AL66","v":"Rumba"},{"$nulls":8},{"$f":"Datenerfassung!$AL67","v":"Rumba"}]
[null,{"$f":"Datenerfassung!$AM66","v":"Paso Doble"},{"$nulls":8},{"$f":"Datenerfassung!$AM67","v":"Paso Doble"}]
[null,{"$f":"Datenerfassung!$AN66","v":"Jive"},{"$nulls":8},{"$f":"Datenerfassung!$AN67","v":"Jive"}]
[null,{"$f":"Datenerfassung!$AO66","v":"Discofox"},{"$nulls":8},{"$f":"Datenerfassung!$AO67","v":"Discofox"}]
[]
[null,"Gemäß Ausbildungsordnung des DTV wurde eine Leistung für den Lizenzerwerb (10-Tänze-Gold) erbracht.",{"$nulls":8},"Gemäß Ausbildungsordnung des DTV wurde eine Leistung für den Lizenzerwerb (10-Tänze-Gold) erbracht."]
[]
["Unterschriften Abnehmer/innen:",{"$nulls":8},"Unterschriften Abnehmer/innen:"]
[]
[]
[{"$f":"Anmeldung!$L$19","v":"00:00:00"},null,null,null,{"$f":"Anmeldung!$L$20","v":0},null,null,{"$f":"Anmeldung!$L$21","v":0},null,{"$f":"Anmeldung!$L$19","v":"00:00:00"},null,null,null,{"$f":"Anmeldung!$L$20","v":0},null,null,{"$f":"Anmeldung!$L$21","v":0}]
["Abnahmekarte für das deutsche Tanzsportabzeichen DTSA",{"$nulls":8},"Abnahmekarte für das deutsche Tanzsportabzeichen DTSA"]
[{"$f":"Anmeldung!$E$7","v":"00:00:00"},null,{"$f":"Anmeldung!$E$8","v":0},{"$nulls":4},{"$f":"\"# \"&Datenerfassung!$H68","v":"# 59"},null,{"$f":"Anmeldung!$E$7","v":"00:00:00"},null,{"$f":"Anmeldung!$E$8","v":0},{"$nulls":4},{"$f":"\"# \"&Datenerfassung!$H69","v":"# 60"}]
["Vorname",null,{"$f":"Datenerfassung!$C68","v":0},null,null,null,"Der/die Bewerber/innen erkennen mit Unterschrift die DTSA-Verleihungsbedingungen an. \n",null,null,"Vorname",null,{"$f":"Datenerfassung!$C69","v":0},null,null,null,"Der/die Bewerber/innen erkennen mit Unterschrift die DTSA-Verleihungsbedingungen an. \n"]
["Nachname",null,{"$f":"Datenerfassung!$D68","v":0},{"$nulls":6},"Nachname",null,{"$f":"Datenerfassung!$D69","v":0}]
["Verein/Schule",null,{"$f":"Datenerfassung!$G68","v":"00:00:00"},{"$nulls":6},"Verein/Schule",null,{"$f":"Datenerfassung!$G69","v":"00:00:00"}]
[]
["Medaille",null,{"$f":"Datenerfassung!$B68","v":0},{"$nulls":6},"Medaille",null,{"$f":"Datenerfassung!$B69","v":0}]
[{"$nulls":6},"Anerkennung der Bedingungen durch Unterschrift",{"$nulls":8},"Anerkennung der Bedingungen durch Unterschrift"]
[]
[" Tanz bitte eintragen/ankreuzen",null,null,"Musik","Balancen","Bewegg.-\nAblauf","X =\nbestanden","spezielle Bemerkungen (Lob/Hinweis/Kritik)\nder/des Abnehmer/in",null," Tanz bitte eintragen/ankreuzen",null,null,"Musik","Balancen","Bewegg.-\nAblauf","X =\nbestanden","spezielle Bemerkungen (Lob/Hinweis/Kritik)\nder/des Abnehmer/in"]
[null,{"$f":"Datenerfassung!$AE68","v":"Langsamer Walzer"},{"$nulls":8},{"$f":"Datenerfassung!$AE69","v":"Langsamer Walzer"}]
[null,{"$f":"Datenerfassung!$AF68","v":"Tango"},{"$nulls":8},{"$f":"Datenerfassung!$AF69","v":"Tango"}]
[null,{"$f":"Datenerfassung!$AG68","v":"Wiener Walzer"},{"$nulls":8},{"$f":"Datenerfassung!$AG69","v":"Wiener Walzer"}]
[null,{"$f":"Datenerfassung!$AH68","v":"Slowfox"},{"$nulls":8},{"$f":"Datenerfassung!$AH69","v":"Slowfox"}]
[null,{"$f":"Datenerfassung!$AI68","v":"Quickstep"},{"$nulls":8},{"$f":"Datenerfassung!$AI69","v":"Quickstep"}]
[null,{"$f":"Datenerfassung!$AJ68","v":"Samba"},{"$nulls":8},{"$f":"Datenerfassung!$AJ69","v":"Samba"}]
[null,{"$f":"Datenerfassung!$AK68","v":"Chachacha"},{"$nulls":8},{"$f":"Datenerfassung!$AK69","v":"Chachacha"}]
[null,{"$f":"Datenerfassung!$AL68","v":"Rumba"},{"$nulls":8},{"$f":"Datenerfassung!$AL69","v":"Rumba"}]
[null,{"$f":"Datenerfassung!$AM68","v":"Paso Doble"},{"$nulls":8},{"$f":"Datenerfassung!$AM69","v":"Paso Doble"}]
[null,{"$f":"Datenerfassung!$AN68","v":"Jive"},{"$nulls":8},{"$f":"Datenerfassung!$AN69","v":"Jive"}]
[null,{"$f":"Datenerfassung!$AO68","v":"Discofox"},{"$nulls":8},{"$f":"Datenerfassung!$AO69","v":"Discofox"}]
[]
[null,"Gemäß Ausbildungsordnung des DTV wurde eine Leistung für den Lizenzerwerb (10-Tänze-Gold) erbracht.",{"$nulls":8},"Gemäß Ausbildungsordnung des DTV wurde eine Leistung für den Lizenzerwerb (10-Tänze-Gold) erbracht."]
[]
["Unterschriften Abnehmer/innen:",{"$nulls":8},"Unterschriften Abnehmer/innen:"]
[]
[]
[{"$f":"Anmeldung!$L$19","v":"00:00:00"},null,null,null,{"$f":"Anmeldung!$L$20","v":0},null,null,{"$f":"Anmeldung!$L$21","v":0},null,{"$f":"Anmeldung!$L$19","v":"00:00:00"},null,null,null,{"$f":"Anmeldung!$L$20","v":0},null,null,{"$f":"Anmeldung!$L$21","v":0}]

{"sheet":"Einzel 61-80","index":6,"n_rows":280,"n_cols":17,"rows_kept":280,"cut":false,"hidden":false,"merged":[[4,2,4,5],[4,11,4,14],[6,2,6,5],[6,6,6,7],[6,11,6,14],[1,0,1,1],[1,2,1,6],[1,9,1,10],[1,11,1,15],[2,2,2,5],[2,6,4,7],[2,11,2,14],[2,15,4,16],[3,2,3,5],[3,11,3,14],[11,1,11,2],[11,10,11,11],[12,1,12,2],[12,10,12,11],[13,1,13,2],[13,10,13,11],[6,15,6,16],[7,2,7,5],[7,11,7,14],[9,0,9,2],[9,9,9,11],[10,1,10,2],[10,10,10,11],[17,1,17,2],[17,10,17,11],[18,1,18,2],[18,10,18,11],[19,1,19,2],[19,10,19,11],[14,1,14,2],[14,10,14,11],[15,1,15,2],[15,10,15,11],[16,1,16,2],[16,10,16,11],[27,4,27,6],[27,13,27,15],[29,0,29,1],[29,2,29,6],[29,9,29,10],[29,11,29,15],[20,1,20,2],[20,10,20,11],[22,1,22,7],[22,10,22,16],[24,0,24,7],[24,9,24,16],[34,15,34,16],[35,2,35,5],[35,11,35,14],[30,2,30,5],[30,6,32,7],[30,11,30,14],[30,15,32,16],[31,2,31,5],[31,11,31,14],[32,2,32,5],[32,11,32,14],[37,0,37,2],[37,9,37,11],[38,1,38,2],[38,10,38,11],[39,1,39,2],[39,10,39,11],[34,2,34,5],[34,6,34,7],[34,11,34,14],[43,1,43,2],[43,10,43,11],[44,1,44,2],[44,10,44,11],[45,1,45,2],[45,10,45,11],[40,1,40,2],[40,10,40,11],[41,1,41,2],[41,10,41,11],[42,1,42,2],[42,10,42,11],[50,1,50,7],[50,10,50,16],[52,0,52,7],[52,9,52,16],[55,4,55,6],[55,13,55,15],[46,1,46,2],[46,10,46,11],[47,1,47,2],[47,10,47,11],[48,1,48,2],[48,10,48,11],[60,2,60,5],[60,11,60,14],[62,2,62,5],[62,6,62,7],[62,11,62,14],[57,0,57,1],[57,2,57,6],[57,9,57,10],[57,11,57,15],[58,2,58,5],[58,6,60,7],[58,11,58,14],[58,15,60,16],[59,2,59,5],[59,11,59,14],[67,1,67,2],[67,10,67,11],[68,1,68,2],[68,10,68,11],[69,1,69,2],[69,10,69,11],[62,15,62,16],[63,2,63,5],[63,11,63,14],[65,0,65,2],[65,9,65,11],[66,1,66,2],[66,10,66,11],[73,1,73,2],[73,10,73,11],[74,1,74,2],[74,10,74,11],[75,1,75,2],[75,10,75,11],[70,1,70,2],[70,10,70,11],[71,1,71,2],[71,10,71,11],[72,1,72,2],[72,10,72,11],[83,4,83,6],[83,13,83,15],[85,0,85,1],[85,2,85,6],[85,9,85,10],[85,11,85,15],[76,1,76,2],[76,10,76,11],[78,1,78,7],[78,10,78,16],[80,0,80,7],[80,9,80,16],[90,15,90,16],[91,2,91,5],[91,11,91,14],[86,2,86,5],[86,6,88,7],[86,11,86,14],[86,15,88,16],[87,2,87,5],[87,11,87,14],[88,2,88,5],[88,11,88,14],[93,0,93,2],[93,9,93,11],[94,1,94,2],[94,10,94,11],[95,1,95,2],[95,10,95,11],[90,2,90,5],[90,6,90,7],[90,11,90,14],[99,1,99,2],[99,10,99,11],[100,1,100,2],[100,10,100,11],[101,1,101,2],[101,10,101,11],[96,1,96,2],[96,10,96,11],[97,1,97,2],[97,10,97,11],[98,1,98,2],[98,10,98,11],[106,1,106,7],[106,10,106,16],[108,0,108,7],[108,9,108,16],[111,4,111,6],[111,13,111,15],[102,1,102,2],[102,10,102,11],[103,1,103,2],[103,10,103,11],[104,1,104,2],[104,10,104,11],[116,2,116,5],[116,11,116,14],[118,2,118,5],[118,6,118,7],[118,11,118,14],[113,0,113,1],[113,2,113,6],[113,9,113,10],[113,11,113,15],[114,2,114,5],[114,6,116,7],[114,11,114,14],[114,15,116,16],[115,2,115,5],[115,11,115,14],[123,1,123,2],[123,10,123,11],[124,1,124,2],[124,10,124,11],[125,1,125,2],[125,10,125,11],[118,15,118,16],[119,2,119,5],[119,11,119,14],[121,0,121,2],[121,9,121,11],[122,1,122,2],[122,10,122,11],[129,1,129,2],[129,10,129,11],[130,1,130,2],[130,10,130,11],[131,1,131,2],[131,10,131,11],[126,1,126,2],[126,10,126,11],[127,1,127,2],[127,10,127,11],[128,1,128,2],[128,10,128,11],[139,4,139,6],[139,13,139,15],[141,0,141,1],[141,2,141,6],[141,9,141,10],[141,11,141,15],[132,1,132,2],[132,10,132,11],[134,1,134,7],[134,10,134,16],[136,0,136,7],[136,9,136,16],[146,15,146,16],[147,2,147,5],[147,11,147,14],[142,2,142,5],[142,6,144,7],[142,11,142,14],[142,15,144,16],[143,2,143,5],[143,11,143,14],[144,2,144,5],[144,11,144,14],[149,0,149,2],[149,9,149,11],[150,1,150,2],[150,10,150,11],[151,1,151,2],[151,10,151,11],[146,2,146,5],[146,6,146,7],[146,11,146,14],[155,1,155,2],[155,10,155,11],[156,1,156,2],[156,10,156,11],[157,1,157,2],[157,10,157,11],[152,1,152,2],[152,10,152,11],[153,1,153,2],[153,10,153,11],[154,1,154,2],[154,10,154,11],[162,1,162,7],[162,10,162,16],[164,0,164,7],[164,9,164,16],[167,4,167,6],[167,13,167,15],[158,1,158,2],[158,10,158,11],[159,1,159,2],[159,10,159,11],[160,1,160,2],[160,10,160,11],[172,2,172,5],[172,11,172,14],[174,2,174,5],[174,6,174,7],[174,11,174,14],[169,0,169,1],[169,2,169,6],[169,9,169,10],[169,11,169,15],[170,2,170,5],[170,6,172,7],[170,11,170,14],[170,15,172,16],[171,2,171,5],[171,11,171,14],[179,1,179,2],[179,10,179,11],[180,1,180,2],[180,10,180,11],[181,1,181,2],[181,10,181,11],[174,15,174,16],[175,2,175,5],[175,11,175,14],[177,0,177,2],[177,9,177,11],[178,1,178,2],[178,10,178,11],[185,1,185,2],[185,10,185,11],[186,1,186,2],[186,10,186,11],[187,1,187,2],[187,10,187,11],[182,1,182,2],[182,10,182,11],[183,1,183,2],[183,10,183,11],[184,1,184,2],[184,10,184,11],[195,4,195,6],[195,13,195,15],[197,0,197,1],[197,2,197,6],[197,9,197,10],[197,11,197,15],[188,1,188,2],[188,10,188,11],[190,1,190,7],[190,10,190,16],[192,0,192,7],[192,9,192,16],[202,15,202,16],[203,2,203,5],[203,11,203,14],[198,2,198,5],[198,6,200,7],[198,11,198,14],[198,15,200,16],[199,2,199,5],[199,11,199,14],[200,2,200,5],[200,11,200,14],[205,0,205,2],[205,9,205,11],[206,1,206,2],[206,10,206,11],[207,1,207,2],[207,10,207,11],[202,2,202,5],[202,6,202,7],[202,11,202,14],[211,1,211,2],[211,10,211,11],[212,1,212,2],[212,10,212,11],[213,1,213,2],[213,10,213,11],[208,1,208,2],[208,10,208,11],[209,1,209,2],[209,10,209,11],[210,1,210,2],[210,10,210,11],[218,1,218,7],[218,10,218,16],[220,0,220,7],[220,9,220,16],[223,4,223,6],[223,13,223,15],[214,1,214,2],[214,10,214,11],[215,1,215,2],[215,10,215,11],[216,1,216,2],[216,10,216,11],[228,2,228,5],[228,11,228,14],[230,2,230,5],[230,6,230,7],[230,11,230,14],[225,0,225,1],[225,2,225,6],[225,9,225,10],[225,11,225,15],[226,2,226,5],[226,6,228,7],[226,11,226,14],[226,15,228,16],[227,2,227,5],[227,11,227,14],[235,1,235,2],[235,10,235,11],[236,1,236,2],[236,10,236,11],[237,1,237,2],[237,10,237,11],[230,15,230,16],[231,2,231,5],[231,11,231,14],[233,0,233,2],[233,9,233,11],[234,1,234,2],[234,10,234,11],[241,1,241,2],[241,10,241,11],[242,1,242,2],[242,10,242,11],[243,1,243,2],[243,10,243,11],[238,1,238,2],[238,10,238,11],[239,1,239,2],[239,10,239,11],[240,1,240,2],[240,10,240,11],[251,4,251,6],[251,13,251,15],[253,0,253,1],[253,2,253,6],[253,9,253,10],[253,11,253,15],[244,1,244,2],[244,10,244,11],[246,1,246,7],[246,10,246,16],[248,0,248,7],[248,9,248,16],[258,15,258,16],[259,2,259,5],[259,11,259,14],[254,2,254,5],[254,6,256,7],[254,11,254,14],[254,15,256,16],[255,2,255,5],[255,11,255,14],[256,2,256,5],[256,11,256,14],[261,0,261,2],[261,9,261,11],[262,1,262,2],[262,10,262,11],[263,1,263,2],[263,10,263,11],[258,2,258,5],[258,6,258,7],[258,11,258,14],[267,1,267,2],[267,10,267,11],[268,1,268,2],[268,10,268,11],[269,1,269,2],[269,10,269,11],[264,1,264,2],[264,10,264,11],[265,1,265,2],[265,10,265,11],[266,1,266,2],[266,10,266,11],[274,1,274,7],[274,10,274,16],[276,0,276,7],[276,9,276,16],[279,4,279,6],[279,13,279,15],[270,1,270,2],[270,10,270,11],[271,1,271,2],[271,10,271,11],[272,1,272,2],[272,10,272,11]]}
["Abnahmekarte für das deutsche Tanzsportabzeichen DTSA",{"$nulls":8},"Abnahmekarte für das deutsche Tanzsportabzeichen DTSA"]
[{"$f":"Anmeldung!$E$7","v":"00:00:00"},null,{"$f":"Anmeldung!$E$8","v":0},{"$nulls":4},{"$f":"\"# \"&Datenerfassung!$H70","v":"# 61"},null,{"$f":"Anmeldung!$E$7","v":"00:00:00"},null,{"$f":"Anmeldung!$E$8","v":0},{"$nulls":4},{"$f":"\"# \"&Datenerfassung!$H71","v":"# 62"}]
["Vorname",null,{"$f":"Datenerfassung!$C70","v":0},null,null,null,"Der/die Bewerber/innen erkennen mit Unterschrift die DTSA-Verleihungsbedingungen an. \n",null,null,"Vorname",null,{"$f":"Datenerfassung!$C71","v":0},null,null,null,"Der/die Bewerber/innen erkennen mit Unterschrift die DTSA-Verleihungsbedingungen an. \n"]
["Nachname",null,{"$f":"Datenerfassung!$D70","v":0},{"$nulls":6},"Nachname",null,{"$f":"Datenerfassung!$D71","v":0}]
["Verein/Schule",null,{"$f":"Datenerfassung!$G70","v":"00:00:00"},{"$nulls":6},"Verein/Schule",null,{"$f":"Datenerfassung!$G71","v":"00:00:00"}]
[]
["Medaille",null,{"$f":"Datenerfassung!$B70","v":0},{"$nulls":6},"Medaille",null,{"$f":"Datenerfassung!$B71","v":0}]
[{"$nulls":6},"Anerkennung der Bedingungen durch Unterschrift",{"$nulls":8},"Anerkennung der Bedingungen durch Unterschrift"]
[]
[" Tanz bitte eintragen/ankreuzen",null,null,"Musik","Balancen","Bewegg.-\nAblauf","X =\nbestanden","spezielle Bemerkungen (Lob/Hinweis/Kritik)\nder/des Abnehmer/in",null," Tanz bitte eintragen/ankreuzen",null,null,"Musik","Balancen","Bewegg.-\nAblauf","X =\nbestanden","spezielle Bemerkungen (Lob/Hinweis/Kritik)\nder/des Abnehmer/in"]
[null,{"$f":"Datenerfassung!$AE70","v":"Langsamer Walzer"},{"$nulls":8},{"$f":"Datenerfassung!$AE71","v":"Langsamer Walzer"}]
[null,{"$f":"Datenerfassung!$AF70","v":"Tango"},{"$nulls":8},{"$f":"Datenerfassung!$AF71","v":"Tango"}]
[null,{"$f":"Datenerfassung!$AG70","v":"Wiener Walzer"},{"$nulls":8},{"$f":"Datenerfassung!$AG71","v":"Wiener Walzer"}]
[null,{"$f":"Datenerfassung!$AH70","v":"Slowfox"},{"$nulls":8},{"$f":"Datenerfassung!$AH71","v":"Slowfox"}]
[null,{"$f":"Datenerfassung!$AI70","v":"Quickstep"},{"$nulls":8},{"$f":"Datenerfassung!$AI71","v":"Quickstep"}]
[null,{"$f":"Datenerfassung!$AJ70","v":"Samba"},{"$nulls":8},{"$f":"Datenerfassung!$AJ71","v":"Samba"}]
[null,{"$f":"Datenerfassung!$AK70","v":"Chachacha"},{"$nulls":8},{"$f":"Datenerfassung!$AK71","v":"Chachacha"}]
[null,{"$f":"Datenerfassung!$AL70","v":"Rumba"},{"$nulls":8},{"$f":"Datenerfassung!$AL71","v":"Rumba"}]
[null,{"$f":"Datenerfassung!$AM70","v":"Paso Doble"},{"$nulls":8},{"$f":"Datenerfassung!$AM71","v":"Paso Doble"}]
[null,{"$f":"Datenerfassung!$AN70","v":"Jive"},{"$nulls":8},{"$f":"Datenerfassung!$AN71","v":"Jive"}]
[null,{"$f":"Datenerfassung!$AO70","v":"Discofox"},{"$nulls":8},{"$f":"Datenerfassung!$AO71","v":"Discofox"}]
[]
[null,"Gemäß Ausbildungsordnung des DTV wurde eine Leistung für den Lizenzerwerb (10-Tänze-Gold) erbracht.",{"$nulls":8},"Gemäß Ausbildungsordnung des DTV wurde eine Leistung für den Lizenzerwerb (10-Tänze-Gold) erbracht."]
[]
["Unterschriften Abnehmer/innen:",{"$nulls":8},"Unterschriften Abnehmer/innen:"]
[]
[]
[{"$f":"Anmeldung!$L$19","v":"00:00:00"},null,null,null,{"$f":"Anmeldung!$L$20","v":0},null,null,{"$f":"Anmeldung!$L$21","v":0},null,{"$f":"Anmeldung!$L$19","v":"00:00:00"},null,null,null,{"$f":"Anmeldung!$L$20","v":0},null,null,{"$f":"Anmeldung!$L$21","v":0}]
["Abnahmekarte für das deutsche Tanzsportabzeichen DTSA",{"$nulls":8},"Abnahmekarte für das deutsche Tanzsportabzeichen DTSA"]
[{"$f":"Anmeldung!$E$7","v":"00:00:00"},null,{"$f":"Anmeldung!$E$8","v":0},{"$nulls":4},{"$f":"\"# \"&Datenerfassung!$H72","v":"# 63"},null,{"$f":"Anmeldung!$E$7","v":"00:00:00"},null,{"$f":"Anmeldung!$E$8","v":0},{"$nulls":4},{"$f":"\"# \"&Datenerfassung!$H73","v":"# 64"}]
["Vorname",null,{"$f":"Datenerfassung!$C72","v":0},null,null,null,"Der/die Bewerber/innen erkennen mit Unterschrift die DTSA-Verleihungsbedingungen an. \n",null,null,"Vorname",null,{"$f":"Datenerfassung!$C73","v":0},null,null,null,"Der/die Bewerber/innen erkennen mit Unterschrift die DTSA-Verleihungsbedingungen an. \n"]
["Nachname",null,{"$f":"Datenerfassung!$D72","v":0},{"$nulls":6},"Nachname",null,{"$f":"Datenerfassung!$D73","v":0}]
["Verein/Schule",null,{"$f":"Datenerfassung!$G72","v":"00:00:00"},{"$nulls":6},"Verein/Schule",null,{"$f":"Datenerfassung!$G73","v":"00:00:00"}]
[]
["Medaille",null,{"$f":"Datenerfassung!$B72","v":0},{"$nulls":6},"Medaille",null,{"$f":"Datenerfassung!$B73","v":0}]
[{"$nulls":6},"Anerkennung der Bedingungen durch Unterschrift",{"$nulls":8},"Anerkennung der Bedingungen durch Unterschrift"]
[]
[" Tanz bitte eintragen/ankreuzen",null,null,"Musik","Balancen","Bewegg.-\nAblauf","X =\nbestanden","spezielle Bemerkungen (Lob/Hinweis/Kritik)\nder/des Abnehmer/in",null," Tanz bitte eintragen/ankreuzen",null,null,"Musik","Balancen","Bewegg.-\nAblauf","X =\nbestanden","spezielle Bemerkungen (Lob/Hinweis/Kritik)\nder/des Abnehmer/in"]
[null,{"$f":"Datenerfassung!$AE72","v":"Langsamer Walzer"},{"$nulls":8},{"$f":"Datenerfassung!$AE73","v":"Langsamer Walzer"}]
[null,{"$f":"Datenerfassung!$AF72","v":"Tango"},{"$nulls":8},{"$f":"Datenerfassung!$AF73","v":"Tango"}]
[null,{"$f":"Datenerfassung!$AG72","v":"Wiener Walzer"},{"$nulls":8},{"$f":"Datenerfassung!$AG73","v":"Wiener Walzer"}]
[null,{"$f":"Datenerfassung!$AH72","v":"Slowfox"},{"$nulls":8},{"$f":"Datenerfassung!$AH73","v":"Slowfox"}]
[null,{"$f":"Datenerfassung!$AI72","v":"Quickstep"},{"$nulls":8},{"$f":"Datenerfassung!$AI73","v":"Quickstep"}]
[null,{"$f":"Datenerfassung!$AJ72","v":"Samba"},{"$nulls":8},{"$f":"Datenerfassung!$AJ73","v":"Samba"}]
[null,{"$f":"Datenerfassung!$AK72","v":"Chachacha"},{"$nulls":8},{"$f":"Datenerfassung!$AK73","v":"Chachacha"}]
[null,{"$f":"Datenerfassung!$AL72","v":"Rumba"},{"$nulls":8},{"$f":"Datenerfassung!$AL73","v":"Rumba"}]
[null,{"$f":"Datenerfassung!$AM72","v":"Paso Doble"},{"$nulls":8},{"$f":"Datenerfassung!$AM73","v":"Paso Doble"}]
[null,{"$f":"Datenerfassung!$AN72","v":"Jive"},{"$nulls":8},{"$f":"Datenerfassung!$AN73","v":"Jive"}]
[null,{"$f":"Datenerfassung!$AO72","v":"Discofox"},{"$nulls":8},{"$f":"Datenerfassung!$AO73","v":"Discofox"}]
[]
[null,"Gemäß Ausbildungsordnung des DTV wurde eine Leistung für den Lizenzerwerb (10-Tänze-Gold) erbracht.",{"$nulls":8},"Gemäß Ausbildungsordnung des DTV wurde eine Leistung für den Lizenzerwerb (10-Tänze-Gold) erbracht."]
[]
["Unterschriften Abnehmer/innen:",{"$nulls":8},"Unterschriften Abnehmer/innen:"]
[]
[]
[{"$f":"Anmeldung!$L$19","v":"00:00:00"},null,null,null,{"$f":"Anmeldung!$L$20","v":0},null,null,{"$f":"Anmeldung!$L$21","v":0},null,{"$f":"Anmeldung!$L$19","v":"00:00:00"},null,null,null,{"$f":"Anmeldung!$L$20","v":0},null,null,{"$f":"Anmeldung!$L$21","v":0}]
["Abnahmekarte für das deutsche Tanzsportabzeichen DTSA",{"$nulls":8},"Abnahmekarte für das deutsche Tanzsportabzeichen DTSA"]
[{"$f":"Anmeldung!$E$7","v":"00:00:00"},null,{"$f":"Anmeldung!$E$8","v":0},{"$nulls":4},{"$f":"\"# \"&Datenerfassung!$H74","v":"# 65"},null,{"$f":"Anmeldung!$E$7","v":"00:00:00"},null,{"$f":"Anmeldung!$E$8","v":0},{"$nulls":4},{"$f":"\"# \"&Datenerfassung!$H75","v":"# 66"}]
["Vorname",null,{"$f":"Datenerfassung!$C74","v":0},null,null,null,"Der/die Bewerber/innen erkennen mit Unterschrift die DTSA-Verleihungsbedingungen an. \n",null,null,"Vorname",null,{"$f":"Datenerfassung!$C75","v":0},null,null,null,"Der/die Bewerber/innen erkennen mit Unterschrift die DTSA-Verleihungsbedingungen an. \n"]
["Nachname",null,{"$f":"Datenerfassung!$D74","v":0},{"$nulls":6},"Nachname",null,{"$f":"Datenerfassung!$D75","v":0}]
["Verein/Schule",null,{"$f":"Datenerfassung!$G74","v":"00:00:00"},{"$nulls":6},"Verein/Schule",null,{"$f":"Datenerfassung!$G75","v":"00:00:00"}]
[]
["Medaille",null,{"$f":"Datenerfassung!$B74","v":0},{"$nulls":6},"Medaille",null,{"$f":"Datenerfassung!$B75","v":0}]
[{"$nulls":6},"Anerkennung der Bedingungen durch Unterschrift",{"$nulls":8},"Anerkennung der Bedingungen durch Unterschrift"]
[]
[" Tanz bitte eintragen/ankreuzen",null,null,"Musik","Balancen","Bewegg.-\nAblauf","X =\nbestanden","spezielle Bemerkungen (Lob/Hinweis/Kritik)\nder/des Abnehmer/in",null," Tanz bitte eintragen/ankreuzen",null,null,"Musik","Balancen","Bewegg.-\nAblauf","X =\nbestanden","spezielle Bemerkungen (Lob/Hinweis/Kritik)\nder/des Abnehmer/in"]
[null,{"$f":"Datenerfassung!$AE74","v":"Langsamer Walzer"},{"$nulls":8},{"$f":"Datenerfassung!$AE75","v":"Langsamer Walzer"}]
[null,{"$f":"Datenerfassung!$AF74","v":"Tango"},{"$nulls":8},{"$f":"Datenerfassung!$AF75","v":"Tango"}]
[null,{"$f":"Datenerfassung!$AG74","v":"Wiener Walzer"},{"$nulls":8},{"$f":"Datenerfassung!$AG75","v":"Wiener Walzer"}]
[null,{"$f":"Datenerfassung!$AH74","v":"Slowfox"},{"$nulls":8},{"$f":"Datenerfassung!$AH75","v":"Slowfox"}]
[null,{"$f":"Datenerfassung!$AI74","v":"Quickstep"},{"$nulls":8},{"$f":"Datenerfassung!$AI75","v":"Quickstep"}]
[null,{"$f":"Datenerfassung!$AJ74","v":"Samba"},{"$nulls":8},{"$f":"Datenerfassung!$AJ75","v":"Samba"}]
[null,{"$f":"Datenerfassung!$AK74","v":"Chachacha"},{"$nulls":8},{"$f":"Datenerfassung!$AK75","v":"Chachacha"}]
[null,{"$f":"Datenerfassung!$AL74","v":"Rumba"},{"$nulls":8},{"$f":"Datenerfassung!$AL75","v":"Rumba"}]
[null,{"$f":"Datenerfassung!$AM74","v":"Paso Doble"},{"$nulls":8},{"$f":"Datenerfassung!$AM75","v":"Paso Doble"}]
[null,{"$f":"Datenerfassung!$AN74","v":"Jive"},{"$nulls":8},{"$f":"Datenerfassung!$AN75","v":"Jive"}]
[null,{"$f":"Datenerfassung!$AO74","v":"Discofox"},{"$nulls":8},{"$f":"Datenerfassung!$AO75","v":"Discofox"}]
[]
[null,"Gemäß Ausbildungsordnung des DTV wurde eine Leistung für den Lizenzerwerb (10-Tänze-Gold) erbracht.",{"$nulls":8},"Gemäß Ausbildungsordnung des DTV wurde eine Leistung für den Lizenzerwerb (10-Tänze-Gold) erbracht."]
[]
["Unterschriften Abnehmer/innen:",{"$nulls":8},"Unterschriften Abnehmer/innen:"]
[]
[]
[{"$f":"Anmeldung!$L$19","v":"00:00:00"},null,null,null,{"$f":"Anmeldung!$L$20","v":0},null,null,{"$f":"Anmeldung!$L$21","v":0},null,{"$f":"Anmeldung!$L$19","v":"00:00:00"},null,null,null,{"$f":"Anmeldung!$L$20","v":0},null,null,{"$f":"Anmeldung!$L$21","v":0}]
["Abnahmekarte für das deutsche Tanzsportabzeichen DTSA",{"$nulls":8},"Abnahmekarte für das deutsche Tanzsportabzeichen DTSA"]
[{"$f":"Anmeldung!$E$7","v":"00:00:00"},null,{"$f":"Anmeldung!$E$8","v":0},{"$nulls":4},{"$f":"\"# \"&Datenerfassung!$H76","v":"# 67"},null,{"$f":"Anmeldung!$E$7","v":"00:00:00"},null,{"$f":"Anmeldung!$E$8","v":0},{"$nulls":4},{"$f":"\"# \"&Datenerfassung!$H77","v":"# 68"}]
["Vorname",null,{"$f":"Datenerfassung!$C76","v":0},null,null,null,"Der/die Bewerber/innen erkennen mit Unterschrift die DTSA-Verleihungsbedingungen an. \n",null,null,"Vorname",null,{"$f":"Datenerfassung!$C77","v":0},null,null,null,"Der/die Bewerber/innen erkennen mit Unterschrift die DTSA-Verleihungsbedingungen an. \n"]
["Nachname",null,{"$f":"Datenerfassung!$D76","v":0},{"$nulls":6},"Nachname",null,{"$f":"Datenerfassung!$D77","v":0}]
["Verein/Schule",null,{"$f":"Datenerfassung!$G76","v":"00:00:00"},{"$nulls":6},"Verein/Schule",null,{"$f":"Datenerfassung!$G77","v":"00:00:00"}]
[]
["Medaille",null,{"$f":"Datenerfassung!$B76","v":0},{"$nulls":6},"Medaille",null,{"$f":"Datenerfassung!$B77","v":0}]
[{"$nulls":6},"Anerkennung der Bedingungen durch Unterschrift",{"$nulls":8},"Anerkennung der Bedingungen durch Unterschrift"]
[]
[" Tanz bitte eintragen/ankreuzen",null,null,"Musik","Balancen","Bewegg.-\nAblauf","X =\nbestanden","spezielle Bemerkungen (Lob/Hinweis/Kritik)\nder/des Abnehmer/in",null," Tanz bitte eintragen/ankreuzen",null,null,"Musik","Balancen","Bewegg.-\nAblauf","X =\nbestanden","spezielle Bemerkungen (Lob/Hinweis/Kritik)\nder/des Abnehmer/in"]
[null,{"$f":"Datenerfassung!$AE76","v":"Langsamer Walzer"},{"$nulls":8},{"$f":"Datenerfassung!$AE77","v":"Langsamer Walzer"}]
[null,{"$f":"Datenerfassung!$AF76","v":"Tango"},{"$nulls":8},{"$f":"Datenerfassung!$AF77","v":"Tango"}]
[null,{"$f":"Datenerfassung!$AG76","v":"Wiener Walzer"},{"$nulls":8},{"$f":"Datenerfassung!$AG77","v":"Wiener Walzer"}]
[null,{"$f":"Datenerfassung!$AH76","v":"Slowfox"},{"$nulls":8},{"$f":"Datenerfassung!$AH77","v":"Slowfox"}]
[null,{"$f":"Datenerfassung!$AI76","v":"Quickstep"},{"$nulls":8},{"$f":"Datenerfassung!$AI77","v":"Quickstep"}]
[null,{"$f":"Datenerfassung!$AJ76","v":"Samba"},{"$nulls":8},{"$f":"Datenerfassung!$AJ77","v":"Samba"}]
[null,{"$f":"Datenerfassung!$AK76","v":"Chachacha"},{"$nulls":8},{"$f":"Datenerfassung!$AK77","v":"Chachacha"}]
[null,{"$f":"Datenerfassung!$AL76","v":"Rumba"},{"$nulls":8},{"$f":"Datenerfassung!$AL77","v":"Rumba"}]
[null,{"$f":"Datenerfassung!$AM76","v":"Paso Doble"},{"$nulls":8},{"$f":"Datenerfassung!$AM77","v":"Paso Doble"}]
[null,{"$f":"Datenerfassung!$AN76","v":"Jive"},{"$nulls":8},{"$f":"Datenerfassung!$AN77","v":"Jive"}]
[null,{"$f":"Datenerfassung!$AO76","v":"Discofox"},{"$nulls":8},{"$f":"Datenerfassung!$AO77","v":"Discofox"}]
[]
[null,"Gemäß Ausbildungsordnung des DTV wurde eine Leistung für den Lizenzerwerb (10-Tänze-Gold) erbracht.",{"$nulls":8},"Gemäß Ausbildungsordnung des DTV wurde eine Leistung für den Lizenzerwerb (10-Tänze-Gold) erbracht."]
[]
["Unterschriften Abnehmer/innen:",{"$nulls":8},"Unterschriften Abnehmer/innen:"]
[]
[]
[{"$f":"Anmeldung!$L$19","v":"00:00:00"},null,null,null,{"$f":"Anmeldung!$L$20","v":0},null,null,{"$f":"Anmeldung!$L$21","v":0},null,{"$f":"Anmeldung!$L$19","v":"00:00:00"},null,null,null,{"$f":"Anmeldung!$L$20","v":0},null,null,{"$f":"Anmeldung!$L$21","v":0}]
["Abnahmekarte für das deutsche Tanzsportabzeichen DTSA",{"$nulls":8},"Abnahmekarte für das deutsche Tanzsportabzeichen DTSA"]
[{"$f":"Anmeldung!$E$7","v":"00:00:00"},null,{"$f":"Anmeldung!$E$8","v":0},{"$nulls":4},{"$f":"\"# \"&Datenerfassung!$H78","v":"# 69"},null,{"$f":"Anmeldung!$E$7","v":"00:00:00"},null,{"$f":"Anmeldung!$E$8","v":0},{"$nulls":4},{"$f":"\"# \"&Datenerfassung!$H79","v":"# 70"}]
["Vorname",null,{"$f":"Datenerfassung!$C78","v":0},null,null,null,"Der/die Bewerber/innen erkennen mit Unterschrift die DTSA-Verleihungsbedingungen an. \n",null,null,"Vorname",null,{"$f":"Datenerfassung!$C79","v":0},null,null,null,"Der/die Bewerber/innen erkennen mit Unterschrift die DTSA-Verleihungsbedingungen an. \n"]
["Nachname",null,{"$f":"Datenerfassung!$D78","v":0},{"$nulls":6},"Nachname",null,{"$f":"Datenerfassung!$D79","v":0}]
["Verein/Schule",null,{"$f":"Datenerfassung!$G78","v":"00:00:00"},{"$nulls":6},"Verein/Schule",null,{"$f":"Datenerfassung!$G79","v":"00:00:00"}]
[]
["Medaille",null,{"$f":"Datenerfassung!$B78","v":0},{"$nulls":6},"Medaille",null,{"$f":"Datenerfassung!$B79","v":0}]
[{"$nulls":6},"Anerkennung der Bedingungen durch Unterschrift",{"$nulls":8},"Anerkennung der Bedingungen durch Unterschrift"]
[]
[" Tanz bitte eintragen/ankreuzen",null,null,"Musik","Balancen","Bewegg.-\nAblauf","X =\nbestanden","spezielle Bemerkungen (Lob/Hinweis/Kritik)\nder/des Abnehmer/in",null," Tanz bitte eintragen/ankreuzen",null,null,"Musik","Balancen","Bewegg.-\nAblauf","X =\nbestanden","spezielle Bemerkungen (Lob/Hinweis/Kritik)\nder/des Abnehmer/in"]
[null,{"$f":"Datenerfassung!$AE78","v":"Langsamer Walzer"},{"$nulls":8},{"$f":"Datenerfassung!$AE79","v":"Langsamer Walzer"}]
[null,{"$f":"Datenerfassung!$AF78","v":"Tango"},{"$nulls":8},{"$f":"Datenerfassung!$AF79","v":"Tango"}]
[null,{"$f":"Datenerfassung!$AG78","v":"Wiener Walzer"},{"$nulls":8},{"$f":"Datenerfassung!$AG79","v":"Wiener Walzer"}]
[null,{"$f":"Datenerfassung!$AH78","v":"Slowfox"},{"$nulls":8},{"$f":"Datenerfassung!$AH79","v":"Slowfox"}]
[null,{"$f":"Datenerfassung!$AI78","v":"Quickstep"},{"$nulls":8},{"$f":"Datenerfassung!$AI79","v":"Quickstep"}]
[null,{"$f":"Datenerfassung!$AJ78","v":"Samba"},{"$nulls":8},{"$f":"Datenerfassung!$AJ79","v":"Samba"}]
[null,{"$f":"Datenerfassung!$AK78","v":"Chachacha"},{"$nulls":8},{"$f":"Datenerfassung!$AK79","v":"Chachacha"}]
[null,{"$f":"Datenerfassung!$AL78","v":"Rumba"},{"$nulls":8},{"$f":"Datenerfassung!$AL79","v":"Rumba"}]
[null,{"$f":"Datenerfassung!$AM78","v":"Paso Doble"},{"$nulls":8},{"$f":"Datenerfassung!$AM79","v":"Paso Doble"}]
[null,{"$f":"Datenerfassung!$AN78","v":"Jive"},{"$nulls":8},{"$f":"Datenerfassung!$AN79","v":"Jive"}]
[null,{"$f":"Datenerfassung!$AO78","v":"Discofox"},{"$nulls":8},{"$f":"Datenerfassung!$AO79","v":"Discofox"}]
[]
[null,"Gemäß Ausbildungsordnung des DTV wurde eine Leistung für den Lizenzerwerb (10-Tänze-Gold) erbracht.",{"$nulls":8},"Gemäß Ausbildungsordnung des DTV wurde eine Leistung für den Lizenzerwerb (10-Tänze-Gold) erbracht."]
[]
["Unterschriften Abnehmer/innen:",{"$nulls":8},"Unterschriften Abnehmer/innen:"]
[]
[]
[{"$f":"Anmeldung!$L$19","v":"00:00:00"},null,null,null,{"$f":"Anmeldung!$L$20","v":0},null,null,{"$f":"Anmeldung!$L$21","v":0},null,{"$f":"Anmeldung!$L$19","v":"00:00:00"},null,null,null,{"$f":"Anmeldung!$L$20","v":0},null,null,{"$f":"Anmeldung!$L$21","v":0}]
["Abnahmekarte für das deutsche Tanzsportabzeichen DTSA",{"$nulls":8},"Abnahmekarte für das deutsche Tanzsportabzeichen DTSA"]
[{"$f":"Anmeldung!$E$7","v":"00:00:00"},null,{"$f":"Anmeldung!$E$8","v":0},{"$nulls":4},{"$f":"\"# \"&Datenerfassung!$H80","v":"# 71"},null,{"$f":"Anmeldung!$E$7","v":"00:00:00"},null,{"$f":"Anmeldung!$E$8","v":0},{"$nulls":4},{"$f":"\"# \"&Datenerfassung!$H81","v":"# 72"}]
["Vorname",null,{"$f":"Datenerfassung!$C80","v":0},null,null,null,"Der/die Bewerber/innen erkennen mit Unterschrift die DTSA-Verleihungsbedingungen an. \n",null,null,"Vorname",null,{"$f":"Datenerfassung!$C81","v":0},null,null,null,"Der/die Bewerber/innen erkennen mit Unterschrift die DTSA-Verleihungsbedingungen an. \n"]
["Nachname",null,{"$f":"Datenerfassung!$D80","v":0},{"$nulls":6},"Nachname",null,{"$f":"Datenerfassung!$D81","v":0}]
["Verein/Schule",null,{"$f":"Datenerfassung!$G80","v":"00:00:00"},{"$nulls":6},"Verein/Schule",null,{"$f":"Datenerfassung!$G81","v":"00:00:00"}]
[]
["Medaille",null,{"$f":"Datenerfassung!$B80","v":0},{"$nulls":6},"Medaille",null,{"$f":"Datenerfassung!$B81","v":0}]
[{"$nulls":6},"Anerkennung der Bedingungen durch Unterschrift",{"$nulls":8},"Anerkennung der Bedingungen durch Unterschrift"]
[]
[" Tanz bitte eintragen/ankreuzen",null,null,"Musik","Balancen","Bewegg.-\nAblauf","X =\nbestanden","spezielle Bemerkungen (Lob/Hinweis/Kritik)\nder/des Abnehmer/in",null," Tanz bitte eintragen/ankreuzen",null,null,"Musik","Balancen","Bewegg.-\nAblauf","X =\nbestanden","spezielle Bemerkungen (Lob/Hinweis/Kritik)\nder/des Abnehmer/in"]
[null,{"$f":"Datenerfassung!$AE80","v":"Langsamer Walzer"},{"$nulls":8},{"$f":"Datenerfassung!$AE81","v":"Langsamer Walzer"}]
[null,{"$f":"Datenerfassung!$AF80","v":"Tango"},{"$nulls":8},{"$f":"Datenerfassung!$AF81","v":"Tango"}]
[null,{"$f":"Datenerfassung!$AG80","v":"Wiener Walzer"},{"$nulls":8},{"$f":"Datenerfassung!$AG81","v":"Wiener Walzer"}]
[null,{"$f":"Datenerfassung!$AH80","v":"Slowfox"},{"$nulls":8},{"$f":"Datenerfassung!$AH81","v":"Slowfox"}]
[null,{"$f":"Datenerfassung!$AI80","v":"Quickstep"},{"$nulls":8},{"$f":"Datenerfassung!$AI81","v":"Quickstep"}]
[null,{"$f":"Datenerfassung!$AJ80","v":"Samba"},{"$nulls":8},{"$f":"Datenerfassung!$AJ81","v":"Samba"}]
[null,{"$f":"Datenerfassung!$AK80","v":"Chachacha"},{"$nulls":8},{"$f":"Datenerfassung!$AK81","v":"Chachacha"}]
[null,{"$f":"Datenerfassung!$AL80","v":"Rumba"},{"$nulls":8},{"$f":"Datenerfassung!$AL81","v":"Rumba"}]
[null,{"$f":"Datenerfassung!$AM80","v":"Paso Doble"},{"$nulls":8},{"$f":"Datenerfassung!$AM81","v":"Paso Doble"}]
[null,{"$f":"Datenerfassung!$AN80","v":"Jive"},{"$nulls":8},{"$f":"Datenerfassung!$AN81","v":"Jive"}]
[null,{"$f":"Datenerfassung!$AO80","v":"Discofox"},{"$nulls":8},{"$f":"Datenerfassung!$AO81","v":"Discofox"}]
[]
[null,"Gemäß Ausbildungsordnung des DTV wurde eine Leistung für den Lizenzerwerb (10-Tänze-Gold) erbracht.",{"$nulls":8},"Gemäß Ausbildungsordnung des DTV wurde eine Leistung für den Lizenzerwerb (10-Tänze-Gold) erbracht."]
[]
["Unterschriften Abnehmer/innen:",{"$nulls":8},"Unterschriften Abnehmer/innen:"]
[]
[]
[{"$f":"Anmeldung!$L$19","v":"00:00:00"},null,null,null,{"$f":"Anmeldung!$L$20","v":0},null,null,{"$f":"Anmeldung!$L$21","v":0},null,{"$f":"Anmeldung!$L$19","v":"00:00:00"},null,null,null,{"$f":"Anmeldung!$L$20","v":0},null,null,{"$f":"Anmeldung!$L$21","v":0}]
["Abnahmekarte für das deutsche Tanzsportabzeichen DTSA",{"$nulls":8},"Abnahmekarte für das deutsche Tanzsportabzeichen DTSA"]
[{"$f":"Anmeldung!$E$7","v":"00:00:00"},null,{"$f":"Anmeldung!$E$8","v":0},{"$nulls":4},{"$f":"\"# \"&Datenerfassung!$H82","v":"# 73"},null,{"$f":"Anmeldung!$E$7","v":"00:00:00"},null,{"$f":"Anmeldung!$E$8","v":0},{"$nulls":4},{"$f":"\"# \"&Datenerfassung!$H83","v":"# 74"}]
["Vorname",null,{"$f":"Datenerfassung!$C82","v":0},null,null,null,"Der/die Bewerber/innen erkennen mit Unterschrift die DTSA-Verleihungsbedingungen an. \n",null,null,"Vorname",null,{"$f":"Datenerfassung!$C83","v":0},null,null,null,"Der/die Bewerber/innen erkennen mit Unterschrift die DTSA-Verleihungsbedingungen an. \n"]
["Nachname",null,{"$f":"Datenerfassung!$D82","v":0},{"$nulls":6},"Nachname",null,{"$f":"Datenerfassung!$D83","v":0}]
["Verein/Schule",null,{"$f":"Datenerfassung!$G82","v":"00:00:00"},{"$nulls":6},"Verein/Schule",null,{"$f":"Datenerfassung!$G83","v":"00:00:00"}]
[]
["Medaille",null,{"$f":"Datenerfassung!$B82","v":0},{"$nulls":6},"Medaille",null,{"$f":"Datenerfassung!$B83","v":0}]
[{"$nulls":6},"Anerkennung der Bedingungen durch Unterschrift",{"$nulls":8},"Anerkennung der Bedingungen durch Unterschrift"]
[]
[" Tanz bitte eintragen/ankreuzen",null,null,"Musik","Balancen","Bewegg.-\nAblauf","X =\nbestanden","spezielle Bemerkungen (Lob/Hinweis/Kritik)\nder/des Abnehmer/in",null," Tanz bitte eintragen/ankreuzen",null,null,"Musik","Balancen","Bewegg.-\nAblauf","X =\nbestanden","spezielle Bemerkungen (Lob/Hinweis/Kritik)\nder/des Abnehmer/in"]
[null,{"$f":"Datenerfassung!$AE82","v":"Langsamer Walzer"},{"$nulls":8},{"$f":"Datenerfassung!$AE83","v":"Langsamer Walzer"}]
[null,{"$f":"Datenerfassung!$AF82","v":"Tango"},{"$nulls":8},{"$f":"Datenerfassung!$AF83","v":"Tango"}]
[null,{"$f":"Datenerfassung!$AG82","v":"Wiener Walzer"},{"$nulls":8},{"$f":"Datenerfassung!$AG83","v":"Wiener Walzer"}]
[null,{"$f":"Datenerfassung!$AH82","v":"Slowfox"},{"$nulls":8},{"$f":"Datenerfassung!$AH83","v":"Slowfox"}]
[null,{"$f":"Datenerfassung!$AI82","v":"Quickstep"},{"$nulls":8},{"$f":"Datenerfassung!$AI83","v":"Quickstep"}]
[null,{"$f":"Datenerfassung!$AJ82","v":"Samba"},{"$nulls":8},{"$f":"Datenerfassung!$AJ83","v":"Samba"}]
[null,{"$f":"Datenerfassung!$AK82","v":"Chachacha"},{"$nulls":8},{"$f":"Datenerfassung!$AK83","v":"Chachacha"}]
[null,{"$f":"Datenerfassung!$AL82","v":"Rumba"},{"$nulls":8},{"$f":"Datenerfassung!$AL83","v":"Rumba"}]
[null,{"$f":"Datenerfassung!$AM82","v":"Paso Doble"},{"$nulls":8},{"$f":"Datenerfassung!$AM83","v":"Paso Doble"}]
[null,{"$f":"Datenerfassung!$AN82","v":"Jive"},{"$nulls":8},{"$f":"Datenerfassung!$AN83","v":"Jive"}]
[null,{"$f":"Datenerfassung!$AO82","v":"Discofox"},{"$nulls":8},{"$f":"Datenerfassung!$AO83","v":"Discofox"}]
[]
[null,"Gemäß Ausbildungsordnung des DTV wurde eine Leistung für den Lizenzerwerb (10-Tänze-Gold) erbracht.",{"$nulls":8},"Gemäß Ausbildungsordnung des DTV wurde eine Leistung für den Lizenzerwerb (10-Tänze-Gold) erbracht."]
[]
["Unterschriften Abnehmer/innen:",{"$nulls":8},"Unterschriften Abnehmer/innen:"]
[]
[]
[{"$f":"Anmeldung!$L$19","v":"00:00:00"},null,null,null,{"$f":"Anmeldung!$L$20","v":0},null,null,{"$f":"Anmeldung!$L$21","v":0},null,{"$f":"Anmeldung!$L$19","v":"00:00:00"},null,null,null,{"$f":"Anmeldung!$L$20","v":0},null,null,{"$f":"Anmeldung!$L$21","v":0}]
["Abnahmekarte für das deutsche Tanzsportabzeichen DTSA",{"$nulls":8},"Abnahmekarte für das deutsche Tanzsportabzeichen DTSA"]
[{"$f":"Anmeldung!$E$7","v":"00:00:00"},null,{"$f":"Anmeldung!$E$8","v":0},{"$nulls":4},{"$f":"\"# \"&Datenerfassung!$H84","v":"# 75"},null,{"$f":"Anmeldung!$E$7","v":"00:00:00"},null,{"$f":"Anmeldung!$E$8","v":0},{"$nulls":4},{"$f":"\"# \"&Datenerfassung!$H85","v":"# 76"}]
["Vorname",null,{"$f":"Datenerfassung!$C84","v":0},null,null,null,"Der/die Bewerber/innen erkennen mit Unterschrift die DTSA-Verleihungsbedingungen an. \n",null,null,"Vorname",null,{"$f":"Datenerfassung!$C85","v":0},null,null,null,"Der/die Bewerber/innen erkennen mit Unterschrift die DTSA-Verleihungsbedingungen an. \n"]
["Nachname",null,{"$f":"Datenerfassung!$D84","v":0},{"$nulls":6},"Nachname",null,{"$f":"Datenerfassung!$D85","v":0}]
["Verein/Schule",null,{"$f":"Datenerfassung!$G84","v":"00:00:00"},{"$nulls":6},"Verein/Schule",null,{"$f":"Datenerfassung!$G85","v":"00:00:00"}]
[]
["Medaille",null,{"$f":"Datenerfassung!$B84","v":0},{"$nulls":6},"Medaille",null,{"$f":"Datenerfassung!$B85","v":0}]
[{"$nulls":6},"Anerkennung der Bedingungen durch Unterschrift",{"$nulls":8},"Anerkennung der Bedingungen durch Unterschrift"]
[]
[" Tanz bitte eintragen/ankreuzen",null,null,"Musik","Balancen","Bewegg.-\nAblauf","X =\nbestanden","spezielle Bemerkungen (Lob/Hinweis/Kritik)\nder/des Abnehmer/in",null," Tanz bitte eintragen/ankreuzen",null,null,"Musik","Balancen","Bewegg.-\nAblauf","X =\nbestanden","spezielle Bemerkungen (Lob/Hinweis/Kritik)\nder/des Abnehmer/in"]
[null,{"$f":"Datenerfassung!$AE84","v":"Langsamer Walzer"},{"$nulls":8},{"$f":"Datenerfassung!$AE85","v":"Langsamer Walzer"}]
[null,{"$f":"Datenerfassung!$AF84","v":"Tango"},{"$nulls":8},{"$f":"Datenerfassung!$AF85","v":"Tango"}]
[null,{"$f":"Datenerfassung!$AG84","v":"Wiener Walzer"},{"$nulls":8},{"$f":"Datenerfassung!$AG85","v":"Wiener Walzer"}]
[null,{"$f":"Datenerfassung!$AH84","v":"Slowfox"},{"$nulls":8},{"$f":"Datenerfassung!$AH85","v":"Slowfox"}]
[null,{"$f":"Datenerfassung!$AI84","v":"Quickstep"},{"$nulls":8},{"$f":"Datenerfassung!$AI85","v":"Quickstep"}]
[null,{"$f":"Datenerfassung!$AJ84","v":"Samba"},{"$nulls":8},{"$f":"Datenerfassung!$AJ85","v":"Samba"}]
[null,{"$f":"Datenerfassung!$AK84","v":"Chachacha"},{"$nulls":8},{"$f":"Datenerfassung!$AK85","v":"Chachacha"}]
[null,{"$f":"Datenerfassung!$AL84","v":"Rumba"},{"$nulls":8},{"$f":"Datenerfassung!$AL85","v":"Rumba"}]
[null,{"$f":"Datenerfassung!$AM84","v":"Paso Doble"},{"$nulls":8},{"$f":"Datenerfassung!$AM85","v":"Paso Doble"}]
[null,{"$f":"Datenerfassung!$AN84","v":"Jive"},{"$nulls":8},{"$f":"Datenerfassung!$AN85","v":"Jive"}]
[null,{"$f":"Datenerfassung!$AO84","v":"Discofox"},{"$nulls":8},{"$f":"Datenerfassung!$AO85","v":"Discofox"}]
[]
[null,"Gemäß Ausbildungsordnung des DTV wurde eine Leistung für den Lizenzerwerb (10-Tänze-Gold) erbracht.",{"$nulls":8},"Gemäß Ausbildungsordnung des DTV wurde eine Leistung für den Lizenzerwerb (10-Tänze-Gold) erbracht."]
[]
["Unterschriften Abnehmer/innen:",{"$nulls":8},"Unterschriften Abnehmer/innen:"]
[]
[]
[{"$f":"Anmeldung!$L$19","v":"00:00:00"},null,null,null,{"$f":"Anmeldung!$L$20","v":0},null,null,{"$f":"Anmeldung!$L$21","v":0},null,{"$f":"Anmeldung!$L$19","v":"00:00:00"},null,null,null,{"$f":"Anmeldung!$L$20","v":0},null,null,{"$f":"Anmeldung!$L$21","v":0}]
["Abnahmekarte für das deutsche Tanzsportabzeichen DTSA",{"$nulls":8},"Abnahmekarte für das deutsche Tanzsportabzeichen DTSA"]
[{"$f":"Anmeldung!$E$7","v":"00:00:00"},null,{"$f":"Anmeldung!$E$8","v":0},{"$nulls":4},{"$f":"\"# \"&Datenerfassung!$H86","v":"# 77"},null,{"$f":"Anmeldung!$E$7","v":"00:00:00"},null,{"$f":"Anmeldung!$E$8","v":0},{"$nulls":4},{"$f":"\"# \"&Datenerfassung!$H87","v":"# 78"}]
["Vorname",null,{"$f":"Datenerfassung!$C86","v":0},null,null,null,"Der/die Bewerber/innen erkennen mit Unterschrift die DTSA-Verleihungsbedingungen an. \n",null,null,"Vorname",null,{"$f":"Datenerfassung!$C87","v":0},null,null,null,"Der/die Bewerber/innen erkennen mit Unterschrift die DTSA-Verleihungsbedingungen an. \n"]
["Nachname",null,{"$f":"Datenerfassung!$D86","v":0},{"$nulls":6},"Nachname",null,{"$f":"Datenerfassung!$D87","v":0}]
["Verein/Schule",null,{"$f":"Datenerfassung!$G86","v":"00:00:00"},{"$nulls":6},"Verein/Schule",null,{"$f":"Datenerfassung!$G87","v":"00:00:00"}]
[]
["Medaille",null,{"$f":"Datenerfassung!$B86","v":0},{"$nulls":6},"Medaille",null,{"$f":"Datenerfassung!$B87","v":0}]
[{"$nulls":6},"Anerkennung der Bedingungen durch Unterschrift",{"$nulls":8},"Anerkennung der Bedingungen durch Unterschrift"]
[]
[" Tanz bitte eintragen/ankreuzen",null,null,"Musik","Balancen","Bewegg.-\nAblauf","X =\nbestanden","spezielle Bemerkungen (Lob/Hinweis/Kritik)\nder/des Abnehmer/in",null," Tanz bitte eintragen/ankreuzen",null,null,"Musik","Balancen","Bewegg.-\nAblauf","X =\nbestanden","spezielle Bemerkungen (Lob/Hinweis/Kritik)\nder/des Abnehmer/in"]
[null,{"$f":"Datenerfassung!$AE86","v":"Langsamer Walzer"},{"$nulls":8},{"$f":"Datenerfassung!$AE87","v":"Langsamer Walzer"}]
[null,{"$f":"Datenerfassung!$AF86","v":"Tango"},{"$nulls":8},{"$f":"Datenerfassung!$AF87","v":"Tango"}]
[null,{"$f":"Datenerfassung!$AG86","v":"Wiener Walzer"},{"$nulls":8},{"$f":"Datenerfassung!$AG87","v":"Wiener Walzer"}]
[null,{"$f":"Datenerfassung!$AH86","v":"Slowfox"},{"$nulls":8},{"$f":"Datenerfassung!$AH87","v":"Slowfox"}]
[null,{"$f":"Datenerfassung!$AI86","v":"Quickstep"},{"$nulls":8},{"$f":"Datenerfassung!$AI87","v":"Quickstep"}]
[null,{"$f":"Datenerfassung!$AJ86","v":"Samba"},{"$nulls":8},{"$f":"Datenerfassung!$AJ87","v":"Samba"}]
[null,{"$f":"Datenerfassung!$AK86","v":"Chachacha"},{"$nulls":8},{"$f":"Datenerfassung!$AK87","v":"Chachacha"}]
[null,{"$f":"Datenerfassung!$AL86","v":"Rumba"},{"$nulls":8},{"$f":"Datenerfassung!$AL87","v":"Rumba"}]
[null,{"$f":"Datenerfassung!$AM86","v":"Paso Doble"},{"$nulls":8},{"$f":"Datenerfassung!$AM87","v":"Paso Doble"}]
[null,{"$f":"Datenerfassung!$AN86","v":"Jive"},{"$nulls":8},{"$f":"Datenerfassung!$AN87","v":"Jive"}]
[null,{"$f":"Datenerfassung!$AO86","v":"Discofox"},{"$nulls":8},{"$f":"Datenerfassung!$AO87","v":"Discofox"}]
[]
[null,"Gemäß Ausbildungsordnung des DTV wurde eine Leistung für den Lizenzerwerb (10-Tänze-Gold) erbracht.",{"$nulls":8},"Gemäß Ausbildungsordnung des DTV wurde eine Leistung für den Lizenzerwerb (10-Tänze-Gold) erbracht."]
[]
["Unterschriften Abnehmer/innen:",{"$nulls":8},"Unterschriften Abnehmer/innen:"]
[]
[]
[{"$f":"Anmeldung!$L$19","v":"00:00:00"},null,null,null,{"$f":"Anmeldung!$L$20","v":0},null,null,{"$f":"Anmeldung!$L$21","v":0},null,{"$f":"Anmeldung!$L$19","v":"00:00:00"},null,null,null,{"$f":"Anmeldung!$L$20","v":0},null,null,{"$f":"Anmeldung!$L$21","v":0}]
["Abnahmekarte für das deutsche Tanzsportabzeichen DTSA",{"$nulls":8},"Abnahmekarte für das deutsche Tanzsportabzeichen DTSA"]
[{"$f":"Anmeldung!$E$7","v":"00:00:00"},null,{"$f":"Anmeldung!$E$8","v":0},{"$nulls":4},{"$f":"\"# \"&Datenerfassung!$H88","v":"# 79"},null,{"$f":"Anmeldung!$E$7","v":"00:00:00"},null,{"$f":"Anmeldung!$E$8","v":0},{"$nulls":4},{"$f":"\"# \"&Datenerfassung!$H89","v":"# 80"}]
["Vorname",null,{"$f":"Datenerfassung!$C88","v":0},null,null,null,"Der/die Bewerber/innen erkennen mit Unterschrift die DTSA-Verleihungsbedingungen an. \n",null,null,"Vorname",null,{"$f":"Datenerfassung!$C89","v":0},null,null,null,"Der/die Bewerber/innen erkennen mit Unterschrift die DTSA-Verleihungsbedingungen an. \n"]
["Nachname",null,{"$f":"Datenerfassung!$D88","v":0},{"$nulls":6},"Nachname",null,{"$f":"Datenerfassung!$D89","v":0}]
["Verein/Schule",null,{"$f":"Datenerfassung!$G88","v":"00:00:00"},{"$nulls":6},"Verein/Schule",null,{"$f":"Datenerfassung!$G89","v":"00:00:00"}]
[]
["Medaille",null,{"$f":"Datenerfassung!$B88","v":0},{"$nulls":6},"Medaille",null,{"$f":"Datenerfassung!$B89","v":0}]
[{"$nulls":6},"Anerkennung der Bedingungen durch Unterschrift",{"$nulls":8},"Anerkennung der Bedingungen durch Unterschrift"]
[]
[" Tanz bitte eintragen/ankreuzen",null,null,"Musik","Balancen","Bewegg.-\nAblauf","X =\nbestanden","spezielle Bemerkungen (Lob/Hinweis/Kritik)\nder/des Abnehmer/in",null," Tanz bitte eintragen/ankreuzen",null,null,"Musik","Balancen","Bewegg.-\nAblauf","X =\nbestanden","spezielle Bemerkungen (Lob/Hinweis/Kritik)\nder/des Abnehmer/in"]
[null,{"$f":"Datenerfassung!$AE88","v":"Langsamer Walzer"},{"$nulls":8},{"$f":"Datenerfassung!$AE89","v":"Langsamer Walzer"}]
[null,{"$f":"Datenerfassung!$AF88","v":"Tango"},{"$nulls":8},{"$f":"Datenerfassung!$AF89","v":"Tango"}]
[null,{"$f":"Datenerfassung!$AG88","v":"Wiener Walzer"},{"$nulls":8},{"$f":"Datenerfassung!$AG89","v":"Wiener Walzer"}]
[null,{"$f":"Datenerfassung!$AH88","v":"Slowfox"},{"$nulls":8},{"$f":"Datenerfassung!$AH89","v":"Slowfox"}]
[null,{"$f":"Datenerfassung!$AI88","v":"Quickstep"},{"$nulls":8},{"$f":"Datenerfassung!$AI89","v":"Quickstep"}]
[null,{"$f":"Datenerfassung!$AJ88","v":"Samba"},{"$nulls":8},{"$f":"Datenerfassung!$AJ89","v":"Samba"}]
[null,{"$f":"Datenerfassung!$AK88","v":"Chachacha"},{"$nulls":8},{"$f":"Datenerfassung!$AK89","v":"Chachacha"}]
[null,{"$f":"Datenerfassung!$AL88","v":"Rumba"},{"$nulls":8},{"$f":"Datenerfassung!$AL89","v":"Rumba"}]
[null,{"$f":"Datenerfassung!$AM88","v":"Paso Doble"},{"$nulls":8},{"$f":"Datenerfassung!$AM89","v":"Paso Doble"}]
[null,{"$f":"Datenerfassung!$AN88","v":"Jive"},{"$nulls":8},{"$f":"Datenerfassung!$AN89","v":"Jive"}]
[null,{"$f":"Datenerfassung!$AO88","v":"Discofox"},{"$nulls":8},{"$f":"Datenerfassung!$AO89","v":"Discofox"}]
[]
[null,"Gemäß Ausbildungsordnung des DTV wurde eine Leistung für den Lizenzerwerb (10-Tänze-Gold) erbracht.",{"$nulls":8},"Gemäß Ausbildungsordnung des DTV wurde eine Leistung für den Lizenzerwerb (10-Tänze-Gold) erbracht."]
[]
["Unterschriften Abnehmer/innen:",{"$nulls":8},"Unterschriften Abnehmer/innen:"]
[]
[]
[{"$f":"Anmeldung!$L$19","v":"00:00:00"},null,null,null,{"$f":"Anmeldung!$L$20","v":0},null,null,{"$f":"Anmeldung!$L$21","v":0},null,{"$f":"Anmeldung!$L$19","v":"00:00:00"},null,null,null,{"$f":"Anmeldung!$L$20","v":0},null,null,{"$f":"Anmeldung!$L$21","v":0}]

{"sheet":"Einzel 81-100","index":7,"n_rows":280,"n_cols":17,"rows_kept":280,"cut":false,"hidden":false,"merged":[[4,2,4,5],[4,11,4,14],[6,2,6,5],[6,6,6,7],[6,11,6,14],[1,0,1,1],[1,2,1,6],[1,9,1,10],[1,11,1,15],[2,2,2,5],[2,6,4,7],[2,11,2,14],[2,15,4,16],[3,2,3,5],[3,11,3,14],[11,1,11,2],[11,10,11,11],[12,1,12,2],[12,10,12,11],[13,1,13,2],[13,10,13,11],[6,15,6,16],[7,2,7,5],[7,11,7,14],[9,0,9,2],[9,9,9,11],[10,1,10,2],[10,10,10,11],[17,1,17,2],[17,10,17,11],[18,1,18,2],[18,10,18,11],[19,1,19,2],[19,10,19,11],[14,1,14,2],[14,10,14,11],[15,1,15,2],[15,10,15,11],[16,1,16,2],[16,10,16,11],[27,4,27,6],[27,13,27,15],[29,0,29,1],[29,2,29,6],[29,9,29,10],[29,11,29,15],[20,1,20,2],[20,10,20,11],[22,1,22,7],[22,10,22,16],[24,0,24,7],[24,9,24,16],[34,15,34,16],[35,2,35,5],[35,11,35,14],[30,2,30,5],[30,6,32,7],[30,11,30,14],[30,15,32,16],[31,2,31,5],[31,11,31,14],[32,2,32,5],[32,11,32,14],[37,0,37,2],[37,9,37,11],[38,1,38,2],[38,10,38,11],[39,1,39,2],[39,10,39,11],[34,2,34,5],[34,6,34,7],[34,11,34,14],[43,1,43,2],[43,10,43,11],[44,1,44,2],[44,10,44,11],[45,1,45,2],[45,10,45,11],[40,1,40,2],[40,10,40,11],[41,1,41,2],[41,10,41,11],[42,1,42,2],[42,10,42,11],[50,1,50,7],[50,10,50,16],[52,0,52,7],[52,9,52,16],[55,4,55,6],[55,13,55,15],[46,1,46,2],[46,10,46,11],[47,1,47,2],[47,10,47,11],[48,1,48,2],[48,10,48,11],[60,2,60,5],[60,11,60,14],[62,2,62,5],[62,6,62,7],[62,11,62,14],[57,0,57,1],[57,2,57,6],[57,9,57,10],[57,11,57,15],[58,2,58,5],[58,6,60,7],[58,11,58,14],[58,15,60,16],[59,2,59,5],[59,11,59,14],[67,1,67,2],[67,10,67,11],[68,1,68,2],[68,10,68,11],[69,1,69,2],[69,10,69,11],[62,15,62,16],[63,2,63,5],[63,11,63,14],[65,0,65,2],[65,9,65,11],[66,1,66,2],[66,10,66,11],[73,1,73,2],[73,10,73,11],[74,1,74,2],[74,10,74,11],[75,1,75,2],[75,10,75,11],[70,1,70,2],[70,10,70,11],[71,1,71,2],[71,10,71,11],[72,1,72,2],[72,10,72,11],[83,4,83,6],[83,13,83,15],[85,0,85,1],[85,2,85,6],[85,9,85,10],[85,11,85,15],[76,1,76,2],[76,10,76,11],[78,1,78,7],[78,10,78,16],[80,0,80,7],[80,9,80,16],[90,15,90,16],[91,2,91,5],[91,11,91,14],[86,2,86,5],[86,6,88,7],[86,11,86,14],[86,15,88,16],[87,2,87,5],[87,11,87,14],[88,2,88,5],[88,11,88,14],[93,0,93,2],[93,9,93,11],[94,1,94,2],[94,10,94,11],[95,1,95,2],[95,10,95,11],[90,2,90,5],[90,6,90,7],[90,11,90,14],[99,1,99,2],[99,10,99,11],[100,1,100,2],[100,10,100,11],[101,1,101,2],[101,10,101,11],[96,1,96,2],[96,10,96,11],[97,1,97,2],[97,10,97,11],[98,1,98,2],[98,10,98,11],[106,1,106,7],[106,10,106,16],[108,0,108,7],[108,9,108,16],[111,4,111,6],[111,13,111,15],[102,1,102,2],[102,10,102,11],[103,1,103,2],[103,10,103,11],[104,1,104,2],[104,10,104,11],[116,2,116,5],[116,11,116,14],[118,2,118,5],[118,6,118,7],[118,11,118,14],[113,0,113,1],[113,2,113,6],[113,9,113,10],[113,11,113,15],[114,2,114,5],[114,6,116,7],[114,11,114,14],[114,15,116,16],[115,2,115,5],[115,11,115,14],[123,1,123,2],[123,10,123,11],[124,1,124,2],[124,10,124,11],[125,1,125,2],[125,10,125,11],[118,15,118,16],[119,2,119,5],[119,11,119,14],[121,0,121,2],[121,9,121,11],[122,1,122,2],[122,10,122,11],[129,1,129,2],[129,10,129,11],[130,1,130,2],[130,10,130,11],[131,1,131,2],[131,10,131,11],[126,1,126,2],[126,10,126,11],[127,1,127,2],[127,10,127,11],[128,1,128,2],[128,10,128,11],[139,4,139,6],[139,13,139,15],[141,0,141,1],[141,2,141,6],[141,9,141,10],[141,11,141,15],[132,1,132,2],[132,10,132,11],[134,1,134,7],[134,10,134,16],[136,0,136,7],[136,9,136,16],[146,15,146,16],[147,2,147,5],[147,11,147,14],[142,2,142,5],[142,6,144,7],[142,11,142,14],[142,15,144,16],[143,2,143,5],[143,11,143,14],[144,2,144,5],[144,11,144,14],[149,0,149,2],[149,9,149,11],[150,1,150,2],[150,10,150,11],[151,1,151,2],[151,10,151,11],[146,2,146,5],[146,6,146,7],[146,11,146,14],[155,1,155,2],[155,10,155,11],[156,1,156,2],[156,10,156,11],[157,1,157,2],[157,10,157,11],[152,1,152,2],[152,10,152,11],[153,1,153,2],[153,10,153,11],[154,1,154,2],[154,10,154,11],[162,1,162,7],[162,10,162,16],[164,0,164,7],[164,9,164,16],[167,4,167,6],[167,13,167,15],[158,1,158,2],[158,10,158,11],[159,1,159,2],[159,10,159,11],[160,1,160,2],[160,10,160,11],[172,2,172,5],[172,11,172,14],[174,2,174,5],[174,6,174,7],[174,11,174,14],[169,0,169,1],[169,2,169,6],[169,9,169,10],[169,11,169,15],[170,2,170,5],[170,6,172,7],[170,11,170,14],[170,15,172,16],[171,2,171,5],[171,11,171,14],[179,1,179,2],[179,10,179,11],[180,1,180,2],[180,10,180,11],[181,1,181,2],[181,10,181,11],[174,15,174,16],[175,2,175,5],[175,11,175,14],[177,0,177,2],[177,9,177,11],[178,1,178,2],[178,10,178,11],[185,1,185,2],[185,10,185,11],[186,1,186,2],[186,10,186,11],[187,1,187,2],[187,10,187,11],[182,1,182,2],[182,10,182,11],[183,1,183,2],[183,10,183,11],[184,1,184,2],[184,10,184,11],[195,4,195,6],[195,13,195,15],[197,0,197,1],[197,2,197,6],[197,9,197,10],[197,11,197,15],[188,1,188,2],[188,10,188,11],[190,1,190,7],[190,10,190,16],[192,0,192,7],[192,9,192,16],[202,15,202,16],[203,2,203,5],[203,11,203,14],[198,2,198,5],[198,6,200,7],[198,11,198,14],[198,15,200,16],[199,2,199,5],[199,11,199,14],[200,2,200,5],[200,11,200,14],[205,0,205,2],[205,9,205,11],[206,1,206,2],[206,10,206,11],[207,1,207,2],[207,10,207,11],[202,2,202,5],[202,6,202,7],[202,11,202,14],[211,1,211,2],[211,10,211,11],[212,1,212,2],[212,10,212,11],[213,1,213,2],[213,10,213,11],[208,1,208,2],[208,10,208,11],[209,1,209,2],[209,10,209,11],[210,1,210,2],[210,10,210,11],[218,1,218,7],[218,10,218,16],[220,0,220,7],[220,9,220,16],[223,4,223,6],[223,13,223,15],[214,1,214,2],[214,10,214,11],[215,1,215,2],[215,10,215,11],[216,1,216,2],[216,10,216,11],[228,2,228,5],[228,11,228,14],[230,2,230,5],[230,6,230,7],[230,11,230,14],[225,0,225,1],[225,2,225,6],[225,9,225,10],[225,11,225,15],[226,2,226,5],[226,6,228,7],[226,11,226,14],[226,15,228,16],[227,2,227,5],[227,11,227,14],[235,1,235,2],[235,10,235,11],[236,1,236,2],[236,10,236,11],[237,1,237,2],[237,10,237,11],[230,15,230,16],[231,2,231,5],[231,11,231,14],[233,0,233,2],[233,9,233,11],[234,1,234,2],[234,10,234,11],[241,1,241,2],[241,10,241,11],[242,1,242,2],[242,10,242,11],[243,1,243,2],[243,10,243,11],[238,1,238,2],[238,10,238,11],[239,1,239,2],[239,10,239,11],[240,1,240,2],[240,10,240,11],[251,4,251,6],[251,13,251,15],[253,0,253,1],[253,2,253,6],[253,9,253,10],[253,11,253,15],[244,1,244,2],[244,10,244,11],[246,1,246,7],[246,10,246,16],[248,0,248,7],[248,9,248,16],[258,15,258,16],[259,2,259,5],[259,11,259,14],[254,2,254,5],[254,6,256,7],[254,11,254,14],[254,15,256,16],[255,2,255,5],[255,11,255,14],[256,2,256,5],[256,11,256,14],[261,0,261,2],[261,9,261,11],[262,1,262,2],[262,10,262,11],[263,1,263,2],[263,10,263,11],[258,2,258,5],[258,6,258,7],[258,11,258,14],[267,1,267,2],[267,10,267,11],[268,1,268,2],[268,10,268,11],[269,1,269,2],[269,10,269,11],[264,1,264,2],[264,10,264,11],[265,1,265,2],[265,10,265,11],[266,1,266,2],[266,10,266,11],[274,1,274,7],[274,10,274,16],[276,0,276,7],[276,9,276,16],[279,4,279,6],[279,13,279,15],[270,1,270,2],[270,10,270,11],[271,1,271,2],[271,10,271,11],[272,1,272,2],[272,10,272,11]]}
["Abnahmekarte für das deutsche Tanzsportabzeichen DTSA",{"$nulls":8},"Abnahmekarte für das deutsche Tanzsportabzeichen DTSA"]
[{"$f":"Anmeldung!$E$7","v":"00:00:00"},null,{"$f":"Anmeldung!$E$8","v":0},{"$nulls":4},{"$f":"\"# \"&Datenerfassung!$H90","v":"# 81"},null,{"$f":"Anmeldung!$E$7","v":"00:00:00"},null,{"$f":"Anmeldung!$E$8","v":0},{"$nulls":4},{"$f":"\"# \"&Datenerfassung!$H91","v":"# 82"}]
["Vorname",null,{"$f":"Datenerfassung!$C90","v":0},null,null,null,"Der/die Bewerber/innen erkennen mit Unterschrift die DTSA-Verleihungsbedingungen an. \n",null,null,"Vorname",null,{"$f":"Datenerfassung!$C91","v":0},null,null,null,"Der/die Bewerber/innen erkennen mit Unterschrift die DTSA-Verleihungsbedingungen an. \n"]
["Nachname",null,{"$f":"Datenerfassung!$D90","v":0},{"$nulls":6},"Nachname",null,{"$f":"Datenerfassung!$D91","v":0}]
["Verein/Schule",null,{"$f":"Datenerfassung!$G90","v":"00:00:00"},{"$nulls":6},"Verein/Schule",null,{"$f":"Datenerfassung!$G91","v":"00:00:00"}]
[]
["Medaille",null,{"$f":"Datenerfassung!$B90","v":0},{"$nulls":6},"Medaille",null,{"$f":"Datenerfassung!$B91","v":0}]
[{"$nulls":6},"Anerkennung der Bedingungen durch Unterschrift",{"$nulls":8},"Anerkennung der Bedingungen durch Unterschrift"]
[]
[" Tanz bitte eintragen/ankreuzen",null,null,"Musik","Balancen","Bewegg.-\nAblauf","X =\nbestanden","spezielle Bemerkungen (Lob/Hinweis/Kritik)\nder/des Abnehmer/in",null," Tanz bitte eintragen/ankreuzen",null,null,"Musik","Balancen","Bewegg.-\nAblauf","X =\nbestanden","spezielle Bemerkungen (Lob/Hinweis/Kritik)\nder/des Abnehmer/in"]
[null,{"$f":"Datenerfassung!$AE90","v":"Langsamer Walzer"},{"$nulls":8},{"$f":"Datenerfassung!$AE91","v":"Langsamer Walzer"}]
[null,{"$f":"Datenerfassung!$AF90","v":"Tango"},{"$nulls":8},{"$f":"Datenerfassung!$AF91","v":"Tango"}]
[null,{"$f":"Datenerfassung!$AG90","v":"Wiener Walzer"},{"$nulls":8},{"$f":"Datenerfassung!$AG91","v":"Wiener Walzer"}]
[null,{"$f":"Datenerfassung!$AH90","v":"Slowfox"},{"$nulls":8},{"$f":"Datenerfassung!$AH91","v":"Slowfox"}]
[null,{"$f":"Datenerfassung!$AI90","v":"Quickstep"},{"$nulls":8},{"$f":"Datenerfassung!$AI91","v":"Quickstep"}]
[null,{"$f":"Datenerfassung!$AJ90","v":"Samba"},{"$nulls":8},{"$f":"Datenerfassung!$AJ91","v":"Samba"}]
[null,{"$f":"Datenerfassung!$AK90","v":"Chachacha"},{"$nulls":8},{"$f":"Datenerfassung!$AK91","v":"Chachacha"}]
[null,{"$f":"Datenerfassung!$AL90","v":"Rumba"},{"$nulls":8},{"$f":"Datenerfassung!$AL91","v":"Rumba"}]
[null,{"$f":"Datenerfassung!$AM90","v":"Paso Doble"},{"$nulls":8},{"$f":"Datenerfassung!$AM91","v":"Paso Doble"}]
[null,{"$f":"Datenerfassung!$AN90","v":"Jive"},{"$nulls":8},{"$f":"Datenerfassung!$AN91","v":"Jive"}]
[null,{"$f":"Datenerfassung!$AO90","v":"Discofox"},{"$nulls":8},{"$f":"Datenerfassung!$AO91","v":"Discofox"}]
[]
[null,"Gemäß Ausbildungsordnung des DTV wurde eine Leistung für den Lizenzerwerb (10-Tänze-Gold) erbracht.",{"$nulls":8},"Gemäß Ausbildungsordnung des DTV wurde eine Leistung für den Lizenzerwerb (10-Tänze-Gold) erbracht."]
[]
["Unterschriften Abnehmer/innen:",{"$nulls":8},"Unterschriften Abnehmer/innen:"]
[]
[]
[{"$f":"Anmeldung!$L$19","v":"00:00:00"},null,null,null,{"$f":"Anmeldung!$L$20","v":0},null,null,{"$f":"Anmeldung!$L$21","v":0},null,{"$f":"Anmeldung!$L$19","v":"00:00:00"},null,null,null,{"$f":"Anmeldung!$L$20","v":0},null,null,{"$f":"Anmeldung!$L$21","v":0}]
["Abnahmekarte für das deutsche Tanzsportabzeichen DTSA",{"$nulls":8},"Abnahmekarte für das deutsche Tanzsportabzeichen DTSA"]
[{"$f":"Anmeldung!$E$7","v":"00:00:00"},null,{"$f":"Anmeldung!$E$8","v":0},{"$nulls":4},{"$f":"\"# \"&Datenerfassung!$H92","v":"# 83"},null,{"$f":"Anmeldung!$E$7","v":"00:00:00"},null,{"$f":"Anmeldung!$E$8","v":0},{"$nulls":4},{"$f":"\"# \"&Datenerfassung!$H93","v":"# 84"}]
["Vorname",null,{"$f":"Datenerfassung!$C92","v":0},null,null,null,"Der/die Bewerber/innen erkennen mit Unterschrift die DTSA-Verleihungsbedingungen an. \n",null,null,"Vorname",null,{"$f":"Datenerfassung!$C93","v":0},null,null,null,"Der/die Bewerber/innen erkennen mit Unterschrift die DTSA-Verleihungsbedingungen an. \n"]
["Nachname",null,{"$f":"Datenerfassung!$D92","v":0},{"$nulls":6},"Nachname",null,{"$f":"Datenerfassung!$D93","v":0}]
["Verein/Schule",null,{"$f":"Datenerfassung!$G92","v":"00:00:00"},{"$nulls":6},"Verein/Schule",null,{"$f":"Datenerfassung!$G93","v":"00:00:00"}]
[]
["Medaille",null,{"$f":"Datenerfassung!$B92","v":0},{"$nulls":6},"Medaille",null,{"$f":"Datenerfassung!$B93","v":0}]
[{"$nulls":6},"Anerkennung der Bedingungen durch Unterschrift",{"$nulls":8},"Anerkennung der Bedingungen durch Unterschrift"]
[]
[" Tanz bitte eintragen/ankreuzen",null,null,"Musik","Balancen","Bewegg.-\nAblauf","X =\nbestanden","spezielle Bemerkungen (Lob/Hinweis/Kritik)\nder/des Abnehmer/in",null," Tanz bitte eintragen/ankreuzen",null,null,"Musik","Balancen","Bewegg.-\nAblauf","X =\nbestanden","spezielle Bemerkungen (Lob/Hinweis/Kritik)\nder/des Abnehmer/in"]
[null,{"$f":"Datenerfassung!$AE92","v":"Langsamer Walzer"},{"$nulls":8},{"$f":"Datenerfassung!$AE93","v":"Langsamer Walzer"}]
[null,{"$f":"Datenerfassung!$AF92","v":"Tango"},{"$nulls":8},{"$f":"Datenerfassung!$AF93","v":"Tango"}]
[null,{"$f":"Datenerfassung!$AG92","v":"Wiener Walzer"},{"$nulls":8},{"$f":"Datenerfassung!$AG93","v":"Wiener Walzer"}]
[null,{"$f":"Datenerfassung!$AH92","v":"Slowfox"},{"$nulls":8},{"$f":"Datenerfassung!$AH93","v":"Slowfox"}]
[null,{"$f":"Datenerfassung!$AI92","v":"Quickstep"},{"$nulls":8},{"$f":"Datenerfassung!$AI93","v":"Quickstep"}]
[null,{"$f":"Datenerfassung!$AJ92","v":"Samba"},{"$nulls":8},{"$f":"Datenerfassung!$AJ93","v":"Samba"}]
[null,{"$f":"Datenerfassung!$AK92","v":"Chachacha"},{"$nulls":8},{"$f":"Datenerfassung!$AK93","v":"Chachacha"}]
[null,{"$f":"Datenerfassung!$AL92","v":"Rumba"},{"$nulls":8},{"$f":"Datenerfassung!$AL93","v":"Rumba"}]
[null,{"$f":"Datenerfassung!$AM92","v":"Paso Doble"},{"$nulls":8},{"$f":"Datenerfassung!$AM93","v":"Paso Doble"}]
[null,{"$f":"Datenerfassung!$AN92","v":"Jive"},{"$nulls":8},{"$f":"Datenerfassung!$AN93","v":"Jive"}]
[null,{"$f":"Datenerfassung!$AO92","v":"Discofox"},{"$nulls":8},{"$f":"Datenerfassung!$AO93","v":"Discofox"}]
[]
[null,"Gemäß Ausbildungsordnung des DTV wurde eine Leistung für den Lizenzerwerb (10-Tänze-Gold) erbracht.",{"$nulls":8},"Gemäß Ausbildungsordnung des DTV wurde eine Leistung für den Lizenzerwerb (10-Tänze-Gold) erbracht."]
[]
["Unterschriften Abnehmer/innen:",{"$nulls":8},"Unterschriften Abnehmer/innen:"]
[]
[]
[{"$f":"Anmeldung!$L$19","v":"00:00:00"},null,null,null,{"$f":"Anmeldung!$L$20","v":0},null,null,{"$f":"Anmeldung!$L$21","v":0},null,{"$f":"Anmeldung!$L$19","v":"00:00:00"},null,null,null,{"$f":"Anmeldung!$L$20","v":0},null,null,{"$f":"Anmeldung!$L$21","v":0}]
["Abnahmekarte für das deutsche Tanzsportabzeichen DTSA",{"$nulls":8},"Abnahmekarte für das deutsche Tanzsportabzeichen DTSA"]
[{"$f":"Anmeldung!$E$7","v":"00:00:00"},null,{"$f":"Anmeldung!$E$8","v":0},{"$nulls":4},{"$f":"\"# \"&Datenerfassung!$H94","v":"# 85"},null,{"$f":"Anmeldung!$E$7","v":"00:00:00"},null,{"$f":"Anmeldung!$E$8","v":0},{"$nulls":4},{"$f":"\"# \"&Datenerfassung!$H95","v":"# 86"}]
["Vorname",null,{"$f":"Datenerfassung!$C94","v":0},null,null,null,"Der/die Bewerber/innen erkennen mit Unterschrift die DTSA-Verleihungsbedingungen an. \n",null,null,"Vorname",null,{"$f":"Datenerfassung!$C95","v":0},null,null,null,"Der/die Bewerber/innen erkennen mit Unterschrift die DTSA-Verleihungsbedingungen an. \n"]
["Nachname",null,{"$f":"Datenerfassung!$D94","v":0},{"$nulls":6},"Nachname",null,{"$f":"Datenerfassung!$D95","v":0}]
["Verein/Schule",null,{"$f":"Datenerfassung!$G94","v":"00:00:00"},{"$nulls":6},"Verein/Schule",null,{"$f":"Datenerfassung!$G95","v":"00:00:00"}]
[]
["Medaille",null,{"$f":"Datenerfassung!$B94","v":0},{"$nulls":6},"Medaille",null,{"$f":"Datenerfassung!$B95","v":0}]
[{"$nulls":6},"Anerkennung der Bedingungen durch Unterschrift",{"$nulls":8},"Anerkennung der Bedingungen durch Unterschrift"]
[]
[" Tanz bitte eintragen/ankreuzen",null,null,"Musik","Balancen","Bewegg.-\nAblauf","X =\nbestanden","spezielle Bemerkungen (Lob/Hinweis/Kritik)\nder/des Abnehmer/in",null," Tanz bitte eintragen/ankreuzen",null,null,"Musik","Balancen","Bewegg.-\nAblauf","X =\nbestanden","spezielle Bemerkungen (Lob/Hinweis/Kritik)\nder/des Abnehmer/in"]
[null,{"$f":"Datenerfassung!$AE94","v":"Langsamer Walzer"},{"$nulls":8},{"$f":"Datenerfassung!$AE95","v":"Langsamer Walzer"}]
[null,{"$f":"Datenerfassung!$AF94","v":"Tango"},{"$nulls":8},{"$f":"Datenerfassung!$AF95","v":"Tango"}]
[null,{"$f":"Datenerfassung!$AG94","v":"Wiener Walzer"},{"$nulls":8},{"$f":"Datenerfassung!$AG95","v":"Wiener Walzer"}]
[null,{"$f":"Datenerfassung!$AH94","v":"Slowfox"},{"$nulls":8},{"$f":"Datenerfassung!$AH95","v":"Slowfox"}]
[null,{"$f":"Datenerfassung!$AI94","v":"Quickstep"},{"$nulls":8},{"$f":"Datenerfassung!$AI95","v":"Quickstep"}]
[null,{"$f":"Datenerfassung!$AJ94","v":"Samba"},{"$nulls":8},{"$f":"Datenerfassung!$AJ95","v":"Samba"}]
[null,{"$f":"Datenerfassung!$AK94","v":"Chachacha"},{"$nulls":8},{"$f":"Datenerfassung!$AK95","v":"Chachacha"}]
[null,{"$f":"Datenerfassung!$AL94","v":"Rumba"},{"$nulls":8},{"$f":"Datenerfassung!$AL95","v":"Rumba"}]
[null,{"$f":"Datenerfassung!$AM94","v":"Paso Doble"},{"$nulls":8},{"$f":"Datenerfassung!$AM95","v":"Paso Doble"}]
[null,{"$f":"Datenerfassung!$AN94","v":"Jive"},{"$nulls":8},{"$f":"Datenerfassung!$AN95","v":"Jive"}]
[null,{"$f":"Datenerfassung!$AO94","v":"Discofox"},{"$nulls":8},{"$f":"Datenerfassung!$AO95","v":"Discofox"}]
[]
[null,"Gemäß Ausbildungsordnung des DTV wurde eine Leistung für den Lizenzerwerb (10-Tänze-Gold) erbracht.",{"$nulls":8},"Gemäß Ausbildungsordnung des DTV wurde eine Leistung für den Lizenzerwerb (10-Tänze-Gold) erbracht."]
[]
["Unterschriften Abnehmer/innen:",{"$nulls":8},"Unterschriften Abnehmer/innen:"]
[]
[]
[{"$f":"Anmeldung!$L$19","v":"00:00:00"},null,null,null,{"$f":"Anmeldung!$L$20","v":0},null,null,{"$f":"Anmeldung!$L$21","v":0},null,{"$f":"Anmeldung!$L$19","v":"00:00:00"},null,null,null,{"$f":"Anmeldung!$L$20","v":0},null,null,{"$f":"Anmeldung!$L$21","v":0}]
["Abnahmekarte für das deutsche Tanzsportabzeichen DTSA",{"$nulls":8},"Abnahmekarte für das deutsche Tanzsportabzeichen DTSA"]
[{"$f":"Anmeldung!$E$7","v":"00:00:00"},null,{"$f":"Anmeldung!$E$8","v":0},{"$nulls":4},{"$f":"\"# \"&Datenerfassung!$H96","v":"# 87"},null,{"$f":"Anmeldung!$E$7","v":"00:00:00"},null,{"$f":"Anmeldung!$E$8","v":0},{"$nulls":4},{"$f":"\"# \"&Datenerfassung!$H97","v":"# 88"}]
["Vorname",null,{"$f":"Datenerfassung!$C96","v":0},null,null,null,"Der/die Bewerber/innen erkennen mit Unterschrift die DTSA-Verleihungsbedingungen an. \n",null,null,"Vorname",null,{"$f":"Datenerfassung!$C97","v":0},null,null,null,"Der/die Bewerber/innen erkennen mit Unterschrift die DTSA-Verleihungsbedingungen an. \n"]
["Nachname",null,{"$f":"Datenerfassung!$D96","v":0},{"$nulls":6},"Nachname",null,{"$f":"Datenerfassung!$D97","v":0}]
["Verein/Schule",null,{"$f":"Datenerfassung!$G96","v":"00:00:00"},{"$nulls":6},"Verein/Schule",null,{"$f":"Datenerfassung!$G97","v":"00:00:00"}]
[]
["Medaille",null,{"$f":"Datenerfassung!$B96","v":0},{"$nulls":6},"Medaille",null,{"$f":"Datenerfassung!$B97","v":0}]
[{"$nulls":6},"Anerkennung der Bedingungen durch Unterschrift",{"$nulls":8},"Anerkennung der Bedingungen durch Unterschrift"]
[]
[" Tanz bitte eintragen/ankreuzen",null,null,"Musik","Balancen","Bewegg.-\nAblauf","X =\nbestanden","spezielle Bemerkungen (Lob/Hinweis/Kritik)\nder/des Abnehmer/in",null," Tanz bitte eintragen/ankreuzen",null,null,"Musik","Balancen","Bewegg.-\nAblauf","X =\nbestanden","spezielle Bemerkungen (Lob/Hinweis/Kritik)\nder/des Abnehmer/in"]
[null,{"$f":"Datenerfassung!$AE96","v":"Langsamer Walzer"},{"$nulls":8},{"$f":"Datenerfassung!$AE97","v":"Langsamer Walzer"}]
[null,{"$f":"Datenerfassung!$AF96","v":"Tango"},{"$nulls":8},{"$f":"Datenerfassung!$AF97","v":"Tango"}]
[null,{"$f":"Datenerfassung!$AG96","v":"Wiener Walzer"},{"$nulls":8},{"$f":"Datenerfassung!$AG97","v":"Wiener Walzer"}]
[null,{"$f":"Datenerfassung!$AH96","v":"Slowfox"},{"$nulls":8},{"$f":"Datenerfassung!$AH97","v":"Slowfox"}]
[null,{"$f":"Datenerfassung!$AI96","v":"Quickstep"},{"$nulls":8},{"$f":"Datenerfassung!$AI97","v":"Quickstep"}]
[null,{"$f":"Datenerfassung!$AJ96","v":"Samba"},{"$nulls":8},{"$f":"Datenerfassung!$AJ97","v":"Samba"}]
[null,{"$f":"Datenerfassung!$AK96","v":"Chachacha"},{"$nulls":8},{"$f":"Datenerfassung!$AK97","v":"Chachacha"}]
[null,{"$f":"Datenerfassung!$AL96","v":"Rumba"},{"$nulls":8},{"$f":"Datenerfassung!$AL97","v":"Rumba"}]
[null,{"$f":"Datenerfassung!$AM96","v":"Paso Doble"},{"$nulls":8},{"$f":"Datenerfassung!$AM97","v":"Paso Doble"}]
[null,{"$f":"Datenerfassung!$AN96","v":"Jive"},{"$nulls":8},{"$f":"Datenerfassung!$AN97","v":"Jive"}]
[null,{"$f":"Datenerfassung!$AO96","v":"Discofox"},{"$nulls":8},{"$f":"Datenerfassung!$AO97","v":"Discofox"}]
[]
[null,"Gemäß Ausbildungsordnung des DTV wurde eine Leistung für den Lizenzerwerb (10-Tänze-Gold) erbracht.",{"$nulls":8},"Gemäß Ausbildungsordnung des DTV wurde eine Leistung für den Lizenzerwerb (10-Tänze-Gold) erbracht."]
[]
["Unterschriften Abnehmer/innen:",{"$nulls":8},"Unterschriften Abnehmer/innen:"]
[]
[]
[{"$f":"Anmeldung!$L$19","v":"00:00:00"},null,null,null,{"$f":"Anmeldung!$L$20","v":0},null,null,{"$f":"Anmeldung!$L$21","v":0},null,{"$f":"Anmeldung!$L$19","v":"00:00:00"},null,null,null,{"$f":"Anmeldung!$L$20","v":0},null,null,{"$f":"Anmeldung!$L$21","v":0}]
["Abnahmekarte für das deutsche Tanzsportabzeichen DTSA",{"$nulls":8},"Abnahmekarte für das deutsche Tanzsportabzeichen DTSA"]
[{"$f":"Anmeldung!$E$7","v":"00:00:00"},null,{"$f":"Anmeldung!$E$8","v":0},{"$nulls":4},{"$f":"\"# \"&Datenerfassung!$H98","v":"# 89"},null,{"$f":"Anmeldung!$E$7","v":"00:00:00"},null,{"$f":"Anmeldung!$E$8","v":0},{"$nulls":4},{"$f":"\"# \"&Datenerfassung!$H99","v":"# 90"}]
["Vorname",null,{"$f":"Datenerfassung!$C98","v":0},null,null,null,"Der/die Bewerber/innen erkennen mit Unterschrift die DTSA-Verleihungsbedingungen an. \n",null,null,"Vorname",null,{"$f":"Datenerfassung!$C99","v":0},null,null,null,"Der/die Bewerber/innen erkennen mit Unterschrift die DTSA-Verleihungsbedingungen an. \n"]
["Nachname",null,{"$f":"Datenerfassung!$D98","v":0},{"$nulls":6},"Nachname",null,{"$f":"Datenerfassung!$D99","v":0}]
["Verein/Schule",null,{"$f":"Datenerfassung!$G98","v":"00:00:00"},{"$nulls":6},"Verein/Schule",null,{"$f":"Datenerfassung!$G99","v":"00:00:00"}]
[]
["Medaille",null,{"$f":"Datenerfassung!$B98","v":0},{"$nulls":6},"Medaille",null,{"$f":"Datenerfassung!$B99","v":0}]
[{"$nulls":6},"Anerkennung der Bedingungen durch Unterschrift",{"$nulls":8},"Anerkennung der Bedingungen durch Unterschrift"]
[]
[" Tanz bitte eintragen/ankreuzen",null,null,"Musik","Balancen","Bewegg.-\nAblauf","X =\nbestanden","spezielle Bemerkungen (Lob/Hinweis/Kritik)\nder/des Abnehmer/in",null," Tanz bitte eintragen/ankreuzen",null,null,"Musik","Balancen","Bewegg.-\nAblauf","X =\nbestanden","spezielle Bemerkungen (Lob/Hinweis/Kritik)\nder/des Abnehmer/in"]
[null,{"$f":"Datenerfassung!$AE98","v":"Langsamer Walzer"},{"$nulls":8},{"$f":"Datenerfassung!$AE99","v":"Langsamer Walzer"}]
[null,{"$f":"Datenerfassung!$AF98","v":"Tango"},{"$nulls":8},{"$f":"Datenerfassung!$AF99","v":"Tango"}]
[null,{"$f":"Datenerfassung!$AG98","v":"Wiener Walzer"},{"$nulls":8},{"$f":"Datenerfassung!$AG99","v":"Wiener Walzer"}]
[null,{"$f":"Datenerfassung!$AH98","v":"Slowfox"},{"$nulls":8},{"$f":"Datenerfassung!$AH99","v":"Slowfox"}]
[null,{"$f":"Datenerfassung!$AI98","v":"Quickstep"},{"$nulls":8},{"$f":"Datenerfassung!$AI99","v":"Quickstep"}]
[null,{"$f":"Datenerfassung!$AJ98","v":"Samba"},{"$nulls":8},{"$f":"Datenerfassung!$AJ99","v":"Samba"}]
[null,{"$f":"Datenerfassung!$AK98","v":"Chachacha"},{"$nulls":8},{"$f":"Datenerfassung!$AK99","v":"Chachacha"}]
[null,{"$f":"Datenerfassung!$AL98","v":"Rumba"},{"$nulls":8},{"$f":"Datenerfassung!$AL99","v":"Rumba"}]
[null,{"$f":"Datenerfassung!$AM98","v":"Paso Doble"},{"$nulls":8},{"$f":"Datenerfassung!$AM99","v":"Paso Doble"}]
[null,{"$f":"Datenerfassung!$AN98","v":"Jive"},{"$nulls":8},{"$f":"Datenerfassung!$AN99","v":"Jive"}]
[null,{"$f":"Datenerfassung!$AO98","v":"Discofox"},{"$nulls":8},{"$f":"Datenerfassung!$AO99","v":"Discofox"}]
[]
[null,"Gemäß Ausbildungsordnung des DTV wurde eine Leistung für den Lizenzerwerb (10-Tänze-Gold) erbracht.",{"$nulls":8},"Gemäß Ausbildungsordnung des DTV wurde eine Leistung für den Lizenzerwerb (10-Tänze-Gold) erbracht."]
[]
["Unterschriften Abnehmer/innen:",{"$nulls":8},"Unterschriften Abnehmer/innen:"]
[]
[]
[{"$f":"Anmeldung!$L$19","v":"00:00:00"},null,null,null,{"$f":"Anmeldung!$L$20","v":0},null,null,{"$f":"Anmeldung!$L$21","v":0},null,{"$f":"Anmeldung!$L$19","v":"00:00:00"},null,null,null,{"$f":"Anmeldung!$L$20","v":0},null,null,{"$f":"Anmeldung!$L$21","v":0}]
["Abnahmekarte für das deutsche Tanzsportabzeichen DTSA",{"$nulls":8},"Abnahmekarte für das deutsche Tanzsportabzeichen DTSA"]
[{"$f":"Anmeldung!$E$7","v":"00:00:00"},null,{"$f":"Anmeldung!$E$8","v":0},{"$nulls":4},{"$f":"\"# \"&Datenerfassung!$H100","v":"# 91"},null,{"$f":"Anmeldung!$E$7","v":"00:00:00"},null,{"$f":"Anmeldung!$E$8","v":0},{"$nulls":4},{"$f":"\"# \"&Datenerfassung!$H101","v":"# 92"}]
["Vorname",null,{"$f":"Datenerfassung!$C100","v":0},null,null,null,"Der/die Bewerber/innen erkennen mit Unterschrift die DTSA-Verleihungsbedingungen an. \n",null,null,"Vorname",null,{"$f":"Datenerfassung!$C101","v":0},null,null,null,"Der/die Bewerber/innen erkennen mit Unterschrift die DTSA-Verleihungsbedingungen an. \n"]
["Nachname",null,{"$f":"Datenerfassung!$D100","v":0},{"$nulls":6},"Nachname",null,{"$f":"Datenerfassung!$D101","v":0}]
["Verein/Schule",null,{"$f":"Datenerfassung!$G100","v":"00:00:00"},{"$nulls":6},"Verein/Schule",null,{"$f":"Datenerfassung!$G101","v":"00:00:00"}]
[]
["Medaille",null,{"$f":"Datenerfassung!$B100","v":0},{"$nulls":6},"Medaille",null,{"$f":"Datenerfassung!$B101","v":0}]
[{"$nulls":6},"Anerkennung der Bedingungen durch Unterschrift",{"$nulls":8},"Anerkennung der Bedingungen durch Unterschrift"]
[]
[" Tanz bitte eintragen/ankreuzen",null,null,"Musik","Balancen","Bewegg.-\nAblauf","X =\nbestanden","spezielle Bemerkungen (Lob/Hinweis/Kritik)\nder/des Abnehmer/in",null," Tanz bitte eintragen/ankreuzen",null,null,"Musik","Balancen","Bewegg.-\nAblauf","X =\nbestanden","spezielle Bemerkungen (Lob/Hinweis/Kritik)\nder/des Abnehmer/in"]
[null,{"$f":"Datenerfassung!$AE100","v":"Langsamer Walzer"},{"$nulls":8},{"$f":"Datenerfassung!$AE101","v":"Langsamer Walzer"}]
[null,{"$f":"Datenerfassung!$AF100","v":"Tango"},{"$nulls":8},{"$f":"Datenerfassung!$AF101","v":"Tango"}]
[null,{"$f":"Datenerfassung!$AG100","v":"Wiener Walzer"},{"$nulls":8},{"$f":"Datenerfassung!$AG101","v":"Wiener Walzer"}]
[null,{"$f":"Datenerfassung!$AH100","v":"Slowfox"},{"$nulls":8},{"$f":"Datenerfassung!$AH101","v":"Slowfox"}]
[null,{"$f":"Datenerfassung!$AI100","v":"Quickstep"},{"$nulls":8},{"$f":"Datenerfassung!$AI101","v":"Quickstep"}]
[null,{"$f":"Datenerfassung!$AJ100","v":"Samba"},{"$nulls":8},{"$f":"Datenerfassung!$AJ101","v":"Samba"}]
[null,{"$f":"Datenerfassung!$AK100","v":"Chachacha"},{"$nulls":8},{"$f":"Datenerfassung!$AK101","v":"Chachacha"}]
[null,{"$f":"Datenerfassung!$AL100","v":"Rumba"},{"$nulls":8},{"$f":"Datenerfassung!$AL101","v":"Rumba"}]
[null,{"$f":"Datenerfassung!$AM100","v":"Paso Doble"},{"$nulls":8},{"$f":"Datenerfassung!$AM101","v":"Paso Doble"}]
[null,{"$f":"Datenerfassung!$AN100","v":"Jive"},{"$nulls":8},{"$f":"Datenerfassung!$AN101","v":"Jive"}]
[null,{"$f":"Datenerfassung!$AO100","v":"Discofox"},{"$nulls":8},{"$f":"Datenerfassung!$AO101","v":"Discofox"}]
[]
[null,"Gemäß Ausbildungsordnung des DTV wurde eine Leistung für den Lizenzerwerb (10-Tänze-Gold) erbracht.",{"$nulls":8},"Gemäß Ausbildungsordnung des DTV wurde eine Leistung für den Lizenzerwerb (10-Tänze-Gold) erbracht."]
[]
["Unterschriften Abnehmer/innen:",{"$nulls":8},"Unterschriften Abnehmer/innen:"]
[]
[]
[{"$f":"Anmeldung!$L$19","v":"00:00:00"},null,null,null,{"$f":"Anmeldung!$L$20","v":0},null,null,{"$f":"Anmeldung!$L$21","v":0},null,{"$f":"Anmeldung!$L$19","v":"00:00:00"},null,null,null,{"$f":"Anmeldung!$L$20","v":0},null,null,{"$f":"Anmeldung!$L$21","v":0}]
["Abnahmekarte für das deutsche Tanzsportabzeichen DTSA",{"$nulls":8},"Abnahmekarte für das deutsche Tanzsportabzeichen DTSA"]
[{"$f":"Anmeldung!$E$7","v":"00:00:00"},null,{"$f":"Anmeldung!$E$8","v":0},{"$nulls":4},{"$f":"\"# \"&Datenerfassung!$H102","v":"# 93"},null,{"$f":"Anmeldung!$E$7","v":"00:00:00"},null,{"$f":"Anmeldung!$E$8","v":0},{"$nulls":4},{"$f":"\"# \"&Datenerfassung!$H103","v":"# 94"}]
["Vorname",null,{"$f":"Datenerfassung!$C102","v":0},null,null,null,"Der/die Bewerber/innen erkennen mit Unterschrift die DTSA-Verleihungsbedingungen an. \n",null,null,"Vorname",null,{"$f":"Datenerfassung!$C103","v":0},null,null,null,"Der/die Bewerber/innen erkennen mit Unterschrift die DTSA-Verleihungsbedingungen an. \n"]
["Nachname",null,{"$f":"Datenerfassung!$D102","v":0},{"$nulls":6},"Nachname",null,{"$f":"Datenerfassung!$D103","v":0}]
["Verein/Schule",null,{"$f":"Datenerfassung!$G102","v":"00:00:00"},{"$nulls":6},"Verein/Schule",null,{"$f":"Datenerfassung!$G103","v":"00:00:00"}]
[]
["Medaille",null,{"$f":"Datenerfassung!$B102","v":0},{"$nulls":6},"Medaille",null,{"$f":"Datenerfassung!$B103","v":0}]
[{"$nulls":6},"Anerkennung der Bedingungen durch Unterschrift",{"$nulls":8},"Anerkennung der Bedingungen durch Unterschrift"]
[]
[" Tanz bitte eintragen/ankreuzen",null,null,"Musik","Balancen","Bewegg.-\nAblauf","X =\nbestanden","spezielle Bemerkungen (Lob/Hinweis/Kritik)\nder/des Abnehmer/in",null," Tanz bitte eintragen/ankreuzen",null,null,"Musik","Balancen","Bewegg.-\nAblauf","X =\nbestanden","spezielle Bemerkungen (Lob/Hinweis/Kritik)\nder/des Abnehmer/in"]
[null,{"$f":"Datenerfassung!$AE102","v":"Langsamer Walzer"},{"$nulls":8},{"$f":"Datenerfassung!$AE103","v":"Langsamer Walzer"}]
[null,{"$f":"Datenerfassung!$AF102","v":"Tango"},{"$nulls":8},{"$f":"Datenerfassung!$AF103","v":"Tango"}]
[null,{"$f":"Datenerfassung!$AG102","v":"Wiener Walzer"},{"$nulls":8},{"$f":"Datenerfassung!$AG103","v":"Wiener Walzer"}]
[null,{"$f":"Datenerfassung!$AH102","v":"Slowfox"},{"$nulls":8},{"$f":"Datenerfassung!$AH103","v":"Slowfox"}]
[null,{"$f":"Datenerfassung!$AI102","v":"Quickstep"},{"$nulls":8},{"$f":"Datenerfassung!$AI103","v":"Quickstep"}]
[null,{"$f":"Datenerfassung!$AJ102","v":"Samba"},{"$nulls":8},{"$f":"Datenerfassung!$AJ103","v":"Samba"}]
[null,{"$f":"Datenerfassung!$AK102","v":"Chachacha"},{"$nulls":8},{"$f":"Datenerfassung!$AK103","v":"Chachacha"}]
[null,{"$f":"Datenerfassung!$AL102","v":"Rumba"},{"$nulls":8},{"$f":"Datenerfassung!$AL103","v":"Rumba"}]
[null,{"$f":"Datenerfassung!$AM102","v":"Paso Doble"},{"$nulls":8},{"$f":"Datenerfassung!$AM103","v":"Paso Doble"}]
[null,{"$f":"Datenerfassung!$AN102","v":"Jive"},{"$nulls":8},{"$f":"Datenerfassung!$AN103","v":"Jive"}]
[null,{"$f":"Datenerfassung!$AO102","v":"Discofox"},{"$nulls":8},{"$f":"Datenerfassung!$AO103","v":"Discofox"}]
[]
[null,"Gemäß Ausbildungsordnung des DTV wurde eine Leistung für den Lizenzerwerb (10-Tänze-Gold) erbracht.",{"$nulls":8},"Gemäß Ausbildungsordnung des DTV wurde eine Leistung für den Lizenzerwerb (10-Tänze-Gold) erbracht."]
[]
["Unterschriften Abnehmer/innen:",{"$nulls":8},"Unterschriften Abnehmer/innen:"]
[]
[]
[{"$f":"Anmeldung!$L$19","v":"00:00:00"},null,null,null,{"$f":"Anmeldung!$L$20","v":0},null,null,{"$f":"Anmeldung!$L$21","v":0},null,{"$f":"Anmeldung!$L$19","v":"00:00:00"},null,null,null,{"$f":"Anmeldung!$L$20","v":0},null,null,{"$f":"Anmeldung!$L$21","v":0}]
["Abnahmekarte für das deutsche Tanzsportabzeichen DTSA",{"$nulls":8},"Abnahmekarte für das deutsche Tanzsportabzeichen DTSA"]
[{"$f":"Anmeldung!$E$7","v":"00:00:00"},null,{"$f":"Anmeldung!$E$8","v":0},{"$nulls":4},{"$f":"\"# \"&Datenerfassung!$H104","v":"# 95"},null,{"$f":"Anmeldung!$E$7","v":"00:00:00"},null,{"$f":"Anmeldung!$E$8","v":0},{"$nulls":4},{"$f":"\"# \"&Datenerfassung!$H105","v":"# 96"}]
["Vorname",null,{"$f":"Datenerfassung!$C104","v":0},null,null,null,"Der/die Bewerber/innen erkennen mit Unterschrift die DTSA-Verleihungsbedingungen an. \n",null,null,"Vorname",null,{"$f":"Datenerfassung!$C105","v":0},null,null,null,"Der/die Bewerber/innen erkennen mit Unterschrift die DTSA-Verleihungsbedingungen an. \n"]
["Nachname",null,{"$f":"Datenerfassung!$D104","v":0},{"$nulls":6},"Nachname",null,{"$f":"Datenerfassung!$D105","v":0}]
["Verein/Schule",null,{"$f":"Datenerfassung!$G104","v":"00:00:00"},{"$nulls":6},"Verein/Schule",null,{"$f":"Datenerfassung!$G105","v":"00:00:00"}]
[]
["Medaille",null,{"$f":"Datenerfassung!$B104","v":0},{"$nulls":6},"Medaille",null,{"$f":"Datenerfassung!$B105","v":0}]
[{"$nulls":6},"Anerkennung der Bedingungen durch Unterschrift",{"$nulls":8},"Anerkennung der Bedingungen durch Unterschrift"]
[]
[" Tanz bitte eintragen/ankreuzen",null,null,"Musik","Balancen","Bewegg.-\nAblauf","X =\nbestanden","spezielle Bemerkungen (Lob/Hinweis/Kritik)\nder/des Abnehmer/in",null," Tanz bitte eintragen/ankreuzen",null,null,"Musik","Balancen","Bewegg.-\nAblauf","X =\nbestanden","spezielle Bemerkungen (Lob/Hinweis/Kritik)\nder/des Abnehmer/in"]
[null,{"$f":"Datenerfassung!$AE104","v":"Langsamer Walzer"},{"$nulls":8},{"$f":"Datenerfassung!$AE105","v":"Langsamer Walzer"}]
[null,{"$f":"Datenerfassung!$AF104","v":"Tango"},{"$nulls":8},{"$f":"Datenerfassung!$AF105","v":"Tango"}]
[null,{"$f":"Datenerfassung!$AG104","v":"Wiener Walzer"},{"$nulls":8},{"$f":"Datenerfassung!$AG105","v":"Wiener Walzer"}]
[null,{"$f":"Datenerfassung!$AH104","v":"Slowfox"},{"$nulls":8},{"$f":"Datenerfassung!$AH105","v":"Slowfox"}]
[null,{"$f":"Datenerfassung!$AI104","v":"Quickstep"},{"$nulls":8},{"$f":"Datenerfassung!$AI105","v":"Quickstep"}]
[null,{"$f":"Datenerfassung!$AJ104","v":"Samba"},{"$nulls":8},{"$f":"Datenerfassung!$AJ105","v":"Samba"}]
[null,{"$f":"Datenerfassung!$AK104","v":"Chachacha"},{"$nulls":8},{"$f":"Datenerfassung!$AK105","v":"Chachacha"}]
[null,{"$f":"Datenerfassung!$AL104","v":"Rumba"},{"$nulls":8},{"$f":"Datenerfassung!$AL105","v":"Rumba"}]
[null,{"$f":"Datenerfassung!$AM104","v":"Paso Doble"},{"$nulls":8},{"$f":"Datenerfassung!$AM105","v":"Paso Doble"}]
[null,{"$f":"Datenerfassung!$AN104","v":"Jive"},{"$nulls":8},{"$f":"Datenerfassung!$AN105","v":"Jive"}]
[null,{"$f":"Datenerfassung!$AO104","v":"Discofox"},{"$nulls":8},{"$f":"Datenerfassung!$AO105","v":"Discofox"}]
[]
[null,"Gemäß Ausbildungsordnung des DTV wurde eine Leistung für den Lizenzerwerb (10-Tänze-Gold) erbracht.",{"$nulls":8},"Gemäß Ausbildungsordnung des DTV wurde eine Leistung für den Lizenzerwerb (10-Tänze-Gold) erbracht."]
[]
["Unterschriften Abnehmer/innen:",{"$nulls":8},"Unterschriften Abnehmer/innen:"]
[]
[]
[{"$f":"Anmeldung!$L$19","v":"00:00:00"},null,null,null,{"$f":"Anmeldung!$L$20","v":0},null,null,{"$f":"Anmeldung!$L$21","v":0},null,{"$f":"Anmeldung!$L$19","v":"00:00:00"},null,null,null,{"$f":"Anmeldung!$L$20","v":0},null,null,{"$f":"Anmeldung!$L$21","v":0}]
["Abnahmekarte für das deutsche Tanzsportabzeichen DTSA",{"$nulls":8},"Abnahmekarte für das deutsche Tanzsportabzeichen DTSA"]
[{"$f":"Anmeldung!$E$7","v":"00:00:00"},null,{"$f":"Anmeldung!$E$8","v":0},{"$nulls":4},{"$f":"\"# \"&Datenerfassung!$H106","v":"# 97"},null,{"$f":"Anmeldung!$E$7","v":"00:00:00"},null,{"$f":"Anmeldung!$E$8","v":0},{"$nulls":4},{"$f":"\"# \"&Datenerfassung!$H107","v":"# 98"}]
["Vorname",null,{"$f":"Datenerfassung!$C106","v":0},null,null,null,"Der/die Bewerber/innen erkennen mit Unterschrift die DTSA-Verleihungsbedingungen an. \n",null,null,"Vorname",null,{"$f":"Datenerfassung!$C107","v":0},null,null,null,"Der/die Bewerber/innen erkennen mit Unterschrift die DTSA-Verleihungsbedingungen an. \n"]
["Nachname",null,{"$f":"Datenerfassung!$D106","v":0},{"$nulls":6},"Nachname",null,{"$f":"Datenerfassung!$D107","v":0}]
["Verein/Schule",null,{"$f":"Datenerfassung!$G106","v":"00:00:00"},{"$nulls":6},"Verein/Schule",null,{"$f":"Datenerfassung!$G107","v":"00:00:00"}]
[]
["Medaille",null,{"$f":"Datenerfassung!$B106","v":0},{"$nulls":6},"Medaille",null,{"$f":"Datenerfassung!$B107","v":0}]
[{"$nulls":6},"Anerkennung der Bedingungen durch Unterschrift",{"$nulls":8},"Anerkennung der Bedingungen durch Unterschrift"]
[]
[" Tanz bitte eintragen/ankreuzen",null,null,"Musik","Balancen","Bewegg.-\nAblauf","X =\nbestanden","spezielle Bemerkungen (Lob/Hinweis/Kritik)\nder/des Abnehmer/in",null," Tanz bitte eintragen/ankreuzen",null,null,"Musik","Balancen","Bewegg.-\nAblauf","X =\nbestanden","spezielle Bemerkungen (Lob/Hinweis/Kritik)\nder/des Abnehmer/in"]
[null,{"$f":"Datenerfassung!$AE106","v":"Langsamer Walzer"},{"$nulls":8},{"$f":"Datenerfassung!$AE107","v":"Langsamer Walzer"}]
[null,{"$f":"Datenerfassung!$AF106","v":"Tango"},{"$nulls":8},{"$f":"Datenerfassung!$AF107","v":"Tango"}]
[null,{"$f":"Datenerfassung!$AG106","v":"Wiener Walzer"},{"$nulls":8},{"$f":"Datenerfassung!$AG107","v":"Wiener Walzer"}]
[null,{"$f":"Datenerfassung!$AH106","v":"Slowfox"},{"$nulls":8},{"$f":"Datenerfassung!$AH107","v":"Slowfox"}]
[null,{"$f":"Datenerfassung!$AI106","v":"Quickstep"},{"$nulls":8},{"$f":"Datenerfassung!$AI107","v":"Quickstep"}]
[null,{"$f":"Datenerfassung!$AJ106","v":"Samba"},{"$nulls":8},{"$f":"Datenerfassung!$AJ107","v":"Samba"}]
[null,{"$f":"Datenerfassung!$AK106","v":"Chachacha"},{"$nulls":8},{"$f":"Datenerfassung!$AK107","v":"Chachacha"}]
[null,{"$f":"Datenerfassung!$AL106","v":"Rumba"},{"$nulls":8},{"$f":"Datenerfassung!$AL107","v":"Rumba"}]
[null,{"$f":"Datenerfassung!$AM106","v":"Paso Doble"},{"$nulls":8},{"$f":"Datenerfassung!$AM107","v":"Paso Doble"}]
[null,{"$f":"Datenerfassung!$AN106","v":"Jive"},{"$nulls":8},{"$f":"Datenerfassung!$AN107","v":"Jive"}]
[null,{"$f":"Datenerfassung!$AO106","v":"Discofox"},{"$nulls":8},{"$f":"Datenerfassung!$AO107","v":"Discofox"}]
[]
[null,"Gemäß Ausbildungsordnung des DTV wurde eine Leistung für den Lizenzerwerb (10-Tänze-Gold) erbracht.",{"$nulls":8},"Gemäß Ausbildungsordnung des DTV wurde eine Leistung für den Lizenzerwerb (10-Tänze-Gold) erbracht."]
[]
["Unterschriften Abnehmer/innen:",{"$nulls":8},"Unterschriften Abnehmer/innen:"]
[]
[]
[{"$f":"Anmeldung!$L$19","v":"00:00:00"},null,null,null,{"$f":"Anmeldung!$L$20","v":0},null,null,{"$f":"Anmeldung!$L$21","v":0},null,{"$f":"Anmeldung!$L$19","v":"00:00:00"},null,null,null,{"$f":"Anmeldung!$L$20","v":0},null,null,{"$f":"Anmeldung!$L$21","v":0}]
["Abnahmekarte für das deutsche Tanzsportabzeichen DTSA",{"$nulls":8},"Abnahmekarte für das deutsche Tanzsportabzeichen DTSA"]
[{"$f":"Anmeldung!$E$7","v":"00:00:00"},null,{"$f":"Anmeldung!$E$8","v":0},{"$nulls":4},{"$f":"\"# \"&Datenerfassung!$H108","v":"# 99"},null,{"$f":"Anmeldung!$E$7","v":"00:00:00"},null,{"$f":"Anmeldung!$E$8","v":0},{"$nulls":4},{"$f":"\"# \"&Datenerfassung!$H109","v":"# 100"}]
["Vorname",null,{"$f":"Datenerfassung!$C108","v":0},null,null,null,"Der/die Bewerber/innen erkennen mit Unterschrift die DTSA-Verleihungsbedingungen an. \n",null,null,"Vorname",null,{"$f":"Datenerfassung!$C109","v":0},null,null,null,"Der/die Bewerber/innen erkennen mit Unterschrift die DTSA-Verleihungsbedingungen an. \n"]
["Nachname",null,{"$f":"Datenerfassung!$D108","v":0},{"$nulls":6},"Nachname",null,{"$f":"Datenerfassung!$D109","v":0}]
["Verein/Schule",null,{"$f":"Datenerfassung!$G108","v":"00:00:00"},{"$nulls":6},"Verein/Schule",null,{"$f":"Datenerfassung!$G109","v":"00:00:00"}]
[]
["Medaille",null,{"$f":"Datenerfassung!$B108","v":0},{"$nulls":6},"Medaille",null,{"$f":"Datenerfassung!$B109","v":0}]
[{"$nulls":6},"Anerkennung der Bedingungen durch Unterschrift",{"$nulls":8},"Anerkennung der Bedingungen durch Unterschrift"]
[]
[" Tanz bitte eintragen/ankreuzen",null,null,"Musik","Balancen","Bewegg.-\nAblauf","X =\nbestanden","spezielle Bemerkungen (Lob/Hinweis/Kritik)\nder/des Abnehmer/in",null," Tanz bitte eintragen/ankreuzen",null,null,"Musik","Balancen","Bewegg.-\nAblauf","X =\nbestanden","spezielle Bemerkungen (Lob/Hinweis/Kritik)\nder/des Abnehmer/in"]
[null,{"$f":"Datenerfassung!$AE108","v":"Langsamer Walzer"},{"$nulls":8},{"$f":"Datenerfassung!$AE109","v":"Langsamer Walzer"}]
[null,{"$f":"Datenerfassung!$AF108","v":"Tango"},{"$nulls":8},{"$f":"Datenerfassung!$AF109","v":"Tango"}]
[null,{"$f":"Datenerfassung!$AG108","v":"Wiener Walzer"},{"$nulls":8},{"$f":"Datenerfassung!$AG109","v":"Wiener Walzer"}]
[null,{"$f":"Datenerfassung!$AH108","v":"Slowfox"},{"$nulls":8},{"$f":"Datenerfassung!$AH109","v":"Slowfox"}]
[null,{"$f":"Datenerfassung!$AI108","v":"Quickstep"},{"$nulls":8},{"$f":"Datenerfassung!$AI109","v":"Quickstep"}]
[null,{"$f":"Datenerfassung!$AJ108","v":"Samba"},{"$nulls":8},{"$f":"Datenerfassung!$AJ109","v":"Samba"}]
[null,{"$f":"Datenerfassung!$AK108","v":"Chachacha"},{"$nulls":8},{"$f":"Datenerfassung!$AK109","v":"Chachacha"}]
[null,{"$f":"Datenerfassung!$AL108","v":"Rumba"},{"$nulls":8},{"$f":"Datenerfassung!$AL109","v":"Rumba"}]
[null,{"$f":"Datenerfassung!$AM108","v":"Paso Doble"},{"$nulls":8},{"$f":"Datenerfassung!$AM109","v":"Paso Doble"}]
[null,{"$f":"Datenerfassung!$AN108","v":"Jive"},{"$nulls":8},{"$f":"Datenerfassung!$AN109","v":"Jive"}]
[null,{"$f":"Datenerfassung!$AO108","v":"Discofox"},{"$nulls":8},{"$f":"Datenerfassung!$AO109","v":"Discofox"}]
[]
[null,"Gemäß Ausbildungsordnung des DTV wurde eine Leistung für den Lizenzerwerb (10-Tänze-Gold) erbracht.",{"$nulls":8},"Gemäß Ausbildungsordnung des DTV wurde eine Leistung für den Lizenzerwerb (10-Tänze-Gold) erbracht."]
[]
["Unterschriften Abnehmer/innen:",{"$nulls":8},"Unterschriften Abnehmer/innen:"]
[]
[]
[{"$f":"Anmeldung!$L$19","v":"00:00:00"},null,null,null,{"$f":"Anmeldung!$L$20","v":0},null,null,{"$f":"Anmeldung!$L$21","v":0},null,{"$f":"Anmeldung!$L$19","v":"00:00:00"},null,null,null,{"$f":"Anmeldung!$L$20","v":0},null,null,{"$f":"Anmeldung!$L$21","v":0}]

{"sheet":"Einzel 101-120","index":8,"n_rows":280,"n_cols":17,"rows_kept":280,"cut":false,"hidden":false,"merged":[[274,1,274,7],[274,10,274,16],[276,0,276,7],[276,9,276,16],[279,4,279,6],[279,13,279,15],[270,1,270,2],[270,10,270,11],[271,1,271,2],[271,10,271,11],[272,1,272,2],[272,10,272,11],[267,1,267,2],[267,10,267,11],[268,1,268,2],[268,10,268,11],[269,1,269,2],[269,10,269,11],[264,1,264,2],[264,10,264,11],[265,1,265,2],[265,10,265,11],[266,1,266,2],[266,10,266,11],[261,0,261,2],[261,9,261,11],[262,1,262,2],[262,10,262,11],[263,1,263,2],[263,10,263,11],[258,2,258,5],[258,6,258,7],[258,11,258,14],[258,15,258,16],[259,2,259,5],[259,11,259,14],[254,2,254,5],[254,6,256,7],[254,11,254,14],[254,15,256,16],[255,2,255,5],[255,11,255,14],[256,2,256,5],[256,11,256,14],[251,4,251,6],[251,13,251,15],[253,0,253,1],[253,2,253,6],[253,9,253,10],[253,11,253,15],[244,1,244,2],[244,10,244,11],[246,1,246,7],[246,10,246,16],[248,0,248,7],[248,9,248,16],[241,1,241,2],[241,10,241,11],[242,1,242,2],[242,10,242,11],[243,1,243,2],[243,10,243,11],[238,1,238,2],[238,10,238,11],[239,1,239,2],[239,10,239,11],[240,1,240,2],[240,10,240,11],[235,1,235,2],[235,10,235,11],[236,1,236,2],[236,10,236,11],[237,1,237,2],[237,10,237,11],[230,15,230,16],[231,2,231,5],[231,11,231,14],[233,0,233,2],[233,9,233,11],[234,1,234,2],[234,10,234,11],[228,2,228,5],[228,11,228,14],[230,2,230,5],[230,6,230,7],[230,11,230,14],[225,0,225,1],[225,2,225,6],[225,9,225,10],[225,11,225,15],[226,2,226,5],[226,6,228,7],[226,11,226,14],[226,15,228,16],[227,2,227,5],[227,11,227,14],[218,1,218,7],[218,10,218,16],[220,0,220,7],[220,9,220,16],[223,4,223,6],[223,13,223,15],[214,1,214,2],[214,10,214,11],[215,1,215,2],[215,10,215,11],[216,1,216,2],[216,10,216,11],[211,1,211,2],[211,10,211,11],[212,1,212,2],[212,10,212,11],[213,1,213,2],[213,10,213,11],[208,1,208,2],[208,10,208,11],[209,1,209,2],[209,10,209,11],[210,1,210,2],[210,10,210,11],[205,0,205,2],[205,9,205,11],[206,1,206,2],[206,10,206,11],[207,1,207,2],[207,10,207,11],[202,2,202,5],[202,6,202,7],[202,11,202,14],[202,15,202,16],[203,2,203,5],[203,11,203,14],[198,2,198,5],[198,6,200,7],[198,11,198,14],[198,15,200,16],[199,2,199,5],[199,11,199,14],[200,2,200,5],[200,11,200,14],[195,4,195,6],[195,13,195,15],[197,0,197,1],[197,2,197,6],[197,9,197,10],[197,11,197,15],[188,1,188,2],[188,10,188,11],[190,1,190,7],[190,10,190,16],[192,0,192,7],[192,9,192,16],[185,1,185,2],[185,10,185,11],[186,1,186,2],[186,10,186,11],[187,1,187,2],[187,10,187,11],[182,1,182,2],[182,10,182,11],[183,1,183,2],[183,10,183,11],[184,1,184,2],[184,10,184,11],[179,1,179,2],[179,10,179,11],[180,1,180,2],[180,10,180,11],[181,1,181,2],[181,10,181,11],[174,15,174,16],[175,2,175,5],[175,11,175,14],[177,0,177,2],[177,9,177,11],[178,1,178,2],[178,10,178,11],[172,2,172,5],[172,11,172,14],[174,2,174,5],[174,6,174,7],[174,11,174,14],[169,0,169,1],[169,2,169,6],[169,9,169,10],[169,11,169,15],[170,2,170,5],[170,6,172,7],[170,11,170,14],[170,15,172,16],[171,2,171,5],[171,11,171,14],[162,1,162,7],[162,10,162,16],[164,0,164,7],[164,9,164,16],[167,4,167,6],[167,13,167,15],[158,1,158,2],[158,10,158,11],[159,1,159,2],[159,10,159,11],[160,1,160,2],[160,10,160,11],[155,1,155,2],[155,10,155,11],[156,1,156,2],[156,10,156,11],[157,1,157,2],[157,10,157,11],[152,1,152,2],[152,10,152,11],[153,1,153,2],[153,10,153,11],[154,1,154,2],[154,10,154,11],[149,0,149,2],[149,9,149,11],[150,1,150,2],[150,10,150,11],[151,1,151,2],[151,10,151,11],[146,2,146,5],[146,6,146,7],[146,11,146,14],[146,15,146,16],[147,2,147,5],[147,11,147,14],[142,2,142,5],[142,6,144,7],[142,11,142,14],[142,15,144,16],[143,2,143,5],[143,11,143,14],[144,2,144,5],[144,11,144,14],[139,4,139,6],[139,13,139,15],[141,0,141,1],[141,2,141,6],[141,9,141,10],[141,11,141,15],[132,1,132,2],[132,10,132,11],[134,1,134,7],[134,10,134,16],[136,0,136,7],[136,9,136,16],[129,1,129,2],[129,10,129,11],[130,1,130,2],[130,10,130,11],[131,1,131,2],[131,10,131,11],[126,1,126,2],[126,10,126,11],[127,1,127,2],[127,10,127,11],[128,1,128,2],[128,10,128,11],[123,1,123,2],[123,10,123,11],[124,1,124,2],[124,10,124,11],[125,1,125,2],[125,10,125,11],[118,15,118,16],[119,2,119,5],[119,11,119,14],[121,0,121,2],[121,9,121,11],[122,1,122,2],[122,10,122,11],[116,2,116,5],[116,11,116,14],[118,2,118,5],[118,6,118,7],[118,11,118,14],[113,0,113,1],[113,2,113,6],[113,9,113,10],[113,11,113,15],[114,2,114,5],[114,6,116,7],[114,11,114,14],[114,15,116,16],[115,2,115,5],[115,11,115,14],[106,1,106,7],[106,10,106,16],[108,0,108,7],[108,9,108,16],[111,4,111,6],[111,13,111,15],[102,1,102,2],[102,10,102,11],[103,1,103,2],[103,10,103,11],[104,1,104,2],[104,10,104,11],[99,1,99,2],[99,10,99,11],[100,1,100,2],[100,10,100,11],[101,1,101,2],[101,10,101,11],[96,1,96,2],[96,10,96,11],[97,1,97,2],[97,10,97,11],[98,1,98,2],[98,10,98,11],[93,0,93,2],[93,9,93,11],[94,1,94,2],[94,10,94,11],[95,1,95,2],[95,10,95,11],[90,2,90,5],[90,6,90,7],[90,11,90,14],[90,15,90,16],[91,2,91,5],[91,11,91,14],[86,2,86,5],[86,6,88,7],[86,11,86,14],[86,15,88,16],[87,2,87,5],[87,11,87,14],[88,2,88,5],[88,11,88,14],[83,4,83,6],[83,13,83,15],[85,0,85,1],[85,2,85,6],[85,9,85,10],[85,11,85,15],[76,1,76,2],[76,10,76,11],[78,1,78,7],[78,10,78,16],[80,0,80,7],[80,9,80,16],[73,1,73,2],[73,10,73,11],[74,1,74,2],[74,10,74,11],[75,1,75,2],[75,10,75,11],[70,1,70,2],[70,10,70,11],[71,1,71,2],[71,10,71,11],[72,1,72,2],[72,10,72,11],[67,1,67,2],[67,10,67,11],[68,1,68,2],[68,10,68,11],[69,1,69,2],[69,10,69,11],[62,15,62,16],[63,2,63,5],[63,11,63,14],[65,0,65,2],[65,9,65,11],[66,1,66,2],[66,10,66,11],[60,2,60,5],[60,11,60,14],[62,2,62,5],[62,6,62,7],[62,11,62,14],[57,0,57,1],[57,2,57,6],[57,9,57,10],[57,11,57,15],[58,2,58,5],[58,6,60,7],[58,11,58,14],[58,15,60,16],[59,2,59,5],[59,11,59,14],[50,1,50,7],[50,10,50,16],[52,0,52,7],[52,9,52,16],[55,4,55,6],[55,13,55,15],[46,1,46,2],[46,10,46,11],[47,1,47,2],[47,10,47,11],[48,1,48,2],[48,10,48,11],[43,1,43,2],[43,10,43,11],[44,1,44,2],[44,10,44,11],[45,1,45,2],[45,10,45,11],[40,1,40,2],[40,10,40,11],[41,1,41,2],[41,10,41,11],[42,1,42,2],[42,10,42,11],[37,0,37,2],[37,9,37,11],[38,1,38,2],[38,10,38,11],[39,1,39,2],[39,10,39,11],[34,2,34,5],[34,6,34,7],[34,11,34,14],[34,15,34,16],[35,2,35,5],[35,11,35,14],[30,2,30,5],[30,6,32,7],[30,11,30,14],[30,15,32,16],[31,2,31,5],[31,11,31,14],[32,2,32,5],[32,11,32,14],[27,4,27,6],[27,13,27,15],[29,0,29,1],[29,2,29,6],[29,9,29,10],[29,11,29,15],[20,1,20,2],[20,10,20,11],[22,1,22,7],[22,10,22,16],[24,0,24,7],[24,9,24,16],[17,1,17,2],[17,10,17,11],[18,1,18,2],[18,10,18,11],[19,1,19,2],[19,10,19,11],[14,1,14,2],[14,10,14,11],[15,1,15,2],[15,10,15,11],[16,1,16,2],[16,10,16,11],[11,1,11,2],[11,10,11,11],[12,1,12,2],[12,10,12,11],[13,1,13,2],[13,10,13,11],[6,15,6,16],[7,2,7,5],[7,11,7,14],[9,0,9,2],[9,9,9,11],[10,1,10,2],[10,10,10,11],[4,2,4,5],[4,11,4,14],[6,2,6,5],[6,6,6,7],[6,11,6,14],[1,0,1,1],[1,2,1,6],[1,9,1,10],[1,11,1,15],[2,2,2,5],[2,6,4,7],[2,11,2,14],[2,15,4,16],[3,2,3,5],[3,11,3,14]]}
["Abnahmekarte für das deutsche Tanzsportabzeichen DTSA",{"$nulls":8},"Abnahmekarte für das deutsche Tanzsportabzeichen DTSA"]
[{"$f":"Anmeldung!$E$7","v":"00:00:00"},null,{"$f":"Anmeldung!$E$8","v":0},{"$nulls":4},{"$f":"\"# \"&Datenerfassung!$H110","v":"# 101"},null,{"$f":"Anmeldung!$E$7","v":"00:00:00"},null,{"$f":"Anmeldung!$E$8","v":0},{"$nulls":4},{"$f":"\"# \"&Datenerfassung!$H111","v":"# 102"}]
["Vorname",null,{"$f":"Datenerfassung!$C110","v":0},null,null,null,"Der/die Bewerber/innen erkennen mit Unterschrift die DTSA-Verleihungsbedingungen an. \n",null,null,"Vorname",null,{"$f":"Datenerfassung!$C111","v":0},null,null,null,"Der/die Bewerber/innen erkennen mit Unterschrift die DTSA-Verleihungsbedingungen an. \n"]
["Nachname",null,{"$f":"Datenerfassung!$D110","v":0},{"$nulls":6},"Nachname",null,{"$f":"Datenerfassung!$D111","v":0}]
["Verein/Schule",null,{"$f":"Datenerfassung!$G110","v":"00:00:00"},{"$nulls":6},"Verein/Schule",null,{"$f":"Datenerfassung!$G111","v":"00:00:00"}]
[]
["Medaille",null,{"$f":"Datenerfassung!$B110","v":0},{"$nulls":6},"Medaille",null,{"$f":"Datenerfassung!$B111","v":0}]
[{"$nulls":6},"Anerkennung der Bedingungen durch Unterschrift",{"$nulls":8},"Anerkennung der Bedingungen durch Unterschrift"]
[]
[" Tanz bitte eintragen/ankreuzen",null,null,"Musik","Balancen","Bewegg.-\nAblauf","X =\nbestanden","spezielle Bemerkungen (Lob/Hinweis/Kritik)\nder/des Abnehmer/in",null," Tanz bitte eintragen/ankreuzen",null,null,"Musik","Balancen","Bewegg.-\nAblauf","X =\nbestanden","spezielle Bemerkungen (Lob/Hinweis/Kritik)\nder/des Abnehmer/in"]
[null,{"$f":"Datenerfassung!$AE110","v":"Langsamer Walzer"},{"$nulls":8},{"$f":"Datenerfassung!$AE111","v":"Langsamer Walzer"}]
[null,{"$f":"Datenerfassung!$AF110","v":"Tango"},{"$nulls":8},{"$f":"Datenerfassung!$AF111","v":"Tango"}]
[null,{"$f":"Datenerfassung!$AG110","v":"Wiener Walzer"},{"$nulls":8},{"$f":"Datenerfassung!$AG111","v":"Wiener Walzer"}]
[null,{"$f":"Datenerfassung!$AH110","v":"Slowfox"},{"$nulls":8},{"$f":"Datenerfassung!$AH111","v":"Slowfox"}]
[null,{"$f":"Datenerfassung!$AI110","v":"Quickstep"},{"$nulls":8},{"$f":"Datenerfassung!$AI111","v":"Quickstep"}]
[null,{"$f":"Datenerfassung!$AJ110","v":"Samba"},{"$nulls":8},{"$f":"Datenerfassung!$AJ111","v":"Samba"}]
[null,{"$f":"Datenerfassung!$AK110","v":"Chachacha"},{"$nulls":8},{"$f":"Datenerfassung!$AK111","v":"Chachacha"}]
[null,{"$f":"Datenerfassung!$AL110","v":"Rumba"},{"$nulls":8},{"$f":"Datenerfassung!$AL111","v":"Rumba"}]
[null,{"$f":"Datenerfassung!$AM110","v":"Paso Doble"},{"$nulls":8},{"$f":"Datenerfassung!$AM111","v":"Paso Doble"}]
[null,{"$f":"Datenerfassung!$AN110","v":"Jive"},{"$nulls":8},{"$f":"Datenerfassung!$AN111","v":"Jive"}]
[null,{"$f":"Datenerfassung!$AO110","v":"Discofox"},{"$nulls":8},{"$f":"Datenerfassung!$AO111","v":"Discofox"}]
[]
[null,"Gemäß Ausbildungsordnung des DTV wurde eine Leistung für den Lizenzerwerb (10-Tänze-Gold) erbracht.",{"$nulls":8},"Gemäß Ausbildungsordnung des DTV wurde eine Leistung für den Lizenzerwerb (10-Tänze-Gold) erbracht."]
[]
["Unterschriften Abnehmer/innen:",{"$nulls":8},"Unterschriften Abnehmer/innen:"]
[]
[]
[{"$f":"Anmeldung!$L$19","v":"00:00:00"},null,null,null,{"$f":"Anmeldung!$L$20","v":0},null,null,{"$f":"Anmeldung!$L$21","v":0},null,{"$f":"Anmeldung!$L$19","v":"00:00:00"},null,null,null,{"$f":"Anmeldung!$L$20","v":0},null,null,{"$f":"Anmeldung!$L$21","v":0}]
["Abnahmekarte für das deutsche Tanzsportabzeichen DTSA",{"$nulls":8},"Abnahmekarte für das deutsche Tanzsportabzeichen DTSA"]
[{"$f":"Anmeldung!$E$7","v":"00:00:00"},null,{"$f":"Anmeldung!$E$8","v":0},{"$nulls":4},{"$f":"\"# \"&Datenerfassung!$H112","v":"# 103"},null,{"$f":"Anmeldung!$E$7","v":"00:00:00"},null,{"$f":"Anmeldung!$E$8","v":0},{"$nulls":4},{"$f":"\"# \"&Datenerfassung!$H113","v":"# 104"}]
["Vorname",null,{"$f":"Datenerfassung!$C112","v":0},null,null,null,"Der/die Bewerber/innen erkennen mit Unterschrift die DTSA-Verleihungsbedingungen an. \n",null,null,"Vorname",null,{"$f":"Datenerfassung!$C113","v":0},null,null,null,"Der/die Bewerber/innen erkennen mit Unterschrift die DTSA-Verleihungsbedingungen an. \n"]
["Nachname",null,{"$f":"Datenerfassung!$D112","v":0},{"$nulls":6},"Nachname",null,{"$f":"Datenerfassung!$D113","v":0}]
["Verein/Schule",null,{"$f":"Datenerfassung!$G112","v":"00:00:00"},{"$nulls":6},"Verein/Schule",null,{"$f":"Datenerfassung!$G113","v":"00:00:00"}]
[]
["Medaille",null,{"$f":"Datenerfassung!$B112","v":0},{"$nulls":6},"Medaille",null,{"$f":"Datenerfassung!$B113","v":0}]
[{"$nulls":6},"Anerkennung der Bedingungen durch Unterschrift",{"$nulls":8},"Anerkennung der Bedingungen durch Unterschrift"]
[]
[" Tanz bitte eintragen/ankreuzen",null,null,"Musik","Balancen","Bewegg.-\nAblauf","X =\nbestanden","spezielle Bemerkungen (Lob/Hinweis/Kritik)\nder/des Abnehmer/in",null," Tanz bitte eintragen/ankreuzen",null,null,"Musik","Balancen","Bewegg.-\nAblauf","X =\nbestanden","spezielle Bemerkungen (Lob/Hinweis/Kritik)\nder/des Abnehmer/in"]
[null,{"$f":"Datenerfassung!$AE112","v":"Langsamer Walzer"},{"$nulls":8},{"$f":"Datenerfassung!$AE113","v":"Langsamer Walzer"}]
[null,{"$f":"Datenerfassung!$AF112","v":"Tango"},{"$nulls":8},{"$f":"Datenerfassung!$AF113","v":"Tango"}]
[null,{"$f":"Datenerfassung!$AG112","v":"Wiener Walzer"},{"$nulls":8},{"$f":"Datenerfassung!$AG113","v":"Wiener Walzer"}]
[null,{"$f":"Datenerfassung!$AH112","v":"Slowfox"},{"$nulls":8},{"$f":"Datenerfassung!$AH113","v":"Slowfox"}]
[null,{"$f":"Datenerfassung!$AI112","v":"Quickstep"},{"$nulls":8},{"$f":"Datenerfassung!$AI113","v":"Quickstep"}]
[null,{"$f":"Datenerfassung!$AJ112","v":"Samba"},{"$nulls":8},{"$f":"Datenerfassung!$AJ113","v":"Samba"}]
[null,{"$f":"Datenerfassung!$AK112","v":"Chachacha"},{"$nulls":8},{"$f":"Datenerfassung!$AK113","v":"Chachacha"}]
[null,{"$f":"Datenerfassung!$AL112","v":"Rumba"},{"$nulls":8},{"$f":"Datenerfassung!$AL113","v":"Rumba"}]
[null,{"$f":"Datenerfassung!$AM112","v":"Paso Doble"},{"$nulls":8},{"$f":"Datenerfassung!$AM113","v":"Paso Doble"}]
[null,{"$f":"Datenerfassung!$AN112","v":"Jive"},{"$nulls":8},{"$f":"Datenerfassung!$AN113","v":"Jive"}]
[null,{"$f":"Datenerfassung!$AO112","v":"Discofox"},{"$nulls":8},{"$f":"Datenerfassung!$AO113","v":"Discofox"}]
[]
[null,"Gemäß Ausbildungsordnung des DTV wurde eine Leistung für den Lizenzerwerb (10-Tänze-Gold) erbracht.",{"$nulls":8},"Gemäß Ausbildungsordnung des DTV wurde eine Leistung für den Lizenzerwerb (10-Tänze-Gold) erbracht."]
[]
["Unterschriften Abnehmer/innen:",{"$nulls":8},"Unterschriften Abnehmer/innen:"]
[]
[]
[{"$f":"Anmeldung!$L$19","v":"00:00:00"},null,null,null,{"$f":"Anmeldung!$L$20","v":0},null,null,{"$f":"Anmeldung!$L$21","v":0},null,{"$f":"Anmeldung!$L$19","v":"00:00:00"},null,null,null,{"$f":"Anmeldung!$L$20","v":0},null,null,{"$f":"Anmeldung!$L$21","v":0}]
["Abnahmekarte für das deutsche Tanzsportabzeichen DTSA",{"$nulls":8},"Abnahmekarte für das deutsche Tanzsportabzeichen DTSA"]
[{"$f":"Anmeldung!$E$7","v":"00:00:00"},null,{"$f":"Anmeldung!$E$8","v":0},{"$nulls":4},{"$f":"\"# \"&Datenerfassung!$H114","v":"# 105"},null,{"$f":"Anmeldung!$E$7","v":"00:00:00"},null,{"$f":"Anmeldung!$E$8","v":0},{"$nulls":4},{"$f":"\"# \"&Datenerfassung!$H115","v":"# 106"}]
["Vorname",null,{"$f":"Datenerfassung!$C114","v":0},null,null,null,"Der/die Bewerber/innen erkennen mit Unterschrift die DTSA-Verleihungsbedingungen an. \n",null,null,"Vorname",null,{"$f":"Datenerfassung!$C115","v":0},null,null,null,"Der/die Bewerber/innen erkennen mit Unterschrift die DTSA-Verleihungsbedingungen an. \n"]
["Nachname",null,{"$f":"Datenerfassung!$D114","v":0},{"$nulls":6},"Nachname",null,{"$f":"Datenerfassung!$D115","v":0}]
["Verein/Schule",null,{"$f":"Datenerfassung!$G114","v":"00:00:00"},{"$nulls":6},"Verein/Schule",null,{"$f":"Datenerfassung!$G115","v":"00:00:00"}]
[]
["Medaille",null,{"$f":"Datenerfassung!$B114","v":0},{"$nulls":6},"Medaille",null,{"$f":"Datenerfassung!$B115","v":0}]
[{"$nulls":6},"Anerkennung der Bedingungen durch Unterschrift",{"$nulls":8},"Anerkennung der Bedingungen durch Unterschrift"]
[]
[" Tanz bitte eintragen/ankreuzen",null,null,"Musik","Balancen","Bewegg.-\nAblauf","X =\nbestanden","spezielle Bemerkungen (Lob/Hinweis/Kritik)\nder/des Abnehmer/in",null," Tanz bitte eintragen/ankreuzen",null,null,"Musik","Balancen","Bewegg.-\nAblauf","X =\nbestanden","spezielle Bemerkungen (Lob/Hinweis/Kritik)\nder/des Abnehmer/in"]
[null,{"$f":"Datenerfassung!$AE114","v":"Langsamer Walzer"},{"$nulls":8},{"$f":"Datenerfassung!$AE115","v":"Langsamer Walzer"}]
[null,{"$f":"Datenerfassung!$AF114","v":"Tango"},{"$nulls":8},{"$f":"Datenerfassung!$AF115","v":"Tango"}]
[null,{"$f":"Datenerfassung!$AG114","v":"Wiener Walzer"},{"$nulls":8},{"$f":"Datenerfassung!$AG115","v":"Wiener Walzer"}]
[null,{"$f":"Datenerfassung!$AH114","v":"Slowfox"},{"$nulls":8},{"$f":"Datenerfassung!$AH115","v":"Slowfox"}]
[null,{"$f":"Datenerfassung!$AI114","v":"Quickstep"},{"$nulls":8},{"$f":"Datenerfassung!$AI115","v":"Quickstep"}]
[null,{"$f":"Datenerfassung!$AJ114","v":"Samba"},{"$nulls":8},{"$f":"Datenerfassung!$AJ115","v":"Samba"}]
[null,{"$f":"Datenerfassung!$AK114","v":"Chachacha"},{"$nulls":8},{"$f":"Datenerfassung!$AK115","v":"Chachacha"}]
[null,{"$f":"Datenerfassung!$AL114","v":"Rumba"},{"$nulls":8},{"$f":"Datenerfassung!$AL115","v":"Rumba"}]
[null,{"$f":"Datenerfassung!$AM114","v":"Paso Doble"},{"$nulls":8},{"$f":"Datenerfassung!$AM115","v":"Paso Doble"}]
[null,{"$f":"Datenerfassung!$AN114","v":"Jive"},{"$nulls":8},{"$f":"Datenerfassung!$AN115","v":"Jive"}]
[null,{"$f":"Datenerfassung!$AO114","v":"Discofox"},{"$nulls":8},{"$f":"Datenerfassung!$AO115","v":"Discofox"}]
[]
[null,"Gemäß Ausbildungsordnung des DTV wurde eine Leistung für den Lizenzerwerb (10-Tänze-Gold) erbracht.",{"$nulls":8},"Gemäß Ausbildungsordnung des DTV wurde eine Leistung für den Lizenzerwerb (10-Tänze-Gold) erbracht."]
[]
["Unterschriften Abnehmer/innen:",{"$nulls":8},"Unterschriften Abnehmer/innen:"]
[]
[]
[{"$f":"Anmeldung!$L$19","v":"00:00:00"},null,null,null,{"$f":"Anmeldung!$L$20","v":0},null,null,{"$f":"Anmeldung!$L$21","v":0},null,{"$f":"Anmeldung!$L$19","v":"00:00:00"},null,null,null,{"$f":"Anmeldung!$L$20","v":0},null,null,{"$f":"Anmeldung!$L$21","v":0}]
["Abnahmekarte für das deutsche Tanzsportabzeichen DTSA",{"$nulls":8},"Abnahmekarte für das deutsche Tanzsportabzeichen DTSA"]
[{"$f":"Anmeldung!$E$7","v":"00:00:00"},null,{"$f":"Anmeldung!$E$8","v":0},{"$nulls":4},{"$f":"\"# \"&Datenerfassung!$H116","v":"# 107"},null,{"$f":"Anmeldung!$E$7","v":"00:00:00"},null,{"$f":"Anmeldung!$E$8","v":0},{"$nulls":4},{"$f":"\"# \"&Datenerfassung!$H117","v":"# 108"}]
["Vorname",null,{"$f":"Datenerfassung!$C116","v":0},null,null,null,"Der/die Bewerber/innen erkennen mit Unterschrift die DTSA-Verleihungsbedingungen an. \n",null,null,"Vorname",null,{"$f":"Datenerfassung!$C117","v":0},null,null,null,"Der/die Bewerber/innen erkennen mit Unterschrift die DTSA-Verleihungsbedingungen an. \n"]
["Nachname",null,{"$f":"Datenerfassung!$D116","v":0},{"$nulls":6},"Nachname",null,{"$f":"Datenerfassung!$D117","v":0}]
["Verein/Schule",null,{"$f":"Datenerfassung!$G116","v":"00:00:00"},{"$nulls":6},"Verein/Schule",null,{"$f":"Datenerfassung!$G117","v":"00:00:00"}]
[]
["Medaille",null,{"$f":"Datenerfassung!$B116","v":0},{"$nulls":6},"Medaille",null,{"$f":"Datenerfassung!$B117","v":0}]
[{"$nulls":6},"Anerkennung der Bedingungen durch Unterschrift",{"$nulls":8},"Anerkennung der Bedingungen durch Unterschrift"]
[]
[" Tanz bitte eintragen/ankreuzen",null,null,"Musik","Balancen","Bewegg.-\nAblauf","X =\nbestanden","spezielle Bemerkungen (Lob/Hinweis/Kritik)\nder/des Abnehmer/in",null," Tanz bitte eintragen/ankreuzen",null,null,"Musik","Balancen","Bewegg.-\nAblauf","X =\nbestanden","spezielle Bemerkungen (Lob/Hinweis/Kritik)\nder/des Abnehmer/in"]
[null,{"$f":"Datenerfassung!$AE116","v":"Langsamer Walzer"},{"$nulls":8},{"$f":"Datenerfassung!$AE117","v":"Langsamer Walzer"}]
[null,{"$f":"Datenerfassung!$AF116","v":"Tango"},{"$nulls":8},{"$f":"Datenerfassung!$AF117","v":"Tango"}]
[null,{"$f":"Datenerfassung!$AG116","v":"Wiener Walzer"},{"$nulls":8},{"$f":"Datenerfassung!$AG117","v":"Wiener Walzer"}]
[null,{"$f":"Datenerfassung!$AH116","v":"Slowfox"},{"$nulls":8},{"$f":"Datenerfassung!$AH117","v":"Slowfox"}]
[null,{"$f":"Datenerfassung!$AI116","v":"Quickstep"},{"$nulls":8},{"$f":"Datenerfassung!$AI117","v":"Quickstep"}]
[null,{"$f":"Datenerfassung!$AJ116","v":"Samba"},{"$nulls":8},{"$f":"Datenerfassung!$AJ117","v":"Samba"}]
[null,{"$f":"Datenerfassung!$AK116","v":"Chachacha"},{"$nulls":8},{"$f":"Datenerfassung!$AK117","v":"Chachacha"}]
[null,{"$f":"Datenerfassung!$AL116","v":"Rumba"},{"$nulls":8},{"$f":"Datenerfassung!$AL117","v":"Rumba"}]
[null,{"$f":"Datenerfassung!$AM116","v":"Paso Doble"},{"$nulls":8},{"$f":"Datenerfassung!$AM117","v":"Paso Doble"}]
[null,{"$f":"Datenerfassung!$AN116","v":"Jive"},{"$nulls":8},{"$f":"Datenerfassung!$AN117","v":"Jive"}]
[null,{"$f":"Datenerfassung!$AO116","v":"Discofox"},{"$nulls":8},{"$f":"Datenerfassung!$AO117","v":"Discofox"}]
[]
[null,"Gemäß Ausbildungsordnung des DTV wurde eine Leistung für den Lizenzerwerb (10-Tänze-Gold) erbracht.",{"$nulls":8},"Gemäß Ausbildungsordnung des DTV wurde eine Leistung für den Lizenzerwerb (10-Tänze-Gold) erbracht."]
[]
["Unterschriften Abnehmer/innen:",{"$nulls":8},"Unterschriften Abnehmer/innen:"]
[]
[]
[{"$f":"Anmeldung!$L$19","v":"00:00:00"},null,null,null,{"$f":"Anmeldung!$L$20","v":0},null,null,{"$f":"Anmeldung!$L$21","v":0},null,{"$f":"Anmeldung!$L$19","v":"00:00:00"},null,null,null,{"$f":"Anmeldung!$L$20","v":0},null,null,{"$f":"Anmeldung!$L$21","v":0}]
["Abnahmekarte für das deutsche Tanzsportabzeichen DTSA",{"$nulls":8},"Abnahmekarte für das deutsche Tanzsportabzeichen DTSA"]
[{"$f":"Anmeldung!$E$7","v":"00:00:00"},null,{"$f":"Anmeldung!$E$8","v":0},{"$nulls":4},{"$f":"\"# \"&Datenerfassung!$H118","v":"# 109"},null,{"$f":"Anmeldung!$E$7","v":"00:00:00"},null,{"$f":"Anmeldung!$E$8","v":0},{"$nulls":4},{"$f":"\"# \"&Datenerfassung!$H119","v":"# 110"}]
["Vorname",null,{"$f":"Datenerfassung!$C118","v":0},null,null,null,"Der/die Bewerber/innen erkennen mit Unterschrift die DTSA-Verleihungsbedingungen an. \n",null,null,"Vorname",null,{"$f":"Datenerfassung!$C119","v":0},null,null,null,"Der/die Bewerber/innen erkennen mit Unterschrift die DTSA-Verleihungsbedingungen an. \n"]
["Nachname",null,{"$f":"Datenerfassung!$D118","v":0},{"$nulls":6},"Nachname",null,{"$f":"Datenerfassung!$D119","v":0}]
["Verein/Schule",null,{"$f":"Datenerfassung!$G118","v":"00:00:00"},{"$nulls":6},"Verein/Schule",null,{"$f":"Datenerfassung!$G119","v":"00:00:00"}]
[]
["Medaille",null,{"$f":"Datenerfassung!$B118","v":0},{"$nulls":6},"Medaille",null,{"$f":"Datenerfassung!$B119","v":0}]
[{"$nulls":6},"Anerkennung der Bedingungen durch Unterschrift",{"$nulls":8},"Anerkennung der Bedingungen durch Unterschrift"]
[]
[" Tanz bitte eintragen/ankreuzen",null,null,"Musik","Balancen","Bewegg.-\nAblauf","X =\nbestanden","spezielle Bemerkungen (Lob/Hinweis/Kritik)\nder/des Abnehmer/in",null," Tanz bitte eintragen/ankreuzen",null,null,"Musik","Balancen","Bewegg.-\nAblauf","X =\nbestanden","spezielle Bemerkungen (Lob/Hinweis/Kritik)\nder/des Abnehmer/in"]
[null,{"$f":"Datenerfassung!$AE118","v":"Langsamer Walzer"},{"$nulls":8},{"$f":"Datenerfassung!$AE119","v":"Langsamer Walzer"}]
[null,{"$f":"Datenerfassung!$AF118","v":"Tango"},{"$nulls":8},{"$f":"Datenerfassung!$AF119","v":"Tango"}]
[null,{"$f":"Datenerfassung!$AG118","v":"Wiener Walzer"},{"$nulls":8},{"$f":"Datenerfassung!$AG119","v":"Wiener Walzer"}]
[null,{"$f":"Datenerfassung!$AH118","v":"Slowfox"},{"$nulls":8},{"$f":"Datenerfassung!$AH119","v":"Slowfox"}]
[null,{"$f":"Datenerfassung!$AI118","v":"Quickstep"},{"$nulls":8},{"$f":"Datenerfassung!$AI119","v":"Quickstep"}]
[null,{"$f":"Datenerfassung!$AJ118","v":"Samba"},{"$nulls":8},{"$f":"Datenerfassung!$AJ119","v":"Samba"}]
[null,{"$f":"Datenerfassung!$AK118","v":"Chachacha"},{"$nulls":8},{"$f":"Datenerfassung!$AK119","v":"Chachacha"}]
[null,{"$f":"Datenerfassung!$AL118","v":"Rumba"},{"$nulls":8},{"$f":"Datenerfassung!$AL119","v":"Rumba"}]
[null,{"$f":"Datenerfassung!$AM118","v":"Paso Doble"},{"$nulls":8},{"$f":"Datenerfassung!$AM119","v":"Paso Doble"}]
[null,{"$f":"Datenerfassung!$AN118","v":"Jive"},{"$nulls":8},{"$f":"Datenerfassung!$AN119","v":"Jive"}]
[null,{"$f":"Datenerfassung!$AO118","v":"Discofox"},{"$nulls":8},{"$f":"Datenerfassung!$AO119","v":"Discofox"}]
[]
[null,"Gemäß Ausbildungsordnung des DTV wurde eine Leistung für den Lizenzerwerb (10-Tänze-Gold) erbracht.",{"$nulls":8},"Gemäß Ausbildungsordnung des DTV wurde eine Leistung für den Lizenzerwerb (10-Tänze-Gold) erbracht."]
[]
["Unterschriften Abnehmer/innen:",{"$nulls":8},"Unterschriften Abnehmer/innen:"]
[]
[]
[{"$f":"Anmeldung!$L$19","v":"00:00:00"},null,null,null,{"$f":"Anmeldung!$L$20","v":0},null,null,{"$f":"Anmeldung!$L$21","v":0},null,{"$f":"Anmeldung!$L$19","v":"00:00:00"},null,null,null,{"$f":"Anmeldung!$L$20","v":0},null,null,{"$f":"Anmeldung!$L$21","v":0}]
["Abnahmekarte für das deutsche Tanzsportabzeichen DTSA",{"$nulls":8},"Abnahmekarte für das deutsche Tanzsportabzeichen DTSA"]
[{"$f":"Anmeldung!$E$7","v":"00:00:00"},null,{"$f":"Anmeldung!$E$8","v":0},{"$nulls":4},{"$f":"\"# \"&Datenerfassung!$H120","v":"# 111"},null,{"$f":"Anmeldung!$E$7","v":"00:00:00"},null,{"$f":"Anmeldung!$E$8","v":0},{"$nulls":4},{"$f":"\"# \"&Datenerfassung!$H121","v":"# 112"}]
["Vorname",null,{"$f":"Datenerfassung!$C120","v":0},null,null,null,"Der/die Bewerber/innen erkennen mit Unterschrift die DTSA-Verleihungsbedingungen an. \n",null,null,"Vorname",null,{"$f":"Datenerfassung!$C121","v":0},null,null,null,"Der/die Bewerber/innen erkennen mit Unterschrift die DTSA-Verleihungsbedingungen an. \n"]
["Nachname",null,{"$f":"Datenerfassung!$D120","v":0},{"$nulls":6},"Nachname",null,{"$f":"Datenerfassung!$D121","v":0}]
["Verein/Schule",null,{"$f":"Datenerfassung!$G120","v":"00:00:00"},{"$nulls":6},"Verein/Schule",null,{"$f":"Datenerfassung!$G121","v":"00:00:00"}]
[]
["Medaille",null,{"$f":"Datenerfassung!$B120","v":0},{"$nulls":6},"Medaille",null,{"$f":"Datenerfassung!$B121","v":0}]
[{"$nulls":6},"Anerkennung der Bedingungen durch Unterschrift",{"$nulls":8},"Anerkennung der Bedingungen durch Unterschrift"]
[]
[" Tanz bitte eintragen/ankreuzen",null,null,"Musik","Balancen","Bewegg.-\nAblauf","X =\nbestanden","spezielle Bemerkungen (Lob/Hinweis/Kritik)\nder/des Abnehmer/in",null," Tanz bitte eintragen/ankreuzen",null,null,"Musik","Balancen","Bewegg.-\nAblauf","X =\nbestanden","spezielle Bemerkungen (Lob/Hinweis/Kritik)\nder/des Abnehmer/in"]
[null,{"$f":"Datenerfassung!$AE120","v":"Langsamer Walzer"},{"$nulls":8},{"$f":"Datenerfassung!$AE121","v":"Langsamer Walzer"}]
[null,{"$f":"Datenerfassung!$AF120","v":"Tango"},{"$nulls":8},{"$f":"Datenerfassung!$AF121","v":"Tango"}]
[null,{"$f":"Datenerfassung!$AG120","v":"Wiener Walzer"},{"$nulls":8},{"$f":"Datenerfassung!$AG121","v":"Wiener Walzer"}]
[null,{"$f":"Datenerfassung!$AH120","v":"Slowfox"},{"$nulls":8},{"$f":"Datenerfassung!$AH121","v":"Slowfox"}]
[null,{"$f":"Datenerfassung!$AI120","v":"Quickstep"},{"$nulls":8},{"$f":"Datenerfassung!$AI121","v":"Quickstep"}]
[null,{"$f":"Datenerfassung!$AJ120","v":"Samba"},{"$nulls":8},{"$f":"Datenerfassung!$AJ121","v":"Samba"}]
[null,{"$f":"Datenerfassung!$AK120","v":"Chachacha"},{"$nulls":8},{"$f":"Datenerfassung!$AK121","v":"Chachacha"}]
[null,{"$f":"Datenerfassung!$AL120","v":"Rumba"},{"$nulls":8},{"$f":"Datenerfassung!$AL121","v":"Rumba"}]
[null,{"$f":"Datenerfassung!$AM120","v":"Paso Doble"},{"$nulls":8},{"$f":"Datenerfassung!$AM121","v":"Paso Doble"}]
[null,{"$f":"Datenerfassung!$AN120","v":"Jive"},{"$nulls":8},{"$f":"Datenerfassung!$AN121","v":"Jive"}]
[null,{"$f":"Datenerfassung!$AO120","v":"Discofox"},{"$nulls":8},{"$f":"Datenerfassung!$AO121","v":"Discofox"}]
[]
[null,"Gemäß Ausbildungsordnung des DTV wurde eine Leistung für den Lizenzerwerb (10-Tänze-Gold) erbracht.",{"$nulls":8},"Gemäß Ausbildungsordnung des DTV wurde eine Leistung für den Lizenzerwerb (10-Tänze-Gold) erbracht."]
[]
["Unterschriften Abnehmer/innen:",{"$nulls":8},"Unterschriften Abnehmer/innen:"]
[]
[]
[{"$f":"Anmeldung!$L$19","v":"00:00:00"},null,null,null,{"$f":"Anmeldung!$L$20","v":0},null,null,{"$f":"Anmeldung!$L$21","v":0},null,{"$f":"Anmeldung!$L$19","v":"00:00:00"},null,null,null,{"$f":"Anmeldung!$L$20","v":0},null,null,{"$f":"Anmeldung!$L$21","v":0}]
["Abnahmekarte für das deutsche Tanzsportabzeichen DTSA",{"$nulls":8},"Abnahmekarte für das deutsche Tanzsportabzeichen DTSA"]
[{"$f":"Anmeldung!$E$7","v":"00:00:00"},null,{"$f":"Anmeldung!$E$8","v":0},{"$nulls":4},{"$f":"\"# \"&Datenerfassung!$H122","v":"# 113"},null,{"$f":"Anmeldung!$E$7","v":"00:00:00"},null,{"$f":"Anmeldung!$E$8","v":0},{"$nulls":4},{"$f":"\"# \"&Datenerfassung!$H123","v":"# 114"}]
["Vorname",null,{"$f":"Datenerfassung!$C122","v":0},null,null,null,"Der/die Bewerber/innen erkennen mit Unterschrift die DTSA-Verleihungsbedingungen an. \n",null,null,"Vorname",null,{"$f":"Datenerfassung!$C123","v":0},null,null,null,"Der/die Bewerber/innen erkennen mit Unterschrift die DTSA-Verleihungsbedingungen an. \n"]
["Nachname",null,{"$f":"Datenerfassung!$D122","v":0},{"$nulls":6},"Nachname",null,{"$f":"Datenerfassung!$D123","v":0}]
["Verein/Schule",null,{"$f":"Datenerfassung!$G122","v":"00:00:00"},{"$nulls":6},"Verein/Schule",null,{"$f":"Datenerfassung!$G123","v":"00:00:00"}]
[]
["Medaille",null,{"$f":"Datenerfassung!$B122","v":0},{"$nulls":6},"Medaille",null,{"$f":"Datenerfassung!$B123","v":0}]
[{"$nulls":6},"Anerkennung der Bedingungen durch Unterschrift",{"$nulls":8},"Anerkennung der Bedingungen durch Unterschrift"]
[]
[" Tanz bitte eintragen/ankreuzen",null,null,"Musik","Balancen","Bewegg.-\nAblauf","X =\nbestanden","spezielle Bemerkungen (Lob/Hinweis/Kritik)\nder/des Abnehmer/in",null," Tanz bitte eintragen/ankreuzen",null,null,"Musik","Balancen","Bewegg.-\nAblauf","X =\nbestanden","spezielle Bemerkungen (Lob/Hinweis/Kritik)\nder/des Abnehmer/in"]
[null,{"$f":"Datenerfassung!$AE122","v":"Langsamer Walzer"},{"$nulls":8},{"$f":"Datenerfassung!$AE123","v":"Langsamer Walzer"}]
[null,{"$f":"Datenerfassung!$AF122","v":"Tango"},{"$nulls":8},{"$f":"Datenerfassung!$AF123","v":"Tango"}]
[null,{"$f":"Datenerfassung!$AG122","v":"Wiener Walzer"},{"$nulls":8},{"$f":"Datenerfassung!$AG123","v":"Wiener Walzer"}]
[null,{"$f":"Datenerfassung!$AH122","v":"Slowfox"},{"$nulls":8},{"$f":"Datenerfassung!$AH123","v":"Slowfox"}]
[null,{"$f":"Datenerfassung!$AI122","v":"Quickstep"},{"$nulls":8},{"$f":"Datenerfassung!$AI123","v":"Quickstep"}]
[null,{"$f":"Datenerfassung!$AJ122","v":"Samba"},{"$nulls":8},{"$f":"Datenerfassung!$AJ123","v":"Samba"}]
[null,{"$f":"Datenerfassung!$AK122","v":"Chachacha"},{"$nulls":8},{"$f":"Datenerfassung!$AK123","v":"Chachacha"}]
[null,{"$f":"Datenerfassung!$AL122","v":"Rumba"},{"$nulls":8},{"$f":"Datenerfassung!$AL123","v":"Rumba"}]
[null,{"$f":"Datenerfassung!$AM122","v":"Paso Doble"},{"$nulls":8},{"$f":"Datenerfassung!$AM123","v":"Paso Doble"}]
[null,{"$f":"Datenerfassung!$AN122","v":"Jive"},{"$nulls":8},{"$f":"Datenerfassung!$AN123","v":"Jive"}]
[null,{"$f":"Datenerfassung!$AO122","v":"Discofox"},{"$nulls":8},{"$f":"Datenerfassung!$AO123","v":"Discofox"}]
[]
[null,"Gemäß Ausbildungsordnung des DTV wurde eine Leistung für den Lizenzerwerb (10-Tänze-Gold) erbracht.",{"$nulls":8},"Gemäß Ausbildungsordnung des DTV wurde eine Leistung für den Lizenzerwerb (10-Tänze-Gold) erbracht."]
[]
["Unterschriften Abnehmer/innen:",{"$nulls":8},"Unterschriften Abnehmer/innen:"]
[]
[]
[{"$f":"Anmeldung!$L$19","v":"00:00:00"},null,null,null,{"$f":"Anmeldung!$L$20","v":0},null,null,{"$f":"Anmeldung!$L$21","v":0},null,{"$f":"Anmeldung!$L$19","v":"00:00:00"},null,null,null,{"$f":"Anmeldung!$L$20","v":0},null,null,{"$f":"Anmeldung!$L$21","v":0}]
["Abnahmekarte für das deutsche Tanzsportabzeichen DTSA",{"$nulls":8},"Abnahmekarte für das deutsche Tanzsportabzeichen DTSA"]
[{"$f":"Anmeldung!$E$7","v":"00:00:00"},null,{"$f":"Anmeldung!$E$8","v":0},{"$nulls":4},{"$f":"\"# \"&Datenerfassung!$H124","v":"# 115"},null,{"$f":"Anmeldung!$E$7","v":"00:00:00"},null,{"$f":"Anmeldung!$E$8","v":0},{"$nulls":4},{"$f":"\"# \"&Datenerfassung!$H125","v":"# 116"}]
["Vorname",null,{"$f":"Datenerfassung!$C124","v":0},null,null,null,"Der/die Bewerber/innen erkennen mit Unterschrift die DTSA-Verleihungsbedingungen an. \n",null,null,"Vorname",null,{"$f":"Datenerfassung!$C125","v":0},null,null,null,"Der/die Bewerber/innen erkennen mit Unterschrift die DTSA-Verleihungsbedingungen an. \n"]
["Nachname",null,{"$f":"Datenerfassung!$D124","v":0},{"$nulls":6},"Nachname",null,{"$f":"Datenerfassung!$D125","v":0}]
["Verein/Schule",null,{"$f":"Datenerfassung!$G124","v":"00:00:00"},{"$nulls":6},"Verein/Schule",null,{"$f":"Datenerfassung!$G125","v":"00:00:00"}]
[]
["Medaille",null,{"$f":"Datenerfassung!$B124","v":0},{"$nulls":6},"Medaille",null,{"$f":"Datenerfassung!$B125","v":0}]
[{"$nulls":6},"Anerkennung der Bedingungen durch Unterschrift",{"$nulls":8},"Anerkennung der Bedingungen durch Unterschrift"]
[]
[" Tanz bitte eintragen/ankreuzen",null,null,"Musik","Balancen","Bewegg.-\nAblauf","X =\nbestanden","spezielle Bemerkungen (Lob/Hinweis/Kritik)\nder/des Abnehmer/in",null," Tanz bitte eintragen/ankreuzen",null,null,"Musik","Balancen","Bewegg.-\nAblauf","X =\nbestanden","spezielle Bemerkungen (Lob/Hinweis/Kritik)\nder/des Abnehmer/in"]
[null,{"$f":"Datenerfassung!$AE124","v":"Langsamer Walzer"},{"$nulls":8},{"$f":"Datenerfassung!$AE125","v":"Langsamer Walzer"}]
[null,{"$f":"Datenerfassung!$AF124","v":"Tango"},{"$nulls":8},{"$f":"Datenerfassung!$AF125","v":"Tango"}]
[null,{"$f":"Datenerfassung!$AG124","v":"Wiener Walzer"},{"$nulls":8},{"$f":"Datenerfassung!$AG125","v":"Wiener Walzer"}]
[null,{"$f":"Datenerfassung!$AH124","v":"Slowfox"},{"$nulls":8},{"$f":"Datenerfassung!$AH125","v":"Slowfox"}]
[null,{"$f":"Datenerfassung!$AI124","v":"Quickstep"},{"$nulls":8},{"$f":"Datenerfassung!$AI125","v":"Quickstep"}]
[null,{"$f":"Datenerfassung!$AJ124","v":"Samba"},{"$nulls":8},{"$f":"Datenerfassung!$AJ125","v":"Samba"}]
[null,{"$f":"Datenerfassung!$AK124","v":"Chachacha"},{"$nulls":8},{"$f":"Datenerfassung!$AK125","v":"Chachacha"}]
[null,{"$f":"Datenerfassung!$AL124","v":"Rumba"},{"$nulls":8},{"$f":"Datenerfassung!$AL125","v":"Rumba"}]
[null,{"$f":"Datenerfassung!$AM124","v":"Paso Doble"},{"$nulls":8},{"$f":"Datenerfassung!$AM125","v":"Paso Doble"}]
[null,{"$f":"Datenerfassung!$AN124","v":"Jive"},{"$nulls":8},{"$f":"Datenerfassung!$AN125","v":"Jive"}]
[null,{"$f":"Datenerfassung!$AO124","v":"Discofox"},{"$nulls":8},{"$f":"Datenerfassung!$AO125","v":"Discofox"}]
[]
[null,"Gemäß Ausbildungsordnung des DTV wurde eine Leistung für den Lizenzerwerb (10-Tänze-Gold) erbracht.",{"$nulls":8},"Gemäß Ausbildungsordnung des DTV wurde eine Leistung für den Lizenzerwerb (10-Tänze-Gold) erbracht."]
[]
["Unterschriften Abnehmer/innen:",{"$nulls":8},"Unterschriften Abnehmer/innen:"]
[]
[]
[{"$f":"Anmeldung!$L$19","v":"00:00:00"},null,null,null,{"$f":"Anmeldung!$L$20","v":0},null,null,{"$f":"Anmeldung!$L$21","v":0},null,{"$f":"Anmeldung!$L$19","v":"00:00:00"},null,null,null,{"$f":"Anmeldung!$L$20","v":0},null,null,{"$f":"Anmeldung!$L$21","v":0}]
["Abnahmekarte für das deutsche Tanzsportabzeichen DTSA",{"$nulls":8},"Abnahmekarte für das deutsche Tanzsportabzeichen DTSA"]
[{"$f":"Anmeldung!$E$7","v":"00:00:00"},null,{"$f":"Anmeldung!$E$8","v":0},{"$nulls":4},{"$f":"\"# \"&Datenerfassung!$H126","v":"# 117"},null,{"$f":"Anmeldung!$E$7","v":"00:00:00"},null,{"$f":"Anmeldung!$E$8","v":0},{"$nulls":4},{"$f":"\"# \"&Datenerfassung!$H127","v":"# 118"}]
["Vorname",null,{"$f":"Datenerfassung!$C126","v":0},null,null,null,"Der/die Bewerber/innen erkennen mit Unterschrift die DTSA-Verleihungsbedingungen an. \n",null,null,"Vorname",null,{"$f":"Datenerfassung!$C127","v":0},null,null,null,"Der/die Bewerber/innen erkennen mit Unterschrift die DTSA-Verleihungsbedingungen an. \n"]
["Nachname",null,{"$f":"Datenerfassung!$D126","v":0},{"$nulls":6},"Nachname",null,{"$f":"Datenerfassung!$D127","v":0}]
["Verein/Schule",null,{"$f":"Datenerfassung!$G126","v":"00:00:00"},{"$nulls":6},"Verein/Schule",null,{"$f":"Datenerfassung!$G127","v":"00:00:00"}]
[]
["Medaille",null,{"$f":"Datenerfassung!$B126","v":0},{"$nulls":6},"Medaille",null,{"$f":"Datenerfassung!$B127","v":0}]
[{"$nulls":6},"Anerkennung der Bedingungen durch Unterschrift",{"$nulls":8},"Anerkennung der Bedingungen durch Unterschrift"]
[]
[" Tanz bitte eintragen/ankreuzen",null,null,"Musik","Balancen","Bewegg.-\nAblauf","X =\nbestanden","spezielle Bemerkungen (Lob/Hinweis/Kritik)\nder/des Abnehmer/in",null," Tanz bitte eintragen/ankreuzen",null,null,"Musik","Balancen","Bewegg.-\nAblauf","X =\nbestanden","spezielle Bemerkungen (Lob/Hinweis/Kritik)\nder/des Abnehmer/in"]
[null,{"$f":"Datenerfassung!$AE126","v":"Langsamer Walzer"},{"$nulls":8},{"$f":"Datenerfassung!$AE127","v":"Langsamer Walzer"}]
[null,{"$f":"Datenerfassung!$AF126","v":"Tango"},{"$nulls":8},{"$f":"Datenerfassung!$AF127","v":"Tango"}]
[null,{"$f":"Datenerfassung!$AG126","v":"Wiener Walzer"},{"$nulls":8},{"$f":"Datenerfassung!$AG127","v":"Wiener Walzer"}]
[null,{"$f":"Datenerfassung!$AH126","v":"Slowfox"},{"$nulls":8},{"$f":"Datenerfassung!$AH127","v":"Slowfox"}]
[null,{"$f":"Datenerfassung!$AI126","v":"Quickstep"},{"$nulls":8},{"$f":"Datenerfassung!$AI127","v":"Quickstep"}]
[null,{"$f":"Datenerfassung!$AJ126","v":"Samba"},{"$nulls":8},{"$f":"Datenerfassung!$AJ127","v":"Samba"}]
[null,{"$f":"Datenerfassung!$AK126","v":"Chachacha"},{"$nulls":8},{"$f":"Datenerfassung!$AK127","v":"Chachacha"}]
[null,{"$f":"Datenerfassung!$AL126","v":"Rumba"},{"$nulls":8},{"$f":"Datenerfassung!$AL127","v":"Rumba"}]
[null,{"$f":"Datenerfassung!$AM126","v":"Paso Doble"},{"$nulls":8},{"$f":"Datenerfassung!$AM127","v":"Paso Doble"}]
[null,{"$f":"Datenerfassung!$AN126","v":"Jive"},{"$nulls":8},{"$f":"Datenerfassung!$AN127","v":"Jive"}]
[null,{"$f":"Datenerfassung!$AO126","v":"Discofox"},{"$nulls":8},{"$f":"Datenerfassung!$AO127","v":"Discofox"}]
[]
[null,"Gemäß Ausbildungsordnung des DTV wurde eine Leistung für den Lizenzerwerb (10-Tänze-Gold) erbracht.",{"$nulls":8},"Gemäß Ausbildungsordnung des DTV wurde eine Leistung für den Lizenzerwerb (10-Tänze-Gold) erbracht."]
[]
["Unterschriften Abnehmer/innen:",{"$nulls":8},"Unterschriften Abnehmer/innen:"]
[]
[]
[{"$f":"Anmeldung!$L$19","v":"00:00:00"},null,null,null,{"$f":"Anmeldung!$L$20","v":0},null,null,{"$f":"Anmeldung!$L$21","v":0},null,{"$f":"Anmeldung!$L$19","v":"00:00:00"},null,null,null,{"$f":"Anmeldung!$L$20","v":0},null,null,{"$f":"Anmeldung!$L$21","v":0}]
["Abnahmekarte für das deutsche Tanzsportabzeichen DTSA",{"$nulls":8},"Abnahmekarte für das deutsche Tanzsportabzeichen DTSA"]
[{"$f":"Anmeldung!$E$7","v":"00:00:00"},null,{"$f":"Anmeldung!$E$8","v":0},{"$nulls":4},{"$f":"\"# \"&Datenerfassung!$H128","v":"# 119"},null,{"$f":"Anmeldung!$E$7","v":"00:00:00"},null,{"$f":"Anmeldung!$E$8","v":0},{"$nulls":4},{"$f":"\"# \"&Datenerfassung!$H129","v":"# 120"}]
["Vorname",null,{"$f":"Datenerfassung!$C128","v":0},null,null,null,"Der/die Bewerber/innen erkennen mit Unterschrift die DTSA-Verleihungsbedingungen an. \n",null,null,"Vorname",null,{"$f":"Datenerfassung!$C129","v":0},null,null,null,"Der/die Bewerber/innen erkennen mit Unterschrift die DTSA-Verleihungsbedingungen an. \n"]
["Nachname",null,{"$f":"Datenerfassung!$D128","v":0},{"$nulls":6},"Nachname",null,{"$f":"Datenerfassung!$D129","v":0}]
["Verein/Schule",null,{"$f":"Datenerfassung!$G128","v":"00:00:00"},{"$nulls":6},"Verein/Schule",null,{"$f":"Datenerfassung!$G129","v":"00:00:00"}]
[]
["Medaille",null,{"$f":"Datenerfassung!$B128","v":0},{"$nulls":6},"Medaille",null,{"$f":"Datenerfassung!$B129","v":0}]
[{"$nulls":6},"Anerkennung der Bedingungen durch Unterschrift",{"$nulls":8},"Anerkennung der Bedingungen durch Unterschrift"]
[]
[" Tanz bitte eintragen/ankreuzen",null,null,"Musik","Balancen","Bewegg.-\nAblauf","X =\nbestanden","spezielle Bemerkungen (Lob/Hinweis/Kritik)\nder/des Abnehmer/in",null," Tanz bitte eintragen/ankreuzen",null,null,"Musik","Balancen","Bewegg.-\nAblauf","X =\nbestanden","spezielle Bemerkungen (Lob/Hinweis/Kritik)\nder/des Abnehmer/in"]
[null,{"$f":"Datenerfassung!$AE128","v":"Langsamer Walzer"},{"$nulls":8},{"$f":"Datenerfassung!$AE129","v":"Langsamer Walzer"}]
[null,{"$f":"Datenerfassung!$AF128","v":"Tango"},{"$nulls":8},{"$f":"Datenerfassung!$AF129","v":"Tango"}]
[null,{"$f":"Datenerfassung!$AG128","v":"Wiener Walzer"},{"$nulls":8},{"$f":"Datenerfassung!$AG129","v":"Wiener Walzer"}]
[null,{"$f":"Datenerfassung!$AH128","v":"Slowfox"},{"$nulls":8},{"$f":"Datenerfassung!$AH129","v":"Slowfox"}]
[null,{"$f":"Datenerfassung!$AI128","v":"Quickstep"},{"$nulls":8},{"$f":"Datenerfassung!$AI129","v":"Quickstep"}]
[null,{"$f":"Datenerfassung!$AJ128","v":"Samba"},{"$nulls":8},{"$f":"Datenerfassung!$AJ129","v":"Samba"}]
[null,{"$f":"Datenerfassung!$AK128","v":"Chachacha"},{"$nulls":8},{"$f":"Datenerfassung!$AK129","v":"Chachacha"}]
[null,{"$f":"Datenerfassung!$AL128","v":"Rumba"},{"$nulls":8},{"$f":"Datenerfassung!$AL129","v":"Rumba"}]
[null,{"$f":"Datenerfassung!$AM128","v":"Paso Doble"},{"$nulls":8},{"$f":"Datenerfassung!$AM129","v":"Paso Doble"}]
[null,{"$f":"Datenerfassung!$AN128","v":"Jive"},{"$nulls":8},{"$f":"Datenerfassung!$AN129","v":"Jive"}]
[null,{"$f":"Datenerfassung!$AO128","v":"Discofox"},{"$nulls":8},{"$f":"Datenerfassung!$AO129","v":"Discofox"}]
[]
[null,"Gemäß Ausbildungsordnung des DTV wurde eine Leistung für den Lizenzerwerb (10-Tänze-Gold) erbracht.",{"$nulls":8},"Gemäß Ausbildungsordnung des DTV wurde eine Leistung für den Lizenzerwerb (10-Tänze-Gold) erbracht."]
[]
["Unterschriften Abnehmer/innen:",{"$nulls":8},"Unterschriften Abnehmer/innen:"]
[]
[]
[{"$f":"Anmeldung!$L$19","v":"00:00:00"},null,null,null,{"$f":"Anmeldung!$L$20","v":0},null,null,{"$f":"Anmeldung!$L$21","v":0},null,{"$f":"Anmeldung!$L$19","v":"00:00:00"},null,null,null,{"$f":"Anmeldung!$L$20","v":0},null,null,{"$f":"Anmeldung!$L$21","v":0}]

{"sheet":"Einzel 121-140","index":9,"n_rows":280,"n_cols":17,"rows_kept":280,"cut":false,"hidden":false,"merged":[[274,1,274,7],[274,10,274,16],[276,0,276,7],[276,9,276,16],[279,4,279,6],[279,13,279,15],[270,1,270,2],[270,10,270,11],[271,1,271,2],[271,10,271,11],[272,1,272,2],[272,10,272,11],[267,1,267,2],[267,10,267,11],[268,1,268,2],[268,10,268,11],[269,1,269,2],[269,10,269,11],[264,1,264,2],[264,10,264,11],[265,1,265,2],[265,10,265,11],[266,1,266,2],[266,10,266,11],[261,0,261,2],[261,9,261,11],[262,1,262,2],[262,10,262,11],[263,1,263,2],[263,10,263,11],[258,2,258,5],[258,6,258,7],[258,11,258,14],[258,15,258,16],[259,2,259,5],[259,11,259,14],[254,2,254,5],[254,6,256,7],[254,11,254,14],[254,15,256,16],[255,2,255,5],[255,11,255,14],[256,2,256,5],[256,11,256,14],[251,4,251,6],[251,13,251,15],[253,0,253,1],[253,2,253,6],[253,9,253,10],[253,11,253,15],[244,1,244,2],[244,10,244,11],[246,1,246,7],[246,10,246,16],[248,0,248,7],[248,9,248,16],[241,1,241,2],[241,10,241,11],[242,1,242,2],[242,10,242,11],[243,1,243,2],[243,10,243,11],[238,1,238,2],[238,10,238,11],[239,1,239,2],[239,10,239,11],[240,1,240,2],[240,10,240,11],[235,1,235,2],[235,10,235,11],[236,1,236,2],[236,10,236,11],[237,1,237,2],[237,10,237,11],[230,15,230,16],[231,2,231,5],[231,11,231,14],[233,0,233,2],[233,9,233,11],[234,1,234,2],[234,10,234,11],[228,2,228,5],[228,11,228,14],[230,2,230,5],[230,6,230,7],[230,11,230,14],[225,0,225,1],[225,2,225,6],[225,9,225,10],[225,11,225,15],[226,2,226,5],[226,6,228,7],[226,11,226,14],[226,15,228,16],[227,2,227,5],[227,11,227,14],[218,1,218,7],[218,10,218,16],[220,0,220,7],[220,9,220,16],[223,4,223,6],[223,13,223,15],[214,1,214,2],[214,10,214,11],[215,1,215,2],[215,10,215,11],[216,1,216,2],[216,10,216,11],[211,1,211,2],[211,10,211,11],[212,1,212,2],[212,10,212,11],[213,1,213,2],[213,10,213,11],[208,1,208,2],[208,10,208,11],[209,1,209,2],[209,10,209,11],[210,1,210,2],[210,10,210,11],[205,0,205,2],[205,9,205,11],[206,1,206,2],[206,10,206,11],[207,1,207,2],[207,10,207,11],[202,2,202,5],[202,6,202,7],[202,11,202,14],[202,15,202,16],[203,2,203,5],[203,11,203,14],[198,2,198,5],[198,6,200,7],[198,11,198,14],[198,15,200,16],[199,2,199,5],[199,11,199,14],[200,2,200,5],[200,11,200,14],[195,4,195,6],[195,13,195,15],[197,0,197,1],[197,2,197,6],[197,9,197,10],[197,11,197,15],[188,1,188,2],[188,10,188,11],[190,1,190,7],[190,10,190,16],[192,0,192,7],[192,9,192,16],[185,1,185,2],[185,10,185,11],[186,1,186,2],[186,10,186,11],[187,1,187,2],[187,10,187,11],[182,1,182,2],[182,10,182,11],[183,1,183,2],[183,10,183,11],[184,1,184,2],[184,10,184,11],[179,1,179,2],[179,10,179,11],[180,1,180,2],[180,10,180,11],[181,1,181,2],[181,10,181,11],[174,15,174,16],[175,2,175,5],[175,11,175,14],[177,0,177,2],[177,9,177,11],[178,1,178,2],[178,10,178,11],[172,2,172,5],[172,11,172,14],[174,2,174,5],[174,6,174,7],[174,11,174,14],[169,0,169,1],[169,2,169,6],[169,9,169,10],[169,11,169,15],[170,2,170,5],[170,6,172,7],[170,11,170,14],[170,15,172,16],[171,2,171,5],[171,11,171,14],[162,1,162,7],[162,10,162,16],[164,0,164,7],[164,9,164,16],[167,4,167,6],[167,13,167,15],[158,1,158,2],[158,10,158,11],[159,1,159,2],[159,10,159,11],[160,1,160,2],[160,10,160,11],[155,1,155,2],[155,10,155,11],[156,1,156,2],[156,10,156,11],[157,1,157,2],[157,10,157,11],[152,1,152,2],[152,10,152,11],[153,1,153,2],[153,10,153,11],[154,1,154,2],[154,10,154,11],[149,0,149,2],[149,9,149,11],[150,1,150,2],[150,10,150,11],[151,1,151,2],[151,10,151,11],[146,2,146,5],[146,6,146,7],[146,11,146,14],[146,15,146,16],[147,2,147,5],[147,11,147,14],[142,2,142,5],[142,6,144,7],[142,11,142,14],[142,15,144,16],[143,2,143,5],[143,11,143,14],[144,2,144,5],[144,11,144,14],[139,4,139,6],[139,13,139,15],[141,0,141,1],[141,2,141,6],[141,9,141,10],[141,11,141,15],[132,1,132,2],[132,10,132,11],[134,1,134,7],[134,10,134,16],[136,0,136,7],[136,9,136,16],[129,1,129,2],[129,10,129,11],[130,1,130,2],[130,10,130,11],[131,1,131,2],[131,10,131,11],[126,1,126,2],[126,10,126,11],[127,1,127,2],[127,10,127,11],[128,1,128,2],[128,10,128,11],[123,1,123,2],[123,10,123,11],[124,1,124,2],[124,10,124,11],[125,1,125,2],[125,10,125,11],[118,15,118,16],[119,2,119,5],[119,11,119,14],[121,0,121,2],[121,9,121,11],[122,1,122,2],[122,10,122,11],[116,2,116,5],[116,11,116,14],[118,2,118,5],[118,6,118,7],[118,11,118,14],[113,0,113,1],[113,2,113,6],[113,9,113,10],[113,11,113,15],[114,2,114,5],[114,6,116,7],[114,11,114,14],[114,15,116,16],[115,2,115,5],[115,11,115,14],[106,1,106,7],[106,10,106,16],[108,0,108,7],[108,9,108,16],[111,4,111,6],[111,13,111,15],[102,1,102,2],[102,10,102,11],[103,1,103,2],[103,10,103,11],[104,1,104,2],[104,10,104,11],[99,1,99,2],[99,10,99,11],[100,1,100,2],[100,10,100,11],[101,1,101,2],[101,10,101,11],[96,1,96,2],[96,10,96,11],[97,1,97,2],[97,10,97,11],[98,1,98,2],[98,10,98,11],[93,0,93,2],[93,9,93,11],[94,1,94,2],[94,10,94,11],[95,1,95,2],[95,10,95,11],[90,2,90,5],[90,6,90,7],[90,11,90,14],[90,15,90,16],[91,2,91,5],[91,11,91,14],[86,2,86,5],[86,6,88,7],[86,11,86,14],[86,15,88,16],[87,2,87,5],[87,11,87,14],[88,2,88,5],[88,11,88,14],[83,4,83,6],[83,13,83,15],[85,0,85,1],[85,2,85,6],[85,9,85,10],[85,11,85,15],[76,1,76,2],[76,10,76,11],[78,1,78,7],[78,10,78,16],[80,0,80,7],[80,9,80,16],[73,1,73,2],[73,10,73,11],[74,1,74,2],[74,10,74,11],[75,1,75,2],[75,10,75,11],[70,1,70,2],[70,10,70,11],[71,1,71,2],[71,10,71,11],[72,1,72,2],[72,10,72,11],[67,1,67,2],[67,10,67,11],[68,1,68,2],[68,10,68,11],[69,1,69,2],[69,10,69,11],[62,15,62,16],[63,2,63,5],[63,11,63,14],[65,0,65,2],[65,9,65,11],[66,1,66,2],[66,10,66,11],[60,2,60,5],[60,11,60,14],[62,2,62,5],[62,6,62,7],[62,11,62,14],[57,0,57,1],[57,2,57,6],[57,9,57,10],[57,11,57,15],[58,2,58,5],[58,6,60,7],[58,11,58,14],[58,15,60,16],[59,2,59,5],[59,11,59,14],[50,1,50,7],[50,10,50,16],[52,0,52,7],[52,9,52,16],[55,4,55,6],[55,13,55,15],[46,1,46,2],[46,10,46,11],[47,1,47,2],[47,10,47,11],[48,1,48,2],[48,10,48,11],[43,1,43,2],[43,10,43,11],[44,1,44,2],[44,10,44,11],[45,1,45,2],[45,10,45,11],[40,1,40,2],[40,10,40,11],[41,1,41,2],[41,10,41,11],[42,1,42,2],[42,10,42,11],[37,0,37,2],[37,9,37,11],[38,1,38,2],[38,10,38,11],[39,1,39,2],[39,10,39,11],[34,2,34,5],[34,6,34,7],[34,11,34,14],[34,15,34,16],[35,2,35,5],[35,11,35,14],[30,2,30,5],[30,6,32,7],[30,11,30,14],[30,15,32,16],[31,2,31,5],[31,11,31,14],[32,2,32,5],[32,11,32,14],[27,4,27,6],[27,13,27,15],[29,0,29,1],[29,2,29,6],[29,9,29,10],[29,11,29,15],[20,1,20,2],[20,10,20,11],[22,1,22,7],[22,10,22,16],[24,0,24,7],[24,9,24,16],[17,1,17,2],[17,10,17,11],[18,1,18,2],[18,10,18,11],[19,1,19,2],[19,10,19,11],[14,1,14,2],[14,10,14,11],[15,1,15,2],[15,10,15,11],[16,1,16,2],[16,10,16,11],[11,1,11,2],[11,10,11,11],[12,1,12,2],[12,10,12,11],[13,1,13,2],[13,10,13,11],[6,15,6,16],[7,2,7,5],[7,11,7,14],[9,0,9,2],[9,9,9,11],[10,1,10,2],[10,10,10,11],[4,2,4,5],[4,11,4,14],[6,2,6,5],[6,6,6,7],[6,11,6,14],[1,0,1,1],[1,2,1,6],[1,9,1,10],[1,11,1,15],[2,2,2,5],[2,6,4,7],[2,11,2,14],[2,15,4,16],[3,2,3,5],[3,11,3,14]]}
["Abnahmekarte für das deutsche Tanzsportabzeichen DTSA",{"$nulls":8},"Abnahmekarte für das deutsche Tanzsportabzeichen DTSA"]
[{"$f":"Anmeldung!$E$7","v":"00:00:00"},null,{"$f":"Anmeldung!$E$8","v":0},{"$nulls":4},{"$f":"\"# \"&Datenerfassung!$H130","v":"# 121"},null,{"$f":"Anmeldung!$E$7","v":"00:00:00"},null,{"$f":"Anmeldung!$E$8","v":0},{"$nulls":4},{"$f":"\"# \"&Datenerfassung!$H131","v":"# 122"}]
["Vorname",null,{"$f":"Datenerfassung!$C130","v":0},null,null,null,"Der/die Bewerber/innen erkennen mit Unterschrift die DTSA-Verleihungsbedingungen an. \n",null,null,"Vorname",null,{"$f":"Datenerfassung!$C131","v":0},null,null,null,"Der/die Bewerber/innen erkennen mit Unterschrift die DTSA-Verleihungsbedingungen an. \n"]
["Nachname",null,{"$f":"Datenerfassung!$D130","v":0},{"$nulls":6},"Nachname",null,{"$f":"Datenerfassung!$D131","v":0}]
["Verein/Schule",null,{"$f":"Datenerfassung!$G130","v":"00:00:00"},{"$nulls":6},"Verein/Schule",null,{"$f":"Datenerfassung!$G131","v":"00:00:00"}]
[]
["Medaille",null,{"$f":"Datenerfassung!$B130","v":0},{"$nulls":6},"Medaille",null,{"$f":"Datenerfassung!$B131","v":0}]
[{"$nulls":6},"Anerkennung der Bedingungen durch Unterschrift",{"$nulls":8},"Anerkennung der Bedingungen durch Unterschrift"]
[]
[" Tanz bitte eintragen/ankreuzen",null,null,"Musik","Balancen","Bewegg.-\nAblauf","X =\nbestanden","spezielle Bemerkungen (Lob/Hinweis/Kritik)\nder/des Abnehmer/in",null," Tanz bitte eintragen/ankreuzen",null,null,"Musik","Balancen","Bewegg.-\nAblauf","X =\nbestanden","spezielle Bemerkungen (Lob/Hinweis/Kritik)\nder/des Abnehmer/in"]
[null,{"$f":"Datenerfassung!$AE130","v":"Langsamer Walzer"},{"$nulls":8},{"$f":"Datenerfassung!$AE131","v":"Langsamer Walzer"}]
[null,{"$f":"Datenerfassung!$AF130","v":"Tango"},{"$nulls":8},{"$f":"Datenerfassung!$AF131","v":"Tango"}]
[null,{"$f":"Datenerfassung!$AG130","v":"Wiener Walzer"},{"$nulls":8},{"$f":"Datenerfassung!$AG131","v":"Wiener Walzer"}]
[null,{"$f":"Datenerfassung!$AH130","v":"Slowfox"},{"$nulls":8},{"$f":"Datenerfassung!$AH131","v":"Slowfox"}]
[null,{"$f":"Datenerfassung!$AI130","v":"Quickstep"},{"$nulls":8},{"$f":"Datenerfassung!$AI131","v":"Quickstep"}]
[null,{"$f":"Datenerfassung!$AJ130","v":"Samba"},{"$nulls":8},{"$f":"Datenerfassung!$AJ131","v":"Samba"}]
[null,{"$f":"Datenerfassung!$AK130","v":"Chachacha"},{"$nulls":8},{"$f":"Datenerfassung!$AK131","v":"Chachacha"}]
[null,{"$f":"Datenerfassung!$AL130","v":"Rumba"},{"$nulls":8},{"$f":"Datenerfassung!$AL131","v":"Rumba"}]
[null,{"$f":"Datenerfassung!$AM130","v":"Paso Doble"},{"$nulls":8},{"$f":"Datenerfassung!$AM131","v":"Paso Doble"}]
[null,{"$f":"Datenerfassung!$AN130","v":"Jive"},{"$nulls":8},{"$f":"Datenerfassung!$AN131","v":"Jive"}]
[null,{"$f":"Datenerfassung!$AO130","v":"Discofox"},{"$nulls":8},{"$f":"Datenerfassung!$AO131","v":"Discofox"}]
[]
[null,"Gemäß Ausbildungsordnung des DTV wurde eine Leistung für den Lizenzerwerb (10-Tänze-Gold) erbracht.",{"$nulls":8},"Gemäß Ausbildungsordnung des DTV wurde eine Leistung für den Lizenzerwerb (10-Tänze-Gold) erbracht."]
[]
["Unterschriften Abnehmer/innen:",{"$nulls":8},"Unterschriften Abnehmer/innen:"]
[]
[]
[{"$f":"Anmeldung!$L$19","v":"00:00:00"},null,null,null,{"$f":"Anmeldung!$L$20","v":0},null,null,{"$f":"Anmeldung!$L$21","v":0},null,{"$f":"Anmeldung!$L$19","v":"00:00:00"},null,null,null,{"$f":"Anmeldung!$L$20","v":0},null,null,{"$f":"Anmeldung!$L$21","v":0}]
["Abnahmekarte für das deutsche Tanzsportabzeichen DTSA",{"$nulls":8},"Abnahmekarte für das deutsche Tanzsportabzeichen DTSA"]
[{"$f":"Anmeldung!$E$7","v":"00:00:00"},null,{"$f":"Anmeldung!$E$8","v":0},{"$nulls":4},{"$f":"\"# \"&Datenerfassung!$H132","v":"# 123"},null,{"$f":"Anmeldung!$E$7","v":"00:00:00"},null,{"$f":"Anmeldung!$E$8","v":0},{"$nulls":4},{"$f":"\"# \"&Datenerfassung!$H133","v":"# 124"}]
["Vorname",null,{"$f":"Datenerfassung!$C132","v":0},null,null,null,"Der/die Bewerber/innen erkennen mit Unterschrift die DTSA-Verleihungsbedingungen an. \n",null,null,"Vorname",null,{"$f":"Datenerfassung!$C133","v":0},null,null,null,"Der/die Bewerber/innen erkennen mit Unterschrift die DTSA-Verleihungsbedingungen an. \n"]
["Nachname",null,{"$f":"Datenerfassung!$D132","v":0},{"$nulls":6},"Nachname",null,{"$f":"Datenerfassung!$D133","v":0}]
["Verein/Schule",null,{"$f":"Datenerfassung!$G132","v":"00:00:00"},{"$nulls":6},"Verein/Schule",null,{"$f":"Datenerfassung!$G133","v":"00:00:00"}]
[]
["Medaille",null,{"$f":"Datenerfassung!$B132","v":0},{"$nulls":6},"Medaille",null,{"$f":"Datenerfassung!$B133","v":0}]
[{"$nulls":6},"Anerkennung der Bedingungen durch Unterschrift",{"$nulls":8},"Anerkennung der Bedingungen durch Unterschrift"]
[]
[" Tanz bitte eintragen/ankreuzen",null,null,"Musik","Balancen","Bewegg.-\nAblauf","X =\nbestanden","spezielle Bemerkungen (Lob/Hinweis/Kritik)\nder/des Abnehmer/in",null," Tanz bitte eintragen/ankreuzen",null,null,"Musik","Balancen","Bewegg.-\nAblauf","X =\nbestanden","spezielle Bemerkungen (Lob/Hinweis/Kritik)\nder/des Abnehmer/in"]
[null,{"$f":"Datenerfassung!$AE132","v":"Langsamer Walzer"},{"$nulls":8},{"$f":"Datenerfassung!$AE133","v":"Langsamer Walzer"}]
[null,{"$f":"Datenerfassung!$AF132","v":"Tango"},{"$nulls":8},{"$f":"Datenerfassung!$AF133","v":"Tango"}]
[null,{"$f":"Datenerfassung!$AG132","v":"Wiener Walzer"},{"$nulls":8},{"$f":"Datenerfassung!$AG133","v":"Wiener Walzer"}]
[null,{"$f":"Datenerfassung!$AH132","v":"Slowfox"},{"$nulls":8},{"$f":"Datenerfassung!$AH133","v":"Slowfox"}]
[null,{"$f":"Datenerfassung!$AI132","v":"Quickstep"},{"$nulls":8},{"$f":"Datenerfassung!$AI133","v":"Quickstep"}]
[null,{"$f":"Datenerfassung!$AJ132","v":"Samba"},{"$nulls":8},{"$f":"Datenerfassung!$AJ133","v":"Samba"}]
[null,{"$f":"Datenerfassung!$AK132","v":"Chachacha"},{"$nulls":8},{"$f":"Datenerfassung!$AK133","v":"Chachacha"}]
[null,{"$f":"Datenerfassung!$AL132","v":"Rumba"},{"$nulls":8},{"$f":"Datenerfassung!$AL133","v":"Rumba"}]
[null,{"$f":"Datenerfassung!$AM132","v":"Paso Doble"},{"$nulls":8},{"$f":"Datenerfassung!$AM133","v":"Paso Doble"}]
[null,{"$f":"Datenerfassung!$AN132","v":"Jive"},{"$nulls":8},{"$f":"Datenerfassung!$AN133","v":"Jive"}]
[null,{"$f":"Datenerfassung!$AO132","v":"Discofox"},{"$nulls":8},{"$f":"Datenerfassung!$AO133","v":"Discofox"}]
[]
[null,"Gemäß Ausbildungsordnung des DTV wurde eine Leistung für den Lizenzerwerb (10-Tänze-Gold) erbracht.",{"$nulls":8},"Gemäß Ausbildungsordnung des DTV wurde eine Leistung für den Lizenzerwerb (10-Tänze-Gold) erbracht."]
[]
["Unterschriften Abnehmer/innen:",{"$nulls":8},"Unterschriften Abnehmer/innen:"]
[]
[]
[{"$f":"Anmeldung!$L$19","v":"00:00:00"},null,null,null,{"$f":"Anmeldung!$L$20","v":0},null,null,{"$f":"Anmeldung!$L$21","v":0},null,{"$f":"Anmeldung!$L$19","v":"00:00:00"},null,null,null,{"$f":"Anmeldung!$L$20","v":0},null,null,{"$f":"Anmeldung!$L$21","v":0}]
["Abnahmekarte für das deutsche Tanzsportabzeichen DTSA",{"$nulls":8},"Abnahmekarte für das deutsche Tanzsportabzeichen DTSA"]
[{"$f":"Anmeldung!$E$7","v":"00:00:00"},null,{"$f":"Anmeldung!$E$8","v":0},{"$nulls":4},{"$f":"\"# \"&Datenerfassung!$H134","v":"# 125"},null,{"$f":"Anmeldung!$E$7","v":"00:00:00"},null,{"$f":"Anmeldung!$E$8","v":0},{"$nulls":4},{"$f":"\"# \"&Datenerfassung!$H135","v":"# 126"}]
["Vorname",null,{"$f":"Datenerfassung!$C134","v":0},null,null,null,"Der/die Bewerber/innen erkennen mit Unterschrift die DTSA-Verleihungsbedingungen an. \n",null,null,"Vorname",null,{"$f":"Datenerfassung!$C135","v":0},null,null,null,"Der/die Bewerber/innen erkennen mit Unterschrift die DTSA-Verleihungsbedingungen an. \n"]
["Nachname",null,{"$f":"Datenerfassung!$D134","v":0},{"$nulls":6},"Nachname",null,{"$f":"Datenerfassung!$D135","v":0}]
["Verein/Schule",null,{"$f":"Datenerfassung!$G134","v":"00:00:00"},{"$nulls":6},"Verein/Schule",null,{"$f":"Datenerfassung!$G135","v":"00:00:00"}]
[]
["Medaille",null,{"$f":"Datenerfassung!$B134","v":0},{"$nulls":6},"Medaille",null,{"$f":"Datenerfassung!$B135","v":0}]
[{"$nulls":6},"Anerkennung der Bedingungen durch Unterschrift",{"$nulls":8},"Anerkennung der Bedingungen durch Unterschrift"]
[]
[" Tanz bitte eintragen/ankreuzen",null,null,"Musik","Balancen","Bewegg.-\nAblauf","X =\nbestanden","spezielle Bemerkungen (Lob/Hinweis/Kritik)\nder/des Abnehmer/in",null," Tanz bitte eintragen/ankreuzen",null,null,"Musik","Balancen","Bewegg.-\nAblauf","X =\nbestanden","spezielle Bemerkungen (Lob/Hinweis/Kritik)\nder/des Abnehmer/in"]
[null,{"$f":"Datenerfassung!$AE134","v":"Langsamer Walzer"},{"$nulls":8},{"$f":"Datenerfassung!$AE135","v":"Langsamer Walzer"}]
[null,{"$f":"Datenerfassung!$AF134","v":"Tango"},{"$nulls":8},{"$f":"Datenerfassung!$AF135","v":"Tango"}]
[null,{"$f":"Datenerfassung!$AG134","v":"Wiener Walzer"},{"$nulls":8},{"$f":"Datenerfassung!$AG135","v":"Wiener Walzer"}]
[null,{"$f":"Datenerfassung!$AH134","v":"Slowfox"},{"$nulls":8},{"$f":"Datenerfassung!$AH135","v":"Slowfox"}]
[null,{"$f":"Datenerfassung!$AI134","v":"Quickstep"},{"$nulls":8},{"$f":"Datenerfassung!$AI135","v":"Quickstep"}]
[null,{"$f":"Datenerfassung!$AJ134","v":"Samba"},{"$nulls":8},{"$f":"Datenerfassung!$AJ135","v":"Samba"}]
[null,{"$f":"Datenerfassung!$AK134","v":"Chachacha"},{"$nulls":8},{"$f":"Datenerfassung!$AK135","v":"Chachacha"}]
[null,{"$f":"Datenerfassung!$AL134","v":"Rumba"},{"$nulls":8},{"$f":"Datenerfassung!$AL135","v":"Rumba"}]
[null,{"$f":"Datenerfassung!$AM134","v":"Paso Doble"},{"$nulls":8},{"$f":"Datenerfassung!$AM135","v":"Paso Doble"}]
[null,{"$f":"Datenerfassung!$AN134","v":"Jive"},{"$nulls":8},{"$f":"Datenerfassung!$AN135","v":"Jive"}]
[null,{"$f":"Datenerfassung!$AO134","v":"Discofox"},{"$nulls":8},{"$f":"Datenerfassung!$AO135","v":"Discofox"}]
[]
[null,"Gemäß Ausbildungsordnung des DTV wurde eine Leistung für den Lizenzerwerb (10-Tänze-Gold) erbracht.",{"$nulls":8},"Gemäß Ausbildungsordnung des DTV wurde eine Leistung für den Lizenzerwerb (10-Tänze-Gold) erbracht."]
[]
["Unterschriften Abnehmer/innen:",{"$nulls":8},"Unterschriften Abnehmer/innen:"]
[]
[]
[{"$f":"Anmeldung!$L$19","v":"00:00:00"},null,null,null,{"$f":"Anmeldung!$L$20","v":0},null,null,{"$f":"Anmeldung!$L$21","v":0},null,{"$f":"Anmeldung!$L$19","v":"00:00:00"},null,null,null,{"$f":"Anmeldung!$L$20","v":0},null,null,{"$f":"Anmeldung!$L$21","v":0}]
["Abnahmekarte für das deutsche Tanzsportabzeichen DTSA",{"$nulls":8},"Abnahmekarte für das deutsche Tanzsportabzeichen DTSA"]
[{"$f":"Anmeldung!$E$7","v":"00:00:00"},null,{"$f":"Anmeldung!$E$8","v":0},{"$nulls":4},{"$f":"\"# \"&Datenerfassung!$H136","v":"# 127"},null,{"$f":"Anmeldung!$E$7","v":"00:00:00"},null,{"$f":"Anmeldung!$E$8","v":0},{"$nulls":4},{"$f":"\"# \"&Datenerfassung!$H137","v":"# 128"}]
["Vorname",null,{"$f":"Datenerfassung!$C136","v":0},null,null,null,"Der/die Bewerber/innen erkennen mit Unterschrift die DTSA-Verleihungsbedingungen an. \n",null,null,"Vorname",null,{"$f":"Datenerfassung!$C137","v":0},null,null,null,"Der/die Bewerber/innen erkennen mit Unterschrift die DTSA-Verleihungsbedingungen an. \n"]
["Nachname",null,{"$f":"Datenerfassung!$D136","v":0},{"$nulls":6},"Nachname",null,{"$f":"Datenerfassung!$D137","v":0}]
["Verein/Schule",null,{"$f":"Datenerfassung!$G136","v":"00:00:00"},{"$nulls":6},"Verein/Schule",null,{"$f":"Datenerfassung!$G137","v":"00:00:00"}]
[]
["Medaille",null,{"$f":"Datenerfassung!$B136","v":0},{"$nulls":6},"Medaille",null,{"$f":"Datenerfassung!$B137","v":0}]
[{"$nulls":6},"Anerkennung der Bedingungen durch Unterschrift",{"$nulls":8},"Anerkennung der Bedingungen durch Unterschrift"]
[]
[" Tanz bitte eintragen/ankreuzen",null,null,"Musik","Balancen","Bewegg.-\nAblauf","X =\nbestanden","spezielle Bemerkungen (Lob/Hinweis/Kritik)\nder/des Abnehmer/in",null," Tanz bitte eintragen/ankreuzen",null,null,"Musik","Balancen","Bewegg.-\nAblauf","X =\nbestanden","spezielle Bemerkungen (Lob/Hinweis/Kritik)\nder/des Abnehmer/in"]
[null,{"$f":"Datenerfassung!$AE136","v":"Langsamer Walzer"},{"$nulls":8},{"$f":"Datenerfassung!$AE137","v":"Langsamer Walzer"}]
[null,{"$f":"Datenerfassung!$AF136","v":"Tango"},{"$nulls":8},{"$f":"Datenerfassung!$AF137","v":"Tango"}]
[null,{"$f":"Datenerfassung!$AG136","v":"Wiener Walzer"},{"$nulls":8},{"$f":"Datenerfassung!$AG137","v":"Wiener Walzer"}]
[null,{"$f":"Datenerfassung!$AH136","v":"Slowfox"},{"$nulls":8},{"$f":"Datenerfassung!$AH137","v":"Slowfox"}]
[null,{"$f":"Datenerfassung!$AI136","v":"Quickstep"},{"$nulls":8},{"$f":"Datenerfassung!$AI137","v":"Quickstep"}]
[null,{"$f":"Datenerfassung!$AJ136","v":"Samba"},{"$nulls":8},{"$f":"Datenerfassung!$AJ137","v":"Samba"}]
[null,{"$f":"Datenerfassung!$AK136","v":"Chachacha"},{"$nulls":8},{"$f":"Datenerfassung!$AK137","v":"Chachacha"}]
[null,{"$f":"Datenerfassung!$AL136","v":"Rumba"},{"$nulls":8},{"$f":"Datenerfassung!$AL137","v":"Rumba"}]
[null,{"$f":"Datenerfassung!$AM136","v":"Paso Doble"},{"$nulls":8},{"$f":"Datenerfassung!$AM137","v":"Paso Doble"}]
[null,{"$f":"Datenerfassung!$AN136","v":"Jive"},{"$nulls":8},{"$f":"Datenerfassung!$AN137","v":"Jive"}]
[null,{"$f":"Datenerfassung!$AO136","v":"Discofox"},{"$nulls":8},{"$f":"Datenerfassung!$AO137","v":"Discofox"}]
[]
[null,"Gemäß Ausbildungsordnung des DTV wurde eine Leistung für den Lizenzerwerb (10-Tänze-Gold) erbracht.",{"$nulls":8},"Gemäß Ausbildungsordnung des DTV wurde eine Leistung für den Lizenzerwerb (10-Tänze-Gold) erbracht."]
[]
["Unterschriften Abnehmer/innen:",{"$nulls":8},"Unterschriften Abnehmer/innen:"]
[]
[]
[{"$f":"Anmeldung!$L$19","v":"00:00:00"},null,null,null,{"$f":"Anmeldung!$L$20","v":0},null,null,{"$f":"Anmeldung!$L$21","v":0},null,{"$f":"Anmeldung!$L$19","v":"00:00:00"},null,null,null,{"$f":"Anmeldung!$L$20","v":0},null,null,{"$f":"Anmeldung!$L$21","v":0}]
["Abnahmekarte für das deutsche Tanzsportabzeichen DTSA",{"$nulls":8},"Abnahmekarte für das deutsche Tanzsportabzeichen DTSA"]
[{"$f":"Anmeldung!$E$7","v":"00:00:00"},null,{"$f":"Anmeldung!$E$8","v":0},{"$nulls":4},{"$f":"\"# \"&Datenerfassung!$H138","v":"# 129"},null,{"$f":"Anmeldung!$E$7","v":"00:00:00"},null,{"$f":"Anmeldung!$E$8","v":0},{"$nulls":4},{"$f":"\"# \"&Datenerfassung!$H139","v":"# 130"}]
["Vorname",null,{"$f":"Datenerfassung!$C138","v":0},null,null,null,"Der/die Bewerber/innen erkennen mit Unterschrift die DTSA-Verleihungsbedingungen an. \n",null,null,"Vorname",null,{"$f":"Datenerfassung!$C139","v":0},null,null,null,"Der/die Bewerber/innen erkennen mit Unterschrift die DTSA-Verleihungsbedingungen an. \n"]
["Nachname",null,{"$f":"Datenerfassung!$D138","v":0},{"$nulls":6},"Nachname",null,{"$f":"Datenerfassung!$D139","v":0}]
["Verein/Schule",null,{"$f":"Datenerfassung!$G138","v":"00:00:00"},{"$nulls":6},"Verein/Schule",null,{"$f":"Datenerfassung!$G139","v":"00:00:00"}]
[]
["Medaille",null,{"$f":"Datenerfassung!$B138","v":0},{"$nulls":6},"Medaille",null,{"$f":"Datenerfassung!$B139","v":0}]
[{"$nulls":6},"Anerkennung der Bedingungen durch Unterschrift",{"$nulls":8},"Anerkennung der Bedingungen durch Unterschrift"]
[]
[" Tanz bitte eintragen/ankreuzen",null,null,"Musik","Balancen","Bewegg.-\nAblauf","X =\nbestanden","spezielle Bemerkungen (Lob/Hinweis/Kritik)\nder/des Abnehmer/in",null," Tanz bitte eintragen/ankreuzen",null,null,"Musik","Balancen","Bewegg.-\nAblauf","X =\nbestanden","spezielle Bemerkungen (Lob/Hinweis/Kritik)\nder/des Abnehmer/in"]
[null,{"$f":"Datenerfassung!$AE138","v":"Langsamer Walzer"},{"$nulls":8},{"$f":"Datenerfassung!$AE139","v":"Langsamer Walzer"}]
[null,{"$f":"Datenerfassung!$AF138","v":"Tango"},{"$nulls":8},{"$f":"Datenerfassung!$AF139","v":"Tango"}]
[null,{"$f":"Datenerfassung!$AG138","v":"Wiener Walzer"},{"$nulls":8},{"$f":"Datenerfassung!$AG139","v":"Wiener Walzer"}]
[null,{"$f":"Datenerfassung!$AH138","v":"Slowfox"},{"$nulls":8},{"$f":"Datenerfassung!$AH139","v":"Slowfox"}]
[null,{"$f":"Datenerfassung!$AI138","v":"Quickstep"},{"$nulls":8},{"$f":"Datenerfassung!$AI139","v":"Quickstep"}]
[null,{"$f":"Datenerfassung!$AJ138","v":"Samba"},{"$nulls":8},{"$f":"Datenerfassung!$AJ139","v":"Samba"}]
[null,{"$f":"Datenerfassung!$AK138","v":"Chachacha"},{"$nulls":8},{"$f":"Datenerfassung!$AK139","v":"Chachacha"}]
[null,{"$f":"Datenerfassung!$AL138","v":"Rumba"},{"$nulls":8},{"$f":"Datenerfassung!$AL139","v":"Rumba"}]
[null,{"$f":"Datenerfassung!$AM138","v":"Paso Doble"},{"$nulls":8},{"$f":"Datenerfassung!$AM139","v":"Paso Doble"}]
[null,{"$f":"Datenerfassung!$AN138","v":"Jive"},{"$nulls":8},{"$f":"Datenerfassung!$AN139","v":"Jive"}]
[null,{"$f":"Datenerfassung!$AO138","v":"Discofox"},{"$nulls":8},{"$f":"Datenerfassung!$AO139","v":"Discofox"}]
[]
[null,"Gemäß Ausbildungsordnung des DTV wurde eine Leistung für den Lizenzerwerb (10-Tänze-Gold) erbracht.",{"$nulls":8},"Gemäß Ausbildungsordnung des DTV wurde eine Leistung für den Lizenzerwerb (10-Tänze-Gold) erbracht."]
[]
["Unterschriften Abnehmer/innen:",{"$nulls":8},"Unterschriften Abnehmer/innen:"]
[]
[]
[{"$f":"Anmeldung!$L$19","v":"00:00:00"},null,null,null,{"$f":"Anmeldung!$L$20","v":0},null,null,{"$f":"Anmeldung!$L$21","v":0},null,{"$f":"Anmeldung!$L$19","v":"00:00:00"},null,null,null,{"$f":"Anmeldung!$L$20","v":0},null,null,{"$f":"Anmeldung!$L$21","v":0}]
["Abnahmekarte für das deutsche Tanzsportabzeichen DTSA",{"$nulls":8},"Abnahmekarte für das deutsche Tanzsportabzeichen DTSA"]
[{"$f":"Anmeldung!$E$7","v":"00:00:00"},null,{"$f":"Anmeldung!$E$8","v":0},{"$nulls":4},{"$f":"\"# \"&Datenerfassung!$H140","v":"# 131"},null,{"$f":"Anmeldung!$E$7","v":"00:00:00"},null,{"$f":"Anmeldung!$E$8","v":0},{"$nulls":4},{"$f":"\"# \"&Datenerfassung!$H141","v":"# 132"}]
["Vorname",null,{"$f":"Datenerfassung!$C140","v":0},null,null,null,"Der/die Bewerber/innen erkennen mit Unterschrift die DTSA-Verleihungsbedingungen an. \n",null,null,"Vorname",null,{"$f":"Datenerfassung!$C141","v":0},null,null,null,"Der/die Bewerber/innen erkennen mit Unterschrift die DTSA-Verleihungsbedingungen an. \n"]
["Nachname",null,{"$f":"Datenerfassung!$D140","v":0},{"$nulls":6},"Nachname",null,{"$f":"Datenerfassung!$D141","v":0}]
["Verein/Schule",null,{"$f":"Datenerfassung!$G140","v":"00:00:00"},{"$nulls":6},"Verein/Schule",null,{"$f":"Datenerfassung!$G141","v":"00:00:00"}]
[]
["Medaille",null,{"$f":"Datenerfassung!$B140","v":0},{"$nulls":6},"Medaille",null,{"$f":"Datenerfassung!$B141","v":0}]
[{"$nulls":6},"Anerkennung der Bedingungen durch Unterschrift",{"$nulls":8},"Anerkennung der Bedingungen durch Unterschrift"]
[]
[" Tanz bitte eintragen/ankreuzen",null,null,"Musik","Balancen","Bewegg.-\nAblauf","X =\nbestanden","spezielle Bemerkungen (Lob/Hinweis/Kritik)\nder/des Abnehmer/in",null," Tanz bitte eintragen/ankreuzen",null,null,"Musik","Balancen","Bewegg.-\nAblauf","X =\nbestanden","spezielle Bemerkungen (Lob/Hinweis/Kritik)\nder/des Abnehmer/in"]
[null,{"$f":"Datenerfassung!$AE140","v":"Langsamer Walzer"},{"$nulls":8},{"$f":"Datenerfassung!$AE141","v":"Langsamer Walzer"}]
[null,{"$f":"Datenerfassung!$AF140","v":"Tango"},{"$nulls":8},{"$f":"Datenerfassung!$AF141","v":"Tango"}]
[null,{"$f":"Datenerfassung!$AG140","v":"Wiener Walzer"},{"$nulls":8},{"$f":"Datenerfassung!$AG141","v":"Wiener Walzer"}]
[null,{"$f":"Datenerfassung!$AH140","v":"Slowfox"},{"$nulls":8},{"$f":"Datenerfassung!$AH141","v":"Slowfox"}]
[null,{"$f":"Datenerfassung!$AI140","v":"Quickstep"},{"$nulls":8},{"$f":"Datenerfassung!$AI141","v":"Quickstep"}]
[null,{"$f":"Datenerfassung!$AJ140","v":"Samba"},{"$nulls":8},{"$f":"Datenerfassung!$AJ141","v":"Samba"}]
[null,{"$f":"Datenerfassung!$AK140","v":"Chachacha"},{"$nulls":8},{"$f":"Datenerfassung!$AK141","v":"Chachacha"}]
[null,{"$f":"Datenerfassung!$AL140","v":"Rumba"},{"$nulls":8},{"$f":"Datenerfassung!$AL141","v":"Rumba"}]
[null,{"$f":"Datenerfassung!$AM140","v":"Paso Doble"},{"$nulls":8},{"$f":"Datenerfassung!$AM141","v":"Paso Doble"}]
[null,{"$f":"Datenerfassung!$AN140","v":"Jive"},{"$nulls":8},{"$f":"Datenerfassung!$AN141","v":"Jive"}]
[null,{"$f":"Datenerfassung!$AO140","v":"Discofox"},{"$nulls":8},{"$f":"Datenerfassung!$AO141","v":"Discofox"}]
[]
[null,"Gemäß Ausbildungsordnung des DTV wurde eine Leistung für den Lizenzerwerb (10-Tänze-Gold) erbracht.",{"$nulls":8},"Gemäß Ausbildungsordnung des DTV wurde eine Leistung für den Lizenzerwerb (10-Tänze-Gold) erbracht."]
[]
["Unterschriften Abnehmer/innen:",{"$nulls":8},"Unterschriften Abnehmer/innen:"]
[]
[]
[{"$f":"Anmeldung!$L$19","v":"00:00:00"},null,null,null,{"$f":"Anmeldung!$L$20","v":0},null,null,{"$f":"Anmeldung!$L$21","v":0},null,{"$f":"Anmeldung!$L$19","v":"00:00:00"},null,null,null,{"$f":"Anmeldung!$L$20","v":0},null,null,{"$f":"Anmeldung!$L$21","v":0}]
["Abnahmekarte für das deutsche Tanzsportabzeichen DTSA",{"$nulls":8},"Abnahmekarte für das deutsche Tanzsportabzeichen DTSA"]
[{"$f":"Anmeldung!$E$7","v":"00:00:00"},null,{"$f":"Anmeldung!$E$8","v":0},{"$nulls":4},{"$f":"\"# \"&Datenerfassung!$H142","v":"# 133"},null,{"$f":"Anmeldung!$E$7","v":"00:00:00"},null,{"$f":"Anmeldung!$E$8","v":0},{"$nulls":4},{"$f":"\"# \"&Datenerfassung!$H143","v":"# 134"}]
["Vorname",null,{"$f":"Datenerfassung!$C142","v":0},null,null,null,"Der/die Bewerber/innen erkennen mit Unterschrift die DTSA-Verleihungsbedingungen an. \n",null,null,"Vorname",null,{"$f":"Datenerfassung!$C143","v":0},null,null,null,"Der/die Bewerber/innen erkennen mit Unterschrift die DTSA-Verleihungsbedingungen an. \n"]
["Nachname",null,{"$f":"Datenerfassung!$D142","v":0},{"$nulls":6},"Nachname",null,{"$f":"Datenerfassung!$D143","v":0}]
["Verein/Schule",null,{"$f":"Datenerfassung!$G142","v":"00:00:00"},{"$nulls":6},"Verein/Schule",null,{"$f":"Datenerfassung!$G143","v":"00:00:00"}]
[]
["Medaille",null,{"$f":"Datenerfassung!$B142","v":0},{"$nulls":6},"Medaille",null,{"$f":"Datenerfassung!$B143","v":0}]
[{"$nulls":6},"Anerkennung der Bedingungen durch Unterschrift",{"$nulls":8},"Anerkennung der Bedingungen durch Unterschrift"]
[]
[" Tanz bitte eintragen/ankreuzen",null,null,"Musik","Balancen","Bewegg.-\nAblauf","X =\nbestanden","spezielle Bemerkungen (Lob/Hinweis/Kritik)\nder/des Abnehmer/in",null," Tanz bitte eintragen/ankreuzen",null,null,"Musik","Balancen","Bewegg.-\nAblauf","X =\nbestanden","spezielle Bemerkungen (Lob/Hinweis/Kritik)\nder/des Abnehmer/in"]
[null,{"$f":"Datenerfassung!$AE142","v":"Langsamer Walzer"},{"$nulls":8},{"$f":"Datenerfassung!$AE143","v":"Langsamer Walzer"}]
[null,{"$f":"Datenerfassung!$AF142","v":"Tango"},{"$nulls":8},{"$f":"Datenerfassung!$AF143","v":"Tango"}]
[null,{"$f":"Datenerfassung!$AG142","v":"Wiener Walzer"},{"$nulls":8},{"$f":"Datenerfassung!$AG143","v":"Wiener Walzer"}]
[null,{"$f":"Datenerfassung!$AH142","v":"Slowfox"},{"$nulls":8},{"$f":"Datenerfassung!$AH143","v":"Slowfox"}]
[null,{"$f":"Datenerfassung!$AI142","v":"Quickstep"},{"$nulls":8},{"$f":"Datenerfassung!$AI143","v":"Quickstep"}]
[null,{"$f":"Datenerfassung!$AJ142","v":"Samba"},{"$nulls":8},{"$f":"Datenerfassung!$AJ143","v":"Samba"}]
[null,{"$f":"Datenerfassung!$AK142","v":"Chachacha"},{"$nulls":8},{"$f":"Datenerfassung!$AK143","v":"Chachacha"}]
[null,{"$f":"Datenerfassung!$AL142","v":"Rumba"},{"$nulls":8},{"$f":"Datenerfassung!$AL143","v":"Rumba"}]
[null,{"$f":"Datenerfassung!$AM142","v":"Paso Doble"},{"$nulls":8},{"$f":"Datenerfassung!$AM143","v":"Paso Doble"}]
[null,{"$f":"Datenerfassung!$AN142","v":"Jive"},{"$nulls":8},{"$f":"Datenerfassung!$AN143","v":"Jive"}]
[null,{"$f":"Datenerfassung!$AO142","v":"Discofox"},{"$nulls":8},{"$f":"Datenerfassung!$AO143","v":"Discofox"}]
[]
[null,"Gemäß Ausbildungsordnung des DTV wurde eine Leistung für den Lizenzerwerb (10-Tänze-Gold) erbracht.",{"$nulls":8},"Gemäß Ausbildungsordnung des DTV wurde eine Leistung für den Lizenzerwerb (10-Tänze-Gold) erbracht."]
[]
["Unterschriften Abnehmer/innen:",{"$nulls":8},"Unterschriften Abnehmer/innen:"]
[]
[]
[{"$f":"Anmeldung!$L$19","v":"00:00:00"},null,null,null,{"$f":"Anmeldung!$L$20","v":0},null,null,{"$f":"Anmeldung!$L$21","v":0},null,{"$f":"Anmeldung!$L$19","v":"00:00:00"},null,null,null,{"$f":"Anmeldung!$L$20","v":0},null,null,{"$f":"Anmeldung!$L$21","v":0}]
["Abnahmekarte für das deutsche Tanzsportabzeichen DTSA",{"$nulls":8},"Abnahmekarte für das deutsche Tanzsportabzeichen DTSA"]
[{"$f":"Anmeldung!$E$7","v":"00:00:00"},null,{"$f":"Anmeldung!$E$8","v":0},{"$nulls":4},{"$f":"\"# \"&Datenerfassung!$H144","v":"# 135"},null,{"$f":"Anmeldung!$E$7","v":"00:00:00"},null,{"$f":"Anmeldung!$E$8","v":0},{"$nulls":4},{"$f":"\"# \"&Datenerfassung!$H145","v":"# 136"}]
["Vorname",null,{"$f":"Datenerfassung!$C144","v":0},null,null,null,"Der/die Bewerber/innen erkennen mit Unterschrift die DTSA-Verleihungsbedingungen an. \n",null,null,"Vorname",null,{"$f":"Datenerfassung!$C145","v":0},null,null,null,"Der/die Bewerber/innen erkennen mit Unterschrift die DTSA-Verleihungsbedingungen an. \n"]
["Nachname",null,{"$f":"Datenerfassung!$D144","v":0},{"$nulls":6},"Nachname",null,{"$f":"Datenerfassung!$D145","v":0}]
["Verein/Schule",null,{"$f":"Datenerfassung!$G144","v":"00:00:00"},{"$nulls":6},"Verein/Schule",null,{"$f":"Datenerfassung!$G145","v":"00:00:00"}]
[]
["Medaille",null,{"$f":"Datenerfassung!$B144","v":0},{"$nulls":6},"Medaille",null,{"$f":"Datenerfassung!$B145","v":0}]
[{"$nulls":6},"Anerkennung der Bedingungen durch Unterschrift",{"$nulls":8},"Anerkennung der Bedingungen durch Unterschrift"]
[]
[" Tanz bitte eintragen/ankreuzen",null,null,"Musik","Balancen","Bewegg.-\nAblauf","X =\nbestanden","spezielle Bemerkungen (Lob/Hinweis/Kritik)\nder/des Abnehmer/in",null," Tanz bitte eintragen/ankreuzen",null,null,"Musik","Balancen","Bewegg.-\nAblauf","X =\nbestanden","spezielle Bemerkungen (Lob/Hinweis/Kritik)\nder/des Abnehmer/in"]
[null,{"$f":"Datenerfassung!$AE144","v":"Langsamer Walzer"},{"$nulls":8},{"$f":"Datenerfassung!$AE145","v":"Langsamer Walzer"}]
[null,{"$f":"Datenerfassung!$AF144","v":"Tango"},{"$nulls":8},{"$f":"Datenerfassung!$AF145","v":"Tango"}]
[null,{"$f":"Datenerfassung!$AG144","v":"Wiener Walzer"},{"$nulls":8},{"$f":"Datenerfassung!$AG145","v":"Wiener Walzer"}]
[null,{"$f":"Datenerfassung!$AH144","v":"Slowfox"},{"$nulls":8},{"$f":"Datenerfassung!$AH145","v":"Slowfox"}]
[null,{"$f":"Datenerfassung!$AI144","v":"Quickstep"},{"$nulls":8},{"$f":"Datenerfassung!$AI145","v":"Quickstep"}]
[null,{"$f":"Datenerfassung!$AJ144","v":"Samba"},{"$nulls":8},{"$f":"Datenerfassung!$AJ145","v":"Samba"}]
[null,{"$f":"Datenerfassung!$AK144","v":"Chachacha"},{"$nulls":8},{"$f":"Datenerfassung!$AK145","v":"Chachacha"}]
[null,{"$f":"Datenerfassung!$AL144","v":"Rumba"},{"$nulls":8},{"$f":"Datenerfassung!$AL145","v":"Rumba"}]
[null,{"$f":"Datenerfassung!$AM144","v":"Paso Doble"},{"$nulls":8},{"$f":"Datenerfassung!$AM145","v":"Paso Doble"}]
[null,{"$f":"Datenerfassung!$AN144","v":"Jive"},{"$nulls":8},{"$f":"Datenerfassung!$AN145","v":"Jive"}]
[null,{"$f":"Datenerfassung!$AO144","v":"Discofox"},{"$nulls":8},{"$f":"Datenerfassung!$AO145","v":"Discofox"}]
[]
[null,"Gemäß Ausbildungsordnung des DTV wurde eine Leistung für den Lizenzerwerb (10-Tänze-Gold) erbracht.",{"$nulls":8},"Gemäß Ausbildungsordnung des DTV wurde eine Leistung für den Lizenzerwerb (10-Tänze-Gold) erbracht."]
[]
["Unterschriften Abnehmer/innen:",{"$nulls":8},"Unterschriften Abnehmer/innen:"]
[]
[]
[{"$f":"Anmeldung!$L$19","v":"00:00:00"},null,null,null,{"$f":"Anmeldung!$L$20","v":0},null,null,{"$f":"Anmeldung!$L$21","v":0},null,{"$f":"Anmeldung!$L$19","v":"00:00:00"},null,null,null,{"$f":"Anmeldung!$L$20","v":0},null,null,{"$f":"Anmeldung!$L$21","v":0}]
["Abnahmekarte für das deutsche Tanzsportabzeichen DTSA",{"$nulls":8},"Abnahmekarte für das deutsche Tanzsportabzeichen DTSA"]
[{"$f":"Anmeldung!$E$7","v":"00:00:00"},null,{"$f":"Anmeldung!$E$8","v":0},{"$nulls":4},{"$f":"\"# \"&Datenerfassung!$H146","v":"# 137"},null,{"$f":"Anmeldung!$E$7","v":"00:00:00"},null,{"$f":"Anmeldung!$E$8","v":0},{"$nulls":4},{"$f":"\"# \"&Datenerfassung!$H147","v":"# 138"}]
["Vorname",null,{"$f":"Datenerfassung!$C146","v":0},null,null,null,"Der/die Bewerber/innen erkennen mit Unterschrift die DTSA-Verleihungsbedingungen an. \n",null,null,"Vorname",null,{"$f":"Datenerfassung!$C147","v":0},null,null,null,"Der/die Bewerber/innen erkennen mit Unterschrift die DTSA-Verleihungsbedingungen an. \n"]
["Nachname",null,{"$f":"Datenerfassung!$D146","v":0},{"$nulls":6},"Nachname",null,{"$f":"Datenerfassung!$D147","v":0}]
["Verein/Schule",null,{"$f":"Datenerfassung!$G146","v":"00:00:00"},{"$nulls":6},"Verein/Schule",null,{"$f":"Datenerfassung!$G147","v":"00:00:00"}]
[]
["Medaille",null,{"$f":"Datenerfassung!$B146","v":0},{"$nulls":6},"Medaille",null,{"$f":"Datenerfassung!$B147","v":0}]
[{"$nulls":6},"Anerkennung der Bedingungen durch Unterschrift",{"$nulls":8},"Anerkennung der Bedingungen durch Unterschrift"]
[]
[" Tanz bitte eintragen/ankreuzen",null,null,"Musik","Balancen","Bewegg.-\nAblauf","X =\nbestanden","spezielle Bemerkungen (Lob/Hinweis/Kritik)\nder/des Abnehmer/in",null," Tanz bitte eintragen/ankreuzen",null,null,"Musik","Balancen","Bewegg.-\nAblauf","X =\nbestanden","spezielle Bemerkungen (Lob/Hinweis/Kritik)\nder/des Abnehmer/in"]
[null,{"$f":"Datenerfassung!$AE146","v":"Langsamer Walzer"},{"$nulls":8},{"$f":"Datenerfassung!$AE147","v":"Langsamer Walzer"}]
[null,{"$f":"Datenerfassung!$AF146","v":"Tango"},{"$nulls":8},{"$f":"Datenerfassung!$AF147","v":"Tango"}]
[null,{"$f":"Datenerfassung!$AG146","v":"Wiener Walzer"},{"$nulls":8},{"$f":"Datenerfassung!$AG147","v":"Wiener Walzer"}]
[null,{"$f":"Datenerfassung!$AH146","v":"Slowfox"},{"$nulls":8},{"$f":"Datenerfassung!$AH147","v":"Slowfox"}]
[null,{"$f":"Datenerfassung!$AI146","v":"Quickstep"},{"$nulls":8},{"$f":"Datenerfassung!$AI147","v":"Quickstep"}]
[null,{"$f":"Datenerfassung!$AJ146","v":"Samba"},{"$nulls":8},{"$f":"Datenerfassung!$AJ147","v":"Samba"}]
[null,{"$f":"Datenerfassung!$AK146","v":"Chachacha"},{"$nulls":8},{"$f":"Datenerfassung!$AK147","v":"Chachacha"}]
[null,{"$f":"Datenerfassung!$AL146","v":"Rumba"},{"$nulls":8},{"$f":"Datenerfassung!$AL147","v":"Rumba"}]
[null,{"$f":"Datenerfassung!$AM146","v":"Paso Doble"},{"$nulls":8},{"$f":"Datenerfassung!$AM147","v":"Paso Doble"}]
[null,{"$f":"Datenerfassung!$AN146","v":"Jive"},{"$nulls":8},{"$f":"Datenerfassung!$AN147","v":"Jive"}]
[null,{"$f":"Datenerfassung!$AO146","v":"Discofox"},{"$nulls":8},{"$f":"Datenerfassung!$AO147","v":"Discofox"}]
[]
[null,"Gemäß Ausbildungsordnung des DTV wurde eine Leistung für den Lizenzerwerb (10-Tänze-Gold) erbracht.",{"$nulls":8},"Gemäß Ausbildungsordnung des DTV wurde eine Leistung für den Lizenzerwerb (10-Tänze-Gold) erbracht."]
[]
["Unterschriften Abnehmer/innen:",{"$nulls":8},"Unterschriften Abnehmer/innen:"]
[]
[]
[{"$f":"Anmeldung!$L$19","v":"00:00:00"},null,null,null,{"$f":"Anmeldung!$L$20","v":0},null,null,{"$f":"Anmeldung!$L$21","v":0},null,{"$f":"Anmeldung!$L$19","v":"00:00:00"},null,null,null,{"$f":"Anmeldung!$L$20","v":0},null,null,{"$f":"Anmeldung!$L$21","v":0}]
["Abnahmekarte für das deutsche Tanzsportabzeichen DTSA",{"$nulls":8},"Abnahmekarte für das deutsche Tanzsportabzeichen DTSA"]
[{"$f":"Anmeldung!$E$7","v":"00:00:00"},null,{"$f":"Anmeldung!$E$8","v":0},{"$nulls":4},{"$f":"\"# \"&Datenerfassung!$H148","v":"# 139"},null,{"$f":"Anmeldung!$E$7","v":"00:00:00"},null,{"$f":"Anmeldung!$E$8","v":0},{"$nulls":4},{"$f":"\"# \"&Datenerfassung!$H149","v":"# 140"}]
["Vorname",null,{"$f":"Datenerfassung!$C148","v":0},null,null,null,"Der/die Bewerber/innen erkennen mit Unterschrift die DTSA-Verleihungsbedingungen an. \n",null,null,"Vorname",null,{"$f":"Datenerfassung!$C149","v":0},null,null,null,"Der/die Bewerber/innen erkennen mit Unterschrift die DTSA-Verleihungsbedingungen an. \n"]
["Nachname",null,{"$f":"Datenerfassung!$D148","v":0},{"$nulls":6},"Nachname",null,{"$f":"Datenerfassung!$D149","v":0}]
["Verein/Schule",null,{"$f":"Datenerfassung!$G148","v":"00:00:00"},{"$nulls":6},"Verein/Schule",null,{"$f":"Datenerfassung!$G149","v":"00:00:00"}]
[]
["Medaille",null,{"$f":"Datenerfassung!$B148","v":0},{"$nulls":6},"Medaille",null,{"$f":"Datenerfassung!$B149","v":0}]
[{"$nulls":6},"Anerkennung der Bedingungen durch Unterschrift",{"$nulls":8},"Anerkennung der Bedingungen durch Unterschrift"]
[]
[" Tanz bitte eintragen/ankreuzen",null,null,"Musik","Balancen","Bewegg.-\nAblauf","X =\nbestanden","spezielle Bemerkungen (Lob/Hinweis/Kritik)\nder/des Abnehmer/in",null," Tanz bitte eintragen/ankreuzen",null,null,"Musik","Balancen","Bewegg.-\nAblauf","X =\nbestanden","spezielle Bemerkungen (Lob/Hinweis/Kritik)\nder/des Abnehmer/in"]
[null,{"$f":"Datenerfassung!$AE148","v":"Langsamer Walzer"},{"$nulls":8},{"$f":"Datenerfassung!$AE149","v":"Langsamer Walzer"}]
[null,{"$f":"Datenerfassung!$AF148","v":"Tango"},{"$nulls":8},{"$f":"Datenerfassung!$AF149","v":"Tango"}]
[null,{"$f":"Datenerfassung!$AG148","v":"Wiener Walzer"},{"$nulls":8},{"$f":"Datenerfassung!$AG149","v":"Wiener Walzer"}]
[null,{"$f":"Datenerfassung!$AH148","v":"Slowfox"},{"$nulls":8},{"$f":"Datenerfassung!$AH149","v":"Slowfox"}]
[null,{"$f":"Datenerfassung!$AI148","v":"Quickstep"},{"$nulls":8},{"$f":"Datenerfassung!$AI149","v":"Quickstep"}]
[null,{"$f":"Datenerfassung!$AJ148","v":"Samba"},{"$nulls":8},{"$f":"Datenerfassung!$AJ149","v":"Samba"}]
[null,{"$f":"Datenerfassung!$AK148","v":"Chachacha"},{"$nulls":8},{"$f":"Datenerfassung!$AK149","v":"Chachacha"}]
[null,{"$f":"Datenerfassung!$AL148","v":"Rumba"},{"$nulls":8},{"$f":"Datenerfassung!$AL149","v":"Rumba"}]
[null,{"$f":"Datenerfassung!$AM148","v":"Paso Doble"},{"$nulls":8},{"$f":"Datenerfassung!$AM149","v":"Paso Doble"}]
[null,{"$f":"Datenerfassung!$AN148","v":"Jive"},{"$nulls":8},{"$f":"Datenerfassung!$AN149","v":"Jive"}]
[null,{"$f":"Datenerfassung!$AO148","v":"Discofox"},{"$nulls":8},{"$f":"Datenerfassung!$AO149","v":"Discofox"}]
[]
[null,"Gemäß Ausbildungsordnung des DTV wurde eine Leistung für den Lizenzerwerb (10-Tänze-Gold) erbracht.",{"$nulls":8},"Gemäß Ausbildungsordnung des DTV wurde eine Leistung für den Lizenzerwerb (10-Tänze-Gold) erbracht."]
[]
["Unterschriften Abnehmer/innen:",{"$nulls":8},"Unterschriften Abnehmer/innen:"]
[]
[]
[{"$f":"Anmeldung!$L$19","v":"00:00:00"},null,null,null,{"$f":"Anmeldung!$L$20","v":0},null,null,{"$f":"Anmeldung!$L$21","v":0},null,{"$f":"Anmeldung!$L$19","v":"00:00:00"},null,null,null,{"$f":"Anmeldung!$L$20","v":0},null,null,{"$f":"Anmeldung!$L$21","v":0}]

{"sheet":"Einzel 141-160","index":10,"n_rows":280,"n_cols":17,"rows_kept":280,"cut":false,"hidden":false,"merged":[[274,1,274,7],[274,10,274,16],[276,0,276,7],[276,9,276,16],[279,4,279,6],[279,13,279,15],[270,1,270,2],[270,10,270,11],[271,1,271,2],[271,10,271,11],[272,1,272,2],[272,10,272,11],[267,1,267,2],[267,10,267,11],[268,1,268,2],[268,10,268,11],[269,1,269,2],[269,10,269,11],[264,1,264,2],[264,10,264,11],[265,1,265,2],[265,10,265,11],[266,1,266,2],[266,10,266,11],[261,0,261,2],[261,9,261,11],[262,1,262,2],[262,10,262,11],[263,1,263,2],[263,10,263,11],[258,2,258,5],[258,6,258,7],[258,11,258,14],[258,15,258,16],[259,2,259,5],[259,11,259,14],[254,2,254,5],[254,6,256,7],[254,11,254,14],[254,15,256,16],[255,2,255,5],[255,11,255,14],[256,2,256,5],[256,11,256,14],[251,4,251,6],[251,13,251,15],[253,0,253,1],[253,2,253,6],[253,9,253,10],[253,11,253,15],[244,1,244,2],[244,10,244,11],[246,1,246,7],[246,10,246,16],[248,0,248,7],[248,9,248,16],[241,1,241,2],[241,10,241,11],[242,1,242,2],[242,10,242,11],[243,1,243,2],[243,10,243,11],[238,1,238,2],[238,10,238,11],[239,1,239,2],[239,10,239,11],[240,1,240,2],[240,10,240,11],[235,1,235,2],[235,10,235,11],[236,1,236,2],[236,10,236,11],[237,1,237,2],[237,10,237,11],[230,15,230,16],[231,2,231,5],[231,11,231,14],[233,0,233,2],[233,9,233,11],[234,1,234,2],[234,10,234,11],[228,2,228,5],[228,11,228,14],[230,2,230,5],[230,6,230,7],[230,11,230,14],[225,0,225,1],[225,2,225,6],[225,9,225,10],[225,11,225,15],[226,2,226,5],[226,6,228,7],[226,11,226,14],[226,15,228,16],[227,2,227,5],[227,11,227,14],[218,1,218,7],[218,10,218,16],[220,0,220,7],[220,9,220,16],[223,4,223,6],[223,13,223,15],[214,1,214,2],[214,10,214,11],[215,1,215,2],[215,10,215,11],[216,1,216,2],[216,10,216,11],[211,1,211,2],[211,10,211,11],[212,1,212,2],[212,10,212,11],[213,1,213,2],[213,10,213,11],[208,1,208,2],[208,10,208,11],[209,1,209,2],[209,10,209,11],[210,1,210,2],[210,10,210,11],[205,0,205,2],[205,9,205,11],[206,1,206,2],[206,10,206,11],[207,1,207,2],[207,10,207,11],[202,2,202,5],[202,6,202,7],[202,11,202,14],[202,15,202,16],[203,2,203,5],[203,11,203,14],[198,2,198,5],[198,6,200,7],[198,11,198,14],[198,15,200,16],[199,2,199,5],[199,11,199,14],[200,2,200,5],[200,11,200,14],[195,4,195,6],[195,13,195,15],[197,0,197,1],[197,2,197,6],[197,9,197,10],[197,11,197,15],[188,1,188,2],[188,10,188,11],[190,1,190,7],[190,10,190,16],[192,0,192,7],[192,9,192,16],[185,1,185,2],[185,10,185,11],[186,1,186,2],[186,10,186,11],[187,1,187,2],[187,10,187,11],[182,1,182,2],[182,10,182,11],[183,1,183,2],[183,10,183,11],[184,1,184,2],[184,10,184,11],[179,1,179,2],[179,10,179,11],[180,1,180,2],[180,10,180,11],[181,1,181,2],[181,10,181,11],[174,15,174,16],[175,2,175,5],[175,11,175,14],[177,0,177,2],[177,9,177,11],[178,1,178,2],[178,10,178,11],[172,2,172,5],[172,11,172,14],[174,2,174,5],[174,6,174,7],[174,11,174,14],[169,0,169,1],[169,2,169,6],[169,9,169,10],[169,11,169,15],[170,2,170,5],[170,6,172,7],[170,11,170,14],[170,15,172,16],[171,2,171,5],[171,11,171,14],[162,1,162,7],[162,10,162,16],[164,0,164,7],[164,9,164,16],[167,4,167,6],[167,13,167,15],[158,1,158,2],[158,10,158,11],[159,1,159,2],[159,10,159,11],[160,1,160,2],[160,10,160,11],[155,1,155,2],[155,10,155,11],[156,1,156,2],[156,10,156,11],[157,1,157,2],[157,10,157,11],[152,1,152,2],[152,10,152,11],[153,1,153,2],[153,10,153,11],[154,1,154,2],[154,10,154,11],[149,0,149,2],[149,9,149,11],[150,1,150,2],[150,10,150,11],[151,1,151,2],[151,10,151,11],[146,2,146,5],[146,6,146,7],[146,11,146,14],[146,15,146,16],[147,2,147,5],[147,11,147,14],[142,2,142,5],[142,6,144,7],[142,11,142,14],[142,15,144,16],[143,2,143,5],[143,11,143,14],[144,2,144,5],[144,11,144,14],[139,4,139,6],[139,13,139,15],[141,0,141,1],[141,2,141,6],[141,9,141,10],[141,11,141,15],[132,1,132,2],[132,10,132,11],[134,1,134,7],[134,10,134,16],[136,0,136,7],[136,9,136,16],[129,1,129,2],[129,10,129,11],[130,1,130,2],[130,10,130,11],[131,1,131,2],[131,10,131,11],[126,1,126,2],[126,10,126,11],[127,1,127,2],[127,10,127,11],[128,1,128,2],[128,10,128,11],[123,1,123,2],[123,10,123,11],[124,1,124,2],[124,10,124,11],[125,1,125,2],[125,10,125,11],[118,15,118,16],[119,2,119,5],[119,11,119,14],[121,0,121,2],[121,9,121,11],[122,1,122,2],[122,10,122,11],[116,2,116,5],[116,11,116,14],[118,2,118,5],[118,6,118,7],[118,11,118,14],[113,0,113,1],[113,2,113,6],[113,9,113,10],[113,11,113,15],[114,2,114,5],[114,6,116,7],[114,11,114,14],[114,15,116,16],[115,2,115,5],[115,11,115,14],[106,1,106,7],[106,10,106,16],[108,0,108,7],[108,9,108,16],[111,4,111,6],[111,13,111,15],[102,1,102,2],[102,10,102,11],[103,1,103,2],[103,10,103,11],[104,1,104,2],[104,10,104,11],[99,1,99,2],[99,10,99,11],[100,1,100,2],[100,10,100,11],[101,1,101,2],[101,10,101,11],[96,1,96,2],[96,10,96,11],[97,1,97,2],[97,10,97,11],[98,1,98,2],[98,10,98,11],[93,0,93,2],[93,9,93,11],[94,1,94,2],[94,10,94,11],[95,1,95,2],[95,10,95,11],[90,2,90,5],[90,6,90,7],[90,11,90,14],[90,15,90,16],[91,2,91,5],[91,11,91,14],[86,2,86,5],[86,6,88,7],[86,11,86,14],[86,15,88,16],[87,2,87,5],[87,11,87,14],[88,2,88,5],[88,11,88,14],[83,4,83,6],[83,13,83,15],[85,0,85,1],[85,2,85,6],[85,9,85,10],[85,11,85,15],[76,1,76,2],[76,10,76,11],[78,1,78,7],[78,10,78,16],[80,0,80,7],[80,9,80,16],[73,1,73,2],[73,10,73,11],[74,1,74,2],[74,10,74,11],[75,1,75,2],[75,10,75,11],[70,1,70,2],[70,10,70,11],[71,1,71,2],[71,10,71,11],[72,1,72,2],[72,10,72,11],[67,1,67,2],[67,10,67,11],[68,1,68,2],[68,10,68,11],[69,1,69,2],[69,10,69,11],[62,15,62,16],[63,2,63,5],[63,11,63,14],[65,0,65,2],[65,9,65,11],[66,1,66,2],[66,10,66,11],[60,2,60,5],[60,11,60,14],[62,2,62,5],[62,6,62,7],[62,11,62,14],[57,0,57,1],[57,2,57,6],[57,9,57,10],[57,11,57,15],[58,2,58,5],[58,6,60,7],[58,11,58,14],[58,15,60,16],[59,2,59,5],[59,11,59,14],[50,1,50,7],[50,10,50,16],[52,0,52,7],[52,9,52,16],[55,4,55,6],[55,13,55,15],[46,1,46,2],[46,10,46,11],[47,1,47,2],[47,10,47,11],[48,1,48,2],[48,10,48,11],[43,1,43,2],[43,10,43,11],[44,1,44,2],[44,10,44,11],[45,1,45,2],[45,10,45,11],[40,1,40,2],[40,10,40,11],[41,1,41,2],[41,10,41,11],[42,1,42,2],[42,10,42,11],[37,0,37,2],[37,9,37,11],[38,1,38,2],[38,10,38,11],[39,1,39,2],[39,10,39,11],[34,2,34,5],[34,6,34,7],[34,11,34,14],[34,15,34,16],[35,2,35,5],[35,11,35,14],[30,2,30,5],[30,6,32,7],[30,11,30,14],[30,15,32,16],[31,2,31,5],[31,11,31,14],[32,2,32,5],[32,11,32,14],[27,4,27,6],[27,13,27,15],[29,0,29,1],[29,2,29,6],[29,9,29,10],[29,11,29,15],[20,1,20,2],[20,10,20,11],[22,1,22,7],[22,10,22,16],[24,0,24,7],[24,9,24,16],[17,1,17,2],[17,10,17,11],[18,1,18,2],[18,10,18,11],[19,1,19,2],[19,10,19,11],[14,1,14,2],[14,10,14,11],[15,1,15,2],[15,10,15,11],[16,1,16,2],[16,10,16,11],[11,1,11,2],[11,10,11,11],[12,1,12,2],[12,10,12,11],[13,1,13,2],[13,10,13,11],[6,15,6,16],[7,2,7,5],[7,11,7,14],[9,0,9,2],[9,9,9,11],[10,1,10,2],[10,10,10,11],[4,2,4,5],[4,11,4,14],[6,2,6,5],[6,6,6,7],[6,11,6,14],[1,0,1,1],[1,2,1,6],[1,9,1,10],[1,11,1,15],[2,2,2,5],[2,6,4,7],[2,11,2,14],[2,15,4,16],[3,2,3,5],[3,11,3,14]]}
["Abnahmekarte für das deutsche Tanzsportabzeichen DTSA",{"$nulls":8},"Abnahmekarte für das deutsche Tanzsportabzeichen DTSA"]
[{"$f":"Anmeldung!$E$7","v":"00:00:00"},null,{"$f":"Anmeldung!$E$8","v":0},{"$nulls":4},{"$f":"\"# \"&Datenerfassung!$H150","v":"# 141"},null,{"$f":"Anmeldung!$E$7","v":"00:00:00"},null,{"$f":"Anmeldung!$E$8","v":0},{"$nulls":4},{"$f":"\"# \"&Datenerfassung!$H151","v":"# 142"}]
["Vorname",null,{"$f":"Datenerfassung!$C150","v":0},null,null,null,"Der/die Bewerber/innen erkennen mit Unterschrift die DTSA-Verleihungsbedingungen an. \n",null,null,"Vorname",null,{"$f":"Datenerfassung!$C151","v":0},null,null,null,"Der/die Bewerber/innen erkennen mit Unterschrift die DTSA-Verleihungsbedingungen an. \n"]
["Nachname",null,{"$f":"Datenerfassung!$D150","v":0},{"$nulls":6},"Nachname",null,{"$f":"Datenerfassung!$D151","v":0}]
["Verein/Schule",null,{"$f":"Datenerfassung!$G150","v":"00:00:00"},{"$nulls":6},"Verein/Schule",null,{"$f":"Datenerfassung!$G151","v":"00:00:00"}]
[]
["Medaille",null,{"$f":"Datenerfassung!$B150","v":0},{"$nulls":6},"Medaille",null,{"$f":"Datenerfassung!$B151","v":0}]
[{"$nulls":6},"Anerkennung der Bedingungen durch Unterschrift",{"$nulls":8},"Anerkennung der Bedingungen durch Unterschrift"]
[]
[" Tanz bitte eintragen/ankreuzen",null,null,"Musik","Balancen","Bewegg.-\nAblauf","X =\nbestanden","spezielle Bemerkungen (Lob/Hinweis/Kritik)\nder/des Abnehmer/in",null," Tanz bitte eintragen/ankreuzen",null,null,"Musik","Balancen","Bewegg.-\nAblauf","X =\nbestanden","spezielle Bemerkungen (Lob/Hinweis/Kritik)\nder/des Abnehmer/in"]
[null,{"$f":"Datenerfassung!$AE150","v":"Langsamer Walzer"},{"$nulls":8},{"$f":"Datenerfassung!$AE151","v":"Langsamer Walzer"}]
[null,{"$f":"Datenerfassung!$AF150","v":"Tango"},{"$nulls":8},{"$f":"Datenerfassung!$AF151","v":"Tango"}]
[null,{"$f":"Datenerfassung!$AG150","v":"Wiener Walzer"},{"$nulls":8},{"$f":"Datenerfassung!$AG151","v":"Wiener Walzer"}]
[null,{"$f":"Datenerfassung!$AH150","v":"Slowfox"},{"$nulls":8},{"$f":"Datenerfassung!$AH151","v":"Slowfox"}]
[null,{"$f":"Datenerfassung!$AI150","v":"Quickstep"},{"$nulls":8},{"$f":"Datenerfassung!$AI151","v":"Quickstep"}]
[null,{"$f":"Datenerfassung!$AJ150","v":"Samba"},{"$nulls":8},{"$f":"Datenerfassung!$AJ151","v":"Samba"}]
[null,{"$f":"Datenerfassung!$AK150","v":"Chachacha"},{"$nulls":8},{"$f":"Datenerfassung!$AK151","v":"Chachacha"}]
[null,{"$f":"Datenerfassung!$AL150","v":"Rumba"},{"$nulls":8},{"$f":"Datenerfassung!$AL151","v":"Rumba"}]
[null,{"$f":"Datenerfassung!$AM150","v":"Paso Doble"},{"$nulls":8},{"$f":"Datenerfassung!$AM151","v":"Paso Doble"}]
[null,{"$f":"Datenerfassung!$AN150","v":"Jive"},{"$nulls":8},{"$f":"Datenerfassung!$AN151","v":"Jive"}]
[null,{"$f":"Datenerfassung!$AO150","v":"Discofox"},{"$nulls":8},{"$f":"Datenerfassung!$AO151","v":"Discofox"}]
[]
[null,"Gemäß Ausbildungsordnung des DTV wurde eine Leistung für den Lizenzerwerb (10-Tänze-Gold) erbracht.",{"$nulls":8},"Gemäß Ausbildungsordnung des DTV wurde eine Leistung für den Lizenzerwerb (10-Tänze-Gold) erbracht."]
[]
["Unterschriften Abnehmer/innen:",{"$nulls":8},"Unterschriften Abnehmer/innen:"]
[]
[]
[{"$f":"Anmeldung!$L$19","v":"00:00:00"},null,null,null,{"$f":"Anmeldung!$L$20","v":0},null,null,{"$f":"Anmeldung!$L$21","v":0},null,{"$f":"Anmeldung!$L$19","v":"00:00:00"},null,null,null,{"$f":"Anmeldung!$L$20","v":0},null,null,{"$f":"Anmeldung!$L$21","v":0}]
["Abnahmekarte für das deutsche Tanzsportabzeichen DTSA",{"$nulls":8},"Abnahmekarte für das deutsche Tanzsportabzeichen DTSA"]
[{"$f":"Anmeldung!$E$7","v":"00:00:00"},null,{"$f":"Anmeldung!$E$8","v":0},{"$nulls":4},{"$f":"\"# \"&Datenerfassung!$H152","v":"# 143"},null,{"$f":"Anmeldung!$E$7","v":"00:00:00"},null,{"$f":"Anmeldung!$E$8","v":0},{"$nulls":4},{"$f":"\"# \"&Datenerfassung!$H153","v":"# 144"}]
["Vorname",null,{"$f":"Datenerfassung!$C152","v":0},null,null,null,"Der/die Bewerber/innen erkennen mit Unterschrift die DTSA-Verleihungsbedingungen an. \n",null,null,"Vorname",null,{"$f":"Datenerfassung!$C153","v":0},null,null,null,"Der/die Bewerber/innen erkennen mit Unterschrift die DTSA-Verleihungsbedingungen an. \n"]
["Nachname",null,{"$f":"Datenerfassung!$D152","v":0},{"$nulls":6},"Nachname",null,{"$f":"Datenerfassung!$D153","v":0}]
["Verein/Schule",null,{"$f":"Datenerfassung!$G152","v":"00:00:00"},{"$nulls":6},"Verein/Schule",null,{"$f":"Datenerfassung!$G153","v":"00:00:00"}]
[]
["Medaille",null,{"$f":"Datenerfassung!$B152","v":0},{"$nulls":6},"Medaille",null,{"$f":"Datenerfassung!$B153","v":0}]
[{"$nulls":6},"Anerkennung der Bedingungen durch Unterschrift",{"$nulls":8},"Anerkennung der Bedingungen durch Unterschrift"]
[]
[" Tanz bitte eintragen/ankreuzen",null,null,"Musik","Balancen","Bewegg.-\nAblauf","X =\nbestanden","spezielle Bemerkungen (Lob/Hinweis/Kritik)\nder/des Abnehmer/in",null," Tanz bitte eintragen/ankreuzen",null,null,"Musik","Balancen","Bewegg.-\nAblauf","X =\nbestanden","spezielle Bemerkungen (Lob/Hinweis/Kritik)\nder/des Abnehmer/in"]
[null,{"$f":"Datenerfassung!$AE152","v":"Langsamer Walzer"},{"$nulls":8},{"$f":"Datenerfassung!$AE153","v":"Langsamer Walzer"}]
[null,{"$f":"Datenerfassung!$AF152","v":"Tango"},{"$nulls":8},{"$f":"Datenerfassung!$AF153","v":"Tango"}]
[null,{"$f":"Datenerfassung!$AG152","v":"Wiener Walzer"},{"$nulls":8},{"$f":"Datenerfassung!$AG153","v":"Wiener Walzer"}]
[null,{"$f":"Datenerfassung!$AH152","v":"Slowfox"},{"$nulls":8},{"$f":"Datenerfassung!$AH153","v":"Slowfox"}]
[null,{"$f":"Datenerfassung!$AI152","v":"Quickstep"},{"$nulls":8},{"$f":"Datenerfassung!$AI153","v":"Quickstep"}]
[null,{"$f":"Datenerfassung!$AJ152","v":"Samba"},{"$nulls":8},{"$f":"Datenerfassung!$AJ153","v":"Samba"}]
[null,{"$f":"Datenerfassung!$AK152","v":"Chachacha"},{"$nulls":8},{"$f":"Datenerfassung!$AK153","v":"Chachacha"}]
[null,{"$f":"Datenerfassung!$AL152","v":"Rumba"},{"$nulls":8},{"$f":"Datenerfassung!$AL153","v":"Rumba"}]
[null,{"$f":"Datenerfassung!$AM152","v":"Paso Doble"},{"$nulls":8},{"$f":"Datenerfassung!$AM153","v":"Paso Doble"}]
[null,{"$f":"Datenerfassung!$AN152","v":"Jive"},{"$nulls":8},{"$f":"Datenerfassung!$AN153","v":"Jive"}]
[null,{"$f":"Datenerfassung!$AO152","v":"Discofox"},{"$nulls":8},{"$f":"Datenerfassung!$AO153","v":"Discofox"}]
[]
[null,"Gemäß Ausbildungsordnung des DTV wurde eine Leistung für den Lizenzerwerb (10-Tänze-Gold) erbracht.",{"$nulls":8},"Gemäß Ausbildungsordnung des DTV wurde eine Leistung für den Lizenzerwerb (10-Tänze-Gold) erbracht."]
[]
["Unterschriften Abnehmer/innen:",{"$nulls":8},"Unterschriften Abnehmer/innen:"]
[]
[]
[{"$f":"Anmeldung!$L$19","v":"00:00:00"},null,null,null,{"$f":"Anmeldung!$L$20","v":0},null,null,{"$f":"Anmeldung!$L$21","v":0},null,{"$f":"Anmeldung!$L$19","v":"00:00:00"},null,null,null,{"$f":"Anmeldung!$L$20","v":0},null,null,{"$f":"Anmeldung!$L$21","v":0}]
["Abnahmekarte für das deutsche Tanzsportabzeichen DTSA",{"$nulls":8},"Abnahmekarte für das deutsche Tanzsportabzeichen DTSA"]
[{"$f":"Anmeldung!$E$7","v":"00:00:00"},null,{"$f":"Anmeldung!$E$8","v":0},{"$nulls":4},{"$f":"\"# \"&Datenerfassung!$H154","v":"# 145"},null,{"$f":"Anmeldung!$E$7","v":"00:00:00"},null,{"$f":"Anmeldung!$E$8","v":0},{"$nulls":4},{"$f":"\"# \"&Datenerfassung!$H155","v":"# 146"}]
["Vorname",null,{"$f":"Datenerfassung!$C154","v":0},null,null,null,"Der/die Bewerber/innen erkennen mit Unterschrift die DTSA-Verleihungsbedingungen an. \n",null,null,"Vorname",null,{"$f":"Datenerfassung!$C155","v":0},null,null,null,"Der/die Bewerber/innen erkennen mit Unterschrift die DTSA-Verleihungsbedingungen an. \n"]
["Nachname",null,{"$f":"Datenerfassung!$D154","v":0},{"$nulls":6},"Nachname",null,{"$f":"Datenerfassung!$D155","v":0}]
["Verein/Schule",null,{"$f":"Datenerfassung!$G154","v":"00:00:00"},{"$nulls":6},"Verein/Schule",null,{"$f":"Datenerfassung!$G155","v":"00:00:00"}]
[]
["Medaille",null,{"$f":"Datenerfassung!$B154","v":0},{"$nulls":6},"Medaille",null,{"$f":"Datenerfassung!$B155","v":0}]
[{"$nulls":6},"Anerkennung der Bedingungen durch Unterschrift",{"$nulls":8},"Anerkennung der Bedingungen durch Unterschrift"]
[]
[" Tanz bitte eintragen/ankreuzen",null,null,"Musik","Balancen","Bewegg.-\nAblauf","X =\nbestanden","spezielle Bemerkungen (Lob/Hinweis/Kritik)\nder/des Abnehmer/in",null," Tanz bitte eintragen/ankreuzen",null,null,"Musik","Balancen","Bewegg.-\nAblauf","X =\nbestanden","spezielle Bemerkungen (Lob/Hinweis/Kritik)\nder/des Abnehmer/in"]
[null,{"$f":"Datenerfassung!$AE154","v":"Langsamer Walzer"},{"$nulls":8},{"$f":"Datenerfassung!$AE155","v":"Langsamer Walzer"}]
[null,{"$f":"Datenerfassung!$AF154","v":"Tango"},{"$nulls":8},{"$f":"Datenerfassung!$AF155","v":"Tango"}]
[null,{"$f":"Datenerfassung!$AG154","v":"Wiener Walzer"},{"$nulls":8},{"$f":"Datenerfassung!$AG155","v":"Wiener Walzer"}]
[null,{"$f":"Datenerfassung!$AH154","v":"Slowfox"},{"$nulls":8},{"$f":"Datenerfassung!$AH155","v":"Slowfox"}]
[null,{"$f":"Datenerfassung!$AI154","v":"Quickstep"},{"$nulls":8},{"$f":"Datenerfassung!$AI155","v":"Quickstep"}]
[null,{"$f":"Datenerfassung!$AJ154","v":"Samba"},{"$nulls":8},{"$f":"Datenerfassung!$AJ155","v":"Samba"}]
[null,{"$f":"Datenerfassung!$AK154","v":"Chachacha"},{"$nulls":8},{"$f":"Datenerfassung!$AK155","v":"Chachacha"}]
[null,{"$f":"Datenerfassung!$AL154","v":"Rumba"},{"$nulls":8},{"$f":"Datenerfassung!$AL155","v":"Rumba"}]
[null,{"$f":"Datenerfassung!$AM154","v":"Paso Doble"},{"$nulls":8},{"$f":"Datenerfassung!$AM155","v":"Paso Doble"}]
[null,{"$f":"Datenerfassung!$AN154","v":"Jive"},{"$nulls":8},{"$f":"Datenerfassung!$AN155","v":"Jive"}]
[null,{"$f":"Datenerfassung!$AO154","v":"Discofox"},{"$nulls":8},{"$f":"Datenerfassung!$AO155","v":"Discofox"}]
[]
[null,"Gemäß Ausbildungsordnung des DTV wurde eine Leistung für den Lizenzerwerb (10-Tänze-Gold) erbracht.",{"$nulls":8},"Gemäß Ausbildungsordnung des DTV wurde eine Leistung für den Lizenzerwerb (10-Tänze-Gold) erbracht."]
[]
["Unterschriften Abnehmer/innen:",{"$nulls":8},"Unterschriften Abnehmer/innen:"]
[]
[]
[{"$f":"Anmeldung!$L$19","v":"00:00:00"},null,null,null,{"$f":"Anmeldung!$L$20","v":0},null,null,{"$f":"Anmeldung!$L$21","v":0},null,{"$f":"Anmeldung!$L$19","v":"00:00:00"},null,null,null,{"$f":"Anmeldung!$L$20","v":0},null,null,{"$f":"Anmeldung!$L$21","v":0}]
["Abnahmekarte für das deutsche Tanzsportabzeichen DTSA",{"$nulls":8},"Abnahmekarte für das deutsche Tanzsportabzeichen DTSA"]
[{"$f":"Anmeldung!$E$7","v":"00:00:00"},null,{"$f":"Anmeldung!$E$8","v":0},{"$nulls":4},{"$f":"\"# \"&Datenerfassung!$H156","v":"# 147"},null,{"$f":"Anmeldung!$E$7","v":"00:00:00"},null,{"$f":"Anmeldung!$E$8","v":0},{"$nulls":4},{"$f":"\"# \"&Datenerfassung!$H157","v":"# 148"}]
["Vorname",null,{"$f":"Datenerfassung!$C156","v":0},null,null,null,"Der/die Bewerber/innen erkennen mit Unterschrift die DTSA-Verleihungsbedingungen an. \n",null,null,"Vorname",null,{"$f":"Datenerfassung!$C157","v":0},null,null,null,"Der/die Bewerber/innen erkennen mit Unterschrift die DTSA-Verleihungsbedingungen an. \n"]
["Nachname",null,{"$f":"Datenerfassung!$D156","v":0},{"$nulls":6},"Nachname",null,{"$f":"Datenerfassung!$D157","v":0}]
["Verein/Schule",null,{"$f":"Datenerfassung!$G156","v":"00:00:00"},{"$nulls":6},"Verein/Schule",null,{"$f":"Datenerfassung!$G157","v":"00:00:00"}]
[]
["Medaille",null,{"$f":"Datenerfassung!$B156","v":0},{"$nulls":6},"Medaille",null,{"$f":"Datenerfassung!$B157","v":0}]
[{"$nulls":6},"Anerkennung der Bedingungen durch Unterschrift",{"$nulls":8},"Anerkennung der Bedingungen durch Unterschrift"]
[]
[" Tanz bitte eintragen/ankreuzen",null,null,"Musik","Balancen","Bewegg.-\nAblauf","X =\nbestanden","spezielle Bemerkungen (Lob/Hinweis/Kritik)\nder/des Abnehmer/in",null," Tanz bitte eintragen/ankreuzen",null,null,"Musik","Balancen","Bewegg.-\nAblauf","X =\nbestanden","spezielle Bemerkungen (Lob/Hinweis/Kritik)\nder/des Abnehmer/in"]
[null,{"$f":"Datenerfassung!$AE156","v":"Langsamer Walzer"},{"$nulls":8},{"$f":"Datenerfassung!$AE157","v":"Langsamer Walzer"}]
[null,{"$f":"Datenerfassung!$AF156","v":"Tango"},{"$nulls":8},{"$f":"Datenerfassung!$AF157","v":"Tango"}]
[null,{"$f":"Datenerfassung!$AG156","v":"Wiener Walzer"},{"$nulls":8},{"$f":"Datenerfassung!$AG157","v":"Wiener Walzer"}]
[null,{"$f":"Datenerfassung!$AH156","v":"Slowfox"},{"$nulls":8},{"$f":"Datenerfassung!$AH157","v":"Slowfox"}]
[null,{"$f":"Datenerfassung!$AI156","v":"Quickstep"},{"$nulls":8},{"$f":"Datenerfassung!$AI157","v":"Quickstep"}]
[null,{"$f":"Datenerfassung!$AJ156","v":"Samba"},{"$nulls":8},{"$f":"Datenerfassung!$AJ157","v":"Samba"}]
[null,{"$f":"Datenerfassung!$AK156","v":"Chachacha"},{"$nulls":8},{"$f":"Datenerfassung!$AK157","v":"Chachacha"}]
[null,{"$f":"Datenerfassung!$AL156","v":"Rumba"},{"$nulls":8},{"$f":"Datenerfassung!$AL157","v":"Rumba"}]
[null,{"$f":"Datenerfassung!$AM156","v":"Paso Doble"},{"$nulls":8},{"$f":"Datenerfassung!$AM157","v":"Paso Doble"}]
[null,{"$f":"Datenerfassung!$AN156","v":"Jive"},{"$nulls":8},{"$f":"Datenerfassung!$AN157","v":"Jive"}]
[null,{"$f":"Datenerfassung!$AO156","v":"Discofox"},{"$nulls":8},{"$f":"Datenerfassung!$AO157","v":"Discofox"}]
[]
[null,"Gemäß Ausbildungsordnung des DTV wurde eine Leistung für den Lizenzerwerb (10-Tänze-Gold) erbracht.",{"$nulls":8},"Gemäß Ausbildungsordnung des DTV wurde eine Leistung für den Lizenzerwerb (10-Tänze-Gold) erbracht."]
[]
["Unterschriften Abnehmer/innen:",{"$nulls":8},"Unterschriften Abnehmer/innen:"]
[]
[]
[{"$f":"Anmeldung!$L$19","v":"00:00:00"},null,null,null,{"$f":"Anmeldung!$L$20","v":0},null,null,{"$f":"Anmeldung!$L$21","v":0},null,{"$f":"Anmeldung!$L$19","v":"00:00:00"},null,null,null,{"$f":"Anmeldung!$L$20","v":0},null,null,{"$f":"Anmeldung!$L$21","v":0}]
["Abnahmekarte für das deutsche Tanzsportabzeichen DTSA",{"$nulls":8},"Abnahmekarte für das deutsche Tanzsportabzeichen DTSA"]
[{"$f":"Anmeldung!$E$7","v":"00:00:00"},null,{"$f":"Anmeldung!$E$8","v":0},{"$nulls":4},{"$f":"\"# \"&Datenerfassung!$H158","v":"# 149"},null,{"$f":"Anmeldung!$E$7","v":"00:00:00"},null,{"$f":"Anmeldung!$E$8","v":0},{"$nulls":4},{"$f":"\"# \"&Datenerfassung!$H159","v":"# 150"}]
["Vorname",null,{"$f":"Datenerfassung!$C158","v":0},null,null,null,"Der/die Bewerber/innen erkennen mit Unterschrift die DTSA-Verleihungsbedingungen an. \n",null,null,"Vorname",null,{"$f":"Datenerfassung!$C159","v":0},null,null,null,"Der/die Bewerber/innen erkennen mit Unterschrift die DTSA-Verleihungsbedingungen an. \n"]
["Nachname",null,{"$f":"Datenerfassung!$D158","v":0},{"$nulls":6},"Nachname",null,{"$f":"Datenerfassung!$D159","v":0}]
["Verein/Schule",null,{"$f":"Datenerfassung!$G158","v":"00:00:00"},{"$nulls":6},"Verein/Schule",null,{"$f":"Datenerfassung!$G159","v":"00:00:00"}]
[]
["Medaille",null,{"$f":"Datenerfassung!$B158","v":0},{"$nulls":6},"Medaille",null,{"$f":"Datenerfassung!$B159","v":0}]
[{"$nulls":6},"Anerkennung der Bedingungen durch Unterschrift",{"$nulls":8},"Anerkennung der Bedingungen durch Unterschrift"]
[]
[" Tanz bitte eintragen/ankreuzen",null,null,"Musik","Balancen","Bewegg.-\nAblauf","X =\nbestanden","spezielle Bemerkungen (Lob/Hinweis/Kritik)\nder/des Abnehmer/in",null," Tanz bitte eintragen/ankreuzen",null,null,"Musik","Balancen","Bewegg.-\nAblauf","X =\nbestanden","spezielle Bemerkungen (Lob/Hinweis/Kritik)\nder/des Abnehmer/in"]
[null,{"$f":"Datenerfassung!$AE158","v":"Langsamer Walzer"},{"$nulls":8},{"$f":"Datenerfassung!$AE159","v":"Langsamer Walzer"}]
[null,{"$f":"Datenerfassung!$AF158","v":"Tango"},{"$nulls":8},{"$f":"Datenerfassung!$AF159","v":"Tango"}]
[null,{"$f":"Datenerfassung!$AG158","v":"Wiener Walzer"},{"$nulls":8},{"$f":"Datenerfassung!$AG159","v":"Wiener Walzer"}]
[null,{"$f":"Datenerfassung!$AH158","v":"Slowfox"},{"$nulls":8},{"$f":"Datenerfassung!$AH159","v":"Slowfox"}]
[null,{"$f":"Datenerfassung!$AI158","v":"Quickstep"},{"$nulls":8},{"$f":"Datenerfassung!$AI159","v":"Quickstep"}]
[null,{"$f":"Datenerfassung!$AJ158","v":"Samba"},{"$nulls":8},{"$f":"Datenerfassung!$AJ159","v":"Samba"}]
[null,{"$f":"Datenerfassung!$AK158","v":"Chachacha"},{"$nulls":8},{"$f":"Datenerfassung!$AK159","v":"Chachacha"}]
[null,{"$f":"Datenerfassung!$AL158","v":"Rumba"},{"$nulls":8},{"$f":"Datenerfassung!$AL159","v":"Rumba"}]
[null,{"$f":"Datenerfassung!$AM158","v":"Paso Doble"},{"$nulls":8},{"$f":"Datenerfassung!$AM159","v":"Paso Doble"}]
[null,{"$f":"Datenerfassung!$AN158","v":"Jive"},{"$nulls":8},{"$f":"Datenerfassung!$AN159","v":"Jive"}]
[null,{"$f":"Datenerfassung!$AO158","v":"Discofox"},{"$nulls":8},{"$f":"Datenerfassung!$AO159","v":"Discofox"}]
[]
[null,"Gemäß Ausbildungsordnung des DTV wurde eine Leistung für den Lizenzerwerb (10-Tänze-Gold) erbracht.",{"$nulls":8},"Gemäß Ausbildungsordnung des DTV wurde eine Leistung für den Lizenzerwerb (10-Tänze-Gold) erbracht."]
[]
["Unterschriften Abnehmer/innen:",{"$nulls":8},"Unterschriften Abnehmer/innen:"]
[]
[]
[{"$f":"Anmeldung!$L$19","v":"00:00:00"},null,null,null,{"$f":"Anmeldung!$L$20","v":0},null,null,{"$f":"Anmeldung!$L$21","v":0},null,{"$f":"Anmeldung!$L$19","v":"00:00:00"},null,null,null,{"$f":"Anmeldung!$L$20","v":0},null,null,{"$f":"Anmeldung!$L$21","v":0}]
["Abnahmekarte für das deutsche Tanzsportabzeichen DTSA",{"$nulls":8},"Abnahmekarte für das deutsche Tanzsportabzeichen DTSA"]
[{"$f":"Anmeldung!$E$7","v":"00:00:00"},null,{"$f":"Anmeldung!$E$8","v":0},{"$nulls":4},{"$f":"\"# \"&Datenerfassung!$H160","v":"# 151"},null,{"$f":"Anmeldung!$E$7","v":"00:00:00"},null,{"$f":"Anmeldung!$E$8","v":0},{"$nulls":4},{"$f":"\"# \"&Datenerfassung!$H161","v":"# 152"}]
["Vorname",null,{"$f":"Datenerfassung!$C160","v":0},null,null,null,"Der/die Bewerber/innen erkennen mit Unterschrift die DTSA-Verleihungsbedingungen an. \n",null,null,"Vorname",null,{"$f":"Datenerfassung!$C161","v":0},null,null,null,"Der/die Bewerber/innen erkennen mit Unterschrift die DTSA-Verleihungsbedingungen an. \n"]
["Nachname",null,{"$f":"Datenerfassung!$D160","v":0},{"$nulls":6},"Nachname",null,{"$f":"Datenerfassung!$D161","v":0}]
["Verein/Schule",null,{"$f":"Datenerfassung!$G160","v":"00:00:00"},{"$nulls":6},"Verein/Schule",null,{"$f":"Datenerfassung!$G161","v":"00:00:00"}]
[]
["Medaille",null,{"$f":"Datenerfassung!$B160","v":0},{"$nulls":6},"Medaille",null,{"$f":"Datenerfassung!$B161","v":0}]
[{"$nulls":6},"Anerkennung der Bedingungen durch Unterschrift",{"$nulls":8},"Anerkennung der Bedingungen durch Unterschrift"]
[]
[" Tanz bitte eintragen/ankreuzen",null,null,"Musik","Balancen","Bewegg.-\nAblauf","X =\nbestanden","spezielle Bemerkungen (Lob/Hinweis/Kritik)\nder/des Abnehmer/in",null," Tanz bitte eintragen/ankreuzen",null,null,"Musik","Balancen","Bewegg.-\nAblauf","X =\nbestanden","spezielle Bemerkungen (Lob/Hinweis/Kritik)\nder/des Abnehmer/in"]
[null,{"$f":"Datenerfassung!$AE160","v":"Langsamer Walzer"},{"$nulls":8},{"$f":"Datenerfassung!$AE161","v":"Langsamer Walzer"}]
[null,{"$f":"Datenerfassung!$AF160","v":"Tango"},{"$nulls":8},{"$f":"Datenerfassung!$AF161","v":"Tango"}]
[null,{"$f":"Datenerfassung!$AG160","v":"Wiener Walzer"},{"$nulls":8},{"$f":"Datenerfassung!$AG161","v":"Wiener Walzer"}]
[null,{"$f":"Datenerfassung!$AH160","v":"Slowfox"},{"$nulls":8},{"$f":"Datenerfassung!$AH161","v":"Slowfox"}]
[null,{"$f":"Datenerfassung!$AI160","v":"Quickstep"},{"$nulls":8},{"$f":"Datenerfassung!$AI161","v":"Quickstep"}]
[null,{"$f":"Datenerfassung!$AJ160","v":"Samba"},{"$nulls":8},{"$f":"Datenerfassung!$AJ161","v":"Samba"}]
[null,{"$f":"Datenerfassung!$AK160","v":"Chachacha"},{"$nulls":8},{"$f":"Datenerfassung!$AK161","v":"Chachacha"}]
[null,{"$f":"Datenerfassung!$AL160","v":"Rumba"},{"$nulls":8},{"$f":"Datenerfassung!$AL161","v":"Rumba"}]
[null,{"$f":"Datenerfassung!$AM160","v":"Paso Doble"},{"$nulls":8},{"$f":"Datenerfassung!$AM161","v":"Paso Doble"}]
[null,{"$f":"Datenerfassung!$AN160","v":"Jive"},{"$nulls":8},{"$f":"Datenerfassung!$AN161","v":"Jive"}]
[null,{"$f":"Datenerfassung!$AO160","v":"Discofox"},{"$nulls":8},{"$f":"Datenerfassung!$AO161","v":"Discofox"}]
[]
[null,"Gemäß Ausbildungsordnung des DTV wurde eine Leistung für den Lizenzerwerb (10-Tänze-Gold) erbracht.",{"$nulls":8},"Gemäß Ausbildungsordnung des DTV wurde eine Leistung für den Lizenzerwerb (10-Tänze-Gold) erbracht."]
[]
["Unterschriften Abnehmer/innen:",{"$nulls":8},"Unterschriften Abnehmer/innen:"]
[]
[]
[{"$f":"Anmeldung!$L$19","v":"00:00:00"},null,null,null,{"$f":"Anmeldung!$L$20","v":0},null,null,{"$f":"Anmeldung!$L$21","v":0},null,{"$f":"Anmeldung!$L$19","v":"00:00:00"},null,null,null,{"$f":"Anmeldung!$L$20","v":0},null,null,{"$f":"Anmeldung!$L$21","v":0}]
["Abnahmekarte für das deutsche Tanzsportabzeichen DTSA",{"$nulls":8},"Abnahmekarte für das deutsche Tanzsportabzeichen DTSA"]
[{"$f":"Anmeldung!$E$7","v":"00:00:00"},null,{"$f":"Anmeldung!$E$8","v":0},{"$nulls":4},{"$f":"\"# \"&Datenerfassung!$H162","v":"# 153"},null,{"$f":"Anmeldung!$E$7","v":"00:00:00"},null,{"$f":"Anmeldung!$E$8","v":0},{"$nulls":4},{"$f":"\"# \"&Datenerfassung!$H163","v":"# 154"}]
["Vorname",null,{"$f":"Datenerfassung!$C162","v":0},null,null,null,"Der/die Bewerber/innen erkennen mit Unterschrift die DTSA-Verleihungsbedingungen an. \n",null,null,"Vorname",null,{"$f":"Datenerfassung!$C163","v":0},null,null,null,"Der/die Bewerber/innen erkennen mit Unterschrift die DTSA-Verleihungsbedingungen an. \n"]
["Nachname",null,{"$f":"Datenerfassung!$D162","v":0},{"$nulls":6},"Nachname",null,{"$f":"Datenerfassung!$D163","v":0}]
["Verein/Schule",null,{"$f":"Datenerfassung!$G162","v":"00:00:00"},{"$nulls":6},"Verein/Schule",null,{"$f":"Datenerfassung!$G163","v":"00:00:00"}]
[]
["Medaille",null,{"$f":"Datenerfassung!$B162","v":0},{"$nulls":6},"Medaille",null,{"$f":"Datenerfassung!$B163","v":0}]
[{"$nulls":6},"Anerkennung der Bedingungen durch Unterschrift",{"$nulls":8},"Anerkennung der Bedingungen durch Unterschrift"]
[]
[" Tanz bitte eintragen/ankreuzen",null,null,"Musik","Balancen","Bewegg.-\nAblauf","X =\nbestanden","spezielle Bemerkungen (Lob/Hinweis/Kritik)\nder/des Abnehmer/in",null," Tanz bitte eintragen/ankreuzen",null,null,"Musik","Balancen","Bewegg.-\nAblauf","X =\nbestanden","spezielle Bemerkungen (Lob/Hinweis/Kritik)\nder/des Abnehmer/in"]
[null,{"$f":"Datenerfassung!$AE162","v":"Langsamer Walzer"},{"$nulls":8},{"$f":"Datenerfassung!$AE163","v":"Langsamer Walzer"}]
[null,{"$f":"Datenerfassung!$AF162","v":"Tango"},{"$nulls":8},{"$f":"Datenerfassung!$AF163","v":"Tango"}]
[null,{"$f":"Datenerfassung!$AG162","v":"Wiener Walzer"},{"$nulls":8},{"$f":"Datenerfassung!$AG163","v":"Wiener Walzer"}]
[null,{"$f":"Datenerfassung!$AH162","v":"Slowfox"},{"$nulls":8},{"$f":"Datenerfassung!$AH163","v":"Slowfox"}]
[null,{"$f":"Datenerfassung!$AI162","v":"Quickstep"},{"$nulls":8},{"$f":"Datenerfassung!$AI163","v":"Quickstep"}]
[null,{"$f":"Datenerfassung!$AJ162","v":"Samba"},{"$nulls":8},{"$f":"Datenerfassung!$AJ163","v":"Samba"}]
[null,{"$f":"Datenerfassung!$AK162","v":"Chachacha"},{"$nulls":8},{"$f":"Datenerfassung!$AK163","v":"Chachacha"}]
[null,{"$f":"Datenerfassung!$AL162","v":"Rumba"},{"$nulls":8},{"$f":"Datenerfassung!$AL163","v":"Rumba"}]
[null,{"$f":"Datenerfassung!$AM162","v":"Paso Doble"},{"$nulls":8},{"$f":"Datenerfassung!$AM163","v":"Paso Doble"}]
[null,{"$f":"Datenerfassung!$AN162","v":"Jive"},{"$nulls":8},{"$f":"Datenerfassung!$AN163","v":"Jive"}]
[null,{"$f":"Datenerfassung!$AO162","v":"Discofox"},{"$nulls":8},{"$f":"Datenerfassung!$AO163","v":"Discofox"}]
[]
[null,"Gemäß Ausbildungsordnung des DTV wurde eine Leistung für den Lizenzerwerb (10-Tänze-Gold) erbracht.",{"$nulls":8},"Gemäß Ausbildungsordnung des DTV wurde eine Leistung für den Lizenzerwerb (10-Tänze-Gold) erbracht."]
[]
["Unterschriften Abnehmer/innen:",{"$nulls":8},"Unterschriften Abnehmer/innen:"]
[]
[]
[{"$f":"Anmeldung!$L$19","v":"00:00:00"},null,null,null,{"$f":"Anmeldung!$L$20","v":0},null,null,{"$f":"Anmeldung!$L$21","v":0},null,{"$f":"Anmeldung!$L$19","v":"00:00:00"},null,null,null,{"$f":"Anmeldung!$L$20","v":0},null,null,{"$f":"Anmeldung!$L$21","v":0}]
["Abnahmekarte für das deutsche Tanzsportabzeichen DTSA",{"$nulls":8},"Abnahmekarte für das deutsche Tanzsportabzeichen DTSA"]
[{"$f":"Anmeldung!$E$7","v":"00:00:00"},null,{"$f":"Anmeldung!$E$8","v":0},{"$nulls":4},{"$f":"\"# \"&Datenerfassung!$H164","v":"# 155"},null,{"$f":"Anmeldung!$E$7","v":"00:00:00"},null,{"$f":"Anmeldung!$E$8","v":0},{"$nulls":4},{"$f":"\"# \"&Datenerfassung!$H165","v":"# 156"}]
["Vorname",null,{"$f":"Datenerfassung!$C164","v":0},null,null,null,"Der/die Bewerber/innen erkennen mit Unterschrift die DTSA-Verleihungsbedingungen an. \n",null,null,"Vorname",null,{"$f":"Datenerfassung!$C165","v":0},null,null,null,"Der/die Bewerber/innen erkennen mit Unterschrift die DTSA-Verleihungsbedingungen an. \n"]
["Nachname",null,{"$f":"Datenerfassung!$D164","v":0},{"$nulls":6},"Nachname",null,{"$f":"Datenerfassung!$D165","v":0}]
["Verein/Schule",null,{"$f":"Datenerfassung!$G164","v":"00:00:00"},{"$nulls":6},"Verein/Schule",null,{"$f":"Datenerfassung!$G165","v":"00:00:00"}]
[]
["Medaille",null,{"$f":"Datenerfassung!$B164","v":0},{"$nulls":6},"Medaille",null,{"$f":"Datenerfassung!$B165","v":0}]
[{"$nulls":6},"Anerkennung der Bedingungen durch Unterschrift",{"$nulls":8},"Anerkennung der Bedingungen durch Unterschrift"]
[]
[" Tanz bitte eintragen/ankreuzen",null,null,"Musik","Balancen","Bewegg.-\nAblauf","X =\nbestanden","spezielle Bemerkungen (Lob/Hinweis/Kritik)\nder/des Abnehmer/in",null," Tanz bitte eintragen/ankreuzen",null,null,"Musik","Balancen","Bewegg.-\nAblauf","X =\nbestanden","spezielle Bemerkungen (Lob/Hinweis/Kritik)\nder/des Abnehmer/in"]
[null,{"$f":"Datenerfassung!$AE164","v":"Langsamer Walzer"},{"$nulls":8},{"$f":"Datenerfassung!$AE165","v":"Langsamer Walzer"}]
[null,{"$f":"Datenerfassung!$AF164","v":"Tango"},{"$nulls":8},{"$f":"Datenerfassung!$AF165","v":"Tango"}]
[null,{"$f":"Datenerfassung!$AG164","v":"Wiener Walzer"},{"$nulls":8},{"$f":"Datenerfassung!$AG165","v":"Wiener Walzer"}]
[null,{"$f":"Datenerfassung!$AH164","v":"Slowfox"},{"$nulls":8},{"$f":"Datenerfassung!$AH165","v":"Slowfox"}]
[null,{"$f":"Datenerfassung!$AI164","v":"Quickstep"},{"$nulls":8},{"$f":"Datenerfassung!$AI165","v":"Quickstep"}]
[null,{"$f":"Datenerfassung!$AJ164","v":"Samba"},{"$nulls":8},{"$f":"Datenerfassung!$AJ165","v":"Samba"}]
[null,{"$f":"Datenerfassung!$AK164","v":"Chachacha"},{"$nulls":8},{"$f":"Datenerfassung!$AK165","v":"Chachacha"}]
[null,{"$f":"Datenerfassung!$AL164","v":"Rumba"},{"$nulls":8},{"$f":"Datenerfassung!$AL165","v":"Rumba"}]
[null,{"$f":"Datenerfassung!$AM164","v":"Paso Doble"},{"$nulls":8},{"$f":"Datenerfassung!$AM165","v":"Paso Doble"}]
[null,{"$f":"Datenerfassung!$AN164","v":"Jive"},{"$nulls":8},{"$f":"Datenerfassung!$AN165","v":"Jive"}]
[null,{"$f":"Datenerfassung!$AO164","v":"Discofox"},{"$nulls":8},{"$f":"Datenerfassung!$AO165","v":"Discofox"}]
[]
[null,"Gemäß Ausbildungsordnung des DTV wurde eine Leistung für den Lizenzerwerb (10-Tänze-Gold) erbracht.",{"$nulls":8},"Gemäß Ausbildungsordnung des DTV wurde eine Leistung für den Lizenzerwerb (10-Tänze-Gold) erbracht."]
[]
["Unterschriften Abnehmer/innen:",{"$nulls":8},"Unterschriften Abnehmer/innen:"]
[]
[]
[{"$f":"Anmeldung!$L$19","v":"00:00:00"},null,null,null,{"$f":"Anmeldung!$L$20","v":0},null,null,{"$f":"Anmeldung!$L$21","v":0},null,{"$f":"Anmeldung!$L$19","v":"00:00:00"},null,null,null,{"$f":"Anmeldung!$L$20","v":0},null,null,{"$f":"Anmeldung!$L$21","v":0}]
["Abnahmekarte für das deutsche Tanzsportabzeichen DTSA",{"$nulls":8},"Abnahmekarte für das deutsche Tanzsportabzeichen DTSA"]
[{"$f":"Anmeldung!$E$7","v":"00:00:00"},null,{"$f":"Anmeldung!$E$8","v":0},{"$nulls":4},{"$f":"\"# \"&Datenerfassung!$H166","v":"# 157"},null,{"$f":"Anmeldung!$E$7","v":"00:00:00"},null,{"$f":"Anmeldung!$E$8","v":0},{"$nulls":4},{"$f":"\"# \"&Datenerfassung!$H167","v":"# 158"}]
["Vorname",null,{"$f":"Datenerfassung!$C166","v":0},null,null,null,"Der/die Bewerber/innen erkennen mit Unterschrift die DTSA-Verleihungsbedingungen an. \n",null,null,"Vorname",null,{"$f":"Datenerfassung!$C167","v":0},null,null,null,"Der/die Bewerber/innen erkennen mit Unterschrift die DTSA-Verleihungsbedingungen an. \n"]
["Nachname",null,{"$f":"Datenerfassung!$D166","v":0},{"$nulls":6},"Nachname",null,{"$f":"Datenerfassung!$D167","v":0}]
["Verein/Schule",null,{"$f":"Datenerfassung!$G166","v":"00:00:00"},{"$nulls":6},"Verein/Schule",null,{"$f":"Datenerfassung!$G167","v":"00:00:00"}]
[]
["Medaille",null,{"$f":"Datenerfassung!$B166","v":0},{"$nulls":6},"Medaille",null,{"$f":"Datenerfassung!$B167","v":0}]
[{"$nulls":6},"Anerkennung der Bedingungen durch Unterschrift",{"$nulls":8},"Anerkennung der Bedingungen durch Unterschrift"]
[]
[" Tanz bitte eintragen/ankreuzen",null,null,"Musik","Balancen","Bewegg.-\nAblauf","X =\nbestanden","spezielle Bemerkungen (Lob/Hinweis/Kritik)\nder/des Abnehmer/in",null," Tanz bitte eintragen/ankreuzen",null,null,"Musik","Balancen","Bewegg.-\nAblauf","X =\nbestanden","spezielle Bemerkungen (Lob/Hinweis/Kritik)\nder/des Abnehmer/in"]
[null,{"$f":"Datenerfassung!$AE166","v":"Langsamer Walzer"},{"$nulls":8},{"$f":"Datenerfassung!$AE167","v":"Langsamer Walzer"}]
[null,{"$f":"Datenerfassung!$AF166","v":"Tango"},{"$nulls":8},{"$f":"Datenerfassung!$AF167","v":"Tango"}]
[null,{"$f":"Datenerfassung!$AG166","v":"Wiener Walzer"},{"$nulls":8},{"$f":"Datenerfassung!$AG167","v":"Wiener Walzer"}]
[null,{"$f":"Datenerfassung!$AH166","v":"Slowfox"},{"$nulls":8},{"$f":"Datenerfassung!$AH167","v":"Slowfox"}]
[null,{"$f":"Datenerfassung!$AI166","v":"Quickstep"},{"$nulls":8},{"$f":"Datenerfassung!$AI167","v":"Quickstep"}]
[null,{"$f":"Datenerfassung!$AJ166","v":"Samba"},{"$nulls":8},{"$f":"Datenerfassung!$AJ167","v":"Samba"}]
[null,{"$f":"Datenerfassung!$AK166","v":"Chachacha"},{"$nulls":8},{"$f":"Datenerfassung!$AK167","v":"Chachacha"}]
[null,{"$f":"Datenerfassung!$AL166","v":"Rumba"},{"$nulls":8},{"$f":"Datenerfassung!$AL167","v":"Rumba"}]
[null,{"$f":"Datenerfassung!$AM166","v":"Paso Doble"},{"$nulls":8},{"$f":"Datenerfassung!$AM167","v":"Paso Doble"}]
[null,{"$f":"Datenerfassung!$AN166","v":"Jive"},{"$nulls":8},{"$f":"Datenerfassung!$AN167","v":"Jive"}]
[null,{"$f":"Datenerfassung!$AO166","v":"Discofox"},{"$nulls":8},{"$f":"Datenerfassung!$AO167","v":"Discofox"}]
[]
[null,"Gemäß Ausbildungsordnung des DTV wurde eine Leistung für den Lizenzerwerb (10-Tänze-Gold) erbracht.",{"$nulls":8},"Gemäß Ausbildungsordnung des DTV wurde eine Leistung für den Lizenzerwerb (10-Tänze-Gold) erbracht."]
[]
["Unterschriften Abnehmer/innen:",{"$nulls":8},"Unterschriften Abnehmer/innen:"]
[]
[]
[{"$f":"Anmeldung!$L$19","v":"00:00:00"},null,null,null,{"$f":"Anmeldung!$L$20","v":0},null,null,{"$f":"Anmeldung!$L$21","v":0},null,{"$f":"Anmeldung!$L$19","v":"00:00:00"},null,null,null,{"$f":"Anmeldung!$L$20","v":0},null,null,{"$f":"Anmeldung!$L$21","v":0}]
["Abnahmekarte für das deutsche Tanzsportabzeichen DTSA",{"$nulls":8},"Abnahmekarte für das deutsche Tanzsportabzeichen DTSA"]
[{"$f":"Anmeldung!$E$7","v":"00:00:00"},null,{"$f":"Anmeldung!$E$8","v":0},{"$nulls":4},{"$f":"\"# \"&Datenerfassung!$H168","v":"# 159"},null,{"$f":"Anmeldung!$E$7","v":"00:00:00"},null,{"$f":"Anmeldung!$E$8","v":0},{"$nulls":4},{"$f":"\"# \"&Datenerfassung!$H169","v":"# 160"}]
["Vorname",null,{"$f":"Datenerfassung!$C168","v":0},null,null,null,"Der/die Bewerber/innen erkennen mit Unterschrift die DTSA-Verleihungsbedingungen an. \n",null,null,"Vorname",null,{"$f":"Datenerfassung!$C169","v":0},null,null,null,"Der/die Bewerber/innen erkennen mit Unterschrift die DTSA-Verleihungsbedingungen an. \n"]
["Nachname",null,{"$f":"Datenerfassung!$D168","v":0},{"$nulls":6},"Nachname",null,{"$f":"Datenerfassung!$D169","v":0}]
["Verein/Schule",null,{"$f":"Datenerfassung!$G168","v":"00:00:00"},{"$nulls":6},"Verein/Schule",null,{"$f":"Datenerfassung!$G169","v":"00:00:00"}]
[]
["Medaille",null,{"$f":"Datenerfassung!$B168","v":0},{"$nulls":6},"Medaille",null,{"$f":"Datenerfassung!$B169","v":0}]
[{"$nulls":6},"Anerkennung der Bedingungen durch Unterschrift",{"$nulls":8},"Anerkennung der Bedingungen durch Unterschrift"]
[]
[" Tanz bitte eintragen/ankreuzen",null,null,"Musik","Balancen","Bewegg.-\nAblauf","X =\nbestanden","spezielle Bemerkungen (Lob/Hinweis/Kritik)\nder/des Abnehmer/in",null," Tanz bitte eintragen/ankreuzen",null,null,"Musik","Balancen","Bewegg.-\nAblauf","X =\nbestanden","spezielle Bemerkungen (Lob/Hinweis/Kritik)\nder/des Abnehmer/in"]
[null,{"$f":"Datenerfassung!$AE168","v":"Langsamer Walzer"},{"$nulls":8},{"$f":"Datenerfassung!$AE169","v":"Langsamer Walzer"}]
[null,{"$f":"Datenerfassung!$AF168","v":"Tango"},{"$nulls":8},{"$f":"Datenerfassung!$AF169","v":"Tango"}]
[null,{"$f":"Datenerfassung!$AG168","v":"Wiener Walzer"},{"$nulls":8},{"$f":"Datenerfassung!$AG169","v":"Wiener Walzer"}]
[null,{"$f":"Datenerfassung!$AH168","v":"Slowfox"},{"$nulls":8},{"$f":"Datenerfassung!$AH169","v":"Slowfox"}]
[null,{"$f":"Datenerfassung!$AI168","v":"Quickstep"},{"$nulls":8},{"$f":"Datenerfassung!$AI169","v":"Quickstep"}]
[null,{"$f":"Datenerfassung!$AJ168","v":"Samba"},{"$nulls":8},{"$f":"Datenerfassung!$AJ169","v":"Samba"}]
[null,{"$f":"Datenerfassung!$AK168","v":"Chachacha"},{"$nulls":8},{"$f":"Datenerfassung!$AK169","v":"Chachacha"}]
[null,{"$f":"Datenerfassung!$AL168","v":"Rumba"},{"$nulls":8},{"$f":"Datenerfassung!$AL169","v":"Rumba"}]
[null,{"$f":"Datenerfassung!$AM168","v":"Paso Doble"},{"$nulls":8},{"$f":"Datenerfassung!$AM169","v":"Paso Doble"}]
[null,{"$f":"Datenerfassung!$AN168","v":"Jive"},{"$nulls":8},{"$f":"Datenerfassung!$AN169","v":"Jive"}]
[null,{"$f":"Datenerfassung!$AO168","v":"Discofox"},{"$nulls":8},{"$f":"Datenerfassung!$AO169","v":"Discofox"}]
[]
[null,"Gemäß Ausbildungsordnung des DTV wurde eine Leistung für den Lizenzerwerb (10-Tänze-Gold) erbracht.",{"$nulls":8},"Gemäß Ausbildungsordnung des DTV wurde eine Leistung für den Lizenzerwerb (10-Tänze-Gold) erbracht."]
[]
["Unterschriften Abnehmer/innen:",{"$nulls":8},"Unterschriften Abnehmer/innen:"]
[]
[]
[{"$f":"Anmeldung!$L$19","v":"00:00:00"},null,null,null,{"$f":"Anmeldung!$L$20","v":0},null,null,{"$f":"Anmeldung!$L$21","v":0},null,{"$f":"Anmeldung!$L$19","v":"00:00:00"},null,null,null,{"$f":"Anmeldung!$L$20","v":0},null,null,{"$f":"Anmeldung!$L$21","v":0}]

{"sheet":"Einzel 161-180","index":11,"n_rows":280,"n_cols":17,"rows_kept":280,"cut":false,"hidden":false,"merged":[[274,1,274,7],[274,10,274,16],[276,0,276,7],[276,9,276,16],[279,4,279,6],[279,13,279,15],[270,1,270,2],[270,10,270,11],[271,1,271,2],[271,10,271,11],[272,1,272,2],[272,10,272,11],[267,1,267,2],[267,10,267,11],[268,1,268,2],[268,10,268,11],[269,1,269,2],[269,10,269,11],[264,1,264,2],[264,10,264,11],[265,1,265,2],[265,10,265,11],[266,1,266,2],[266,10,266,11],[261,0,261,2],[261,9,261,11],[262,1,262,2],[262,10,262,11],[263,1,263,2],[263,10,263,11],[258,2,258,5],[258,6,258,7],[258,11,258,14],[258,15,258,16],[259,2,259,5],[259,11,259,14],[254,2,254,5],[254,6,256,7],[254,11,254,14],[254,15,256,16],[255,2,255,5],[255,11,255,14],[256,2,256,5],[256,11,256,14],[251,4,251,6],[251,13,251,15],[253,0,253,1],[253,2,253,6],[253,9,253,10],[253,11,253,15],[244,1,244,2],[244,10,244,11],[246,1,246,7],[246,10,246,16],[248,0,248,7],[248,9,248,16],[241,1,241,2],[241,10,241,11],[242,1,242,2],[242,10,242,11],[243,1,243,2],[243,10,243,11],[238,1,238,2],[238,10,238,11],[239,1,239,2],[239,10,239,11],[240,1,240,2],[240,10,240,11],[235,1,235,2],[235,10,235,11],[236,1,236,2],[236,10,236,11],[237,1,237,2],[237,10,237,11],[230,15,230,16],[231,2,231,5],[231,11,231,14],[233,0,233,2],[233,9,233,11],[234,1,234,2],[234,10,234,11],[228,2,228,5],[228,11,228,14],[230,2,230,5],[230,6,230,7],[230,11,230,14],[225,0,225,1],[225,2,225,6],[225,9,225,10],[225,11,225,15],[226,2,226,5],[226,6,228,7],[226,11,226,14],[226,15,228,16],[227,2,227,5],[227,11,227,14],[218,1,218,7],[218,10,218,16],[220,0,220,7],[220,9,220,16],[223,4,223,6],[223,13,223,15],[214,1,214,2],[214,10,214,11],[215,1,215,2],[215,10,215,11],[216,1,216,2],[216,10,216,11],[211,1,211,2],[211,10,211,11],[212,1,212,2],[212,10,212,11],[213,1,213,2],[213,10,213,11],[208,1,208,2],[208,10,208,11],[209,1,209,2],[209,10,209,11],[210,1,210,2],[210,10,210,11],[205,0,205,2],[205,9,205,11],[206,1,206,2],[206,10,206,11],[207,1,207,2],[207,10,207,11],[202,2,202,5],[202,6,202,7],[202,11,202,14],[202,15,202,16],[203,2,203,5],[203,11,203,14],[198,2,198,5],[198,6,200,7],[198,11,198,14],[198,15,200,16],[199,2,199,5],[199,11,199,14],[200,2,200,5],[200,11,200,14],[195,4,195,6],[195,13,195,15],[197,0,197,1],[197,2,197,6],[197,9,197,10],[197,11,197,15],[188,1,188,2],[188,10,188,11],[190,1,190,7],[190,10,190,16],[192,0,192,7],[192,9,192,16],[185,1,185,2],[185,10,185,11],[186,1,186,2],[186,10,186,11],[187,1,187,2],[187,10,187,11],[182,1,182,2],[182,10,182,11],[183,1,183,2],[183,10,183,11],[184,1,184,2],[184,10,184,11],[179,1,179,2],[179,10,179,11],[180,1,180,2],[180,10,180,11],[181,1,181,2],[181,10,181,11],[174,15,174,16],[175,2,175,5],[175,11,175,14],[177,0,177,2],[177,9,177,11],[178,1,178,2],[178,10,178,11],[172,2,172,5],[172,11,172,14],[174,2,174,5],[174,6,174,7],[174,11,174,14],[169,0,169,1],[169,2,169,6],[169,9,169,10],[169,11,169,15],[170,2,170,5],[170,6,172,7],[170,11,170,14],[170,15,172,16],[171,2,171,5],[171,11,171,14],[162,1,162,7],[162,10,162,16],[164,0,164,7],[164,9,164,16],[167,4,167,6],[167,13,167,15],[158,1,158,2],[158,10,158,11],[159,1,159,2],[159,10,159,11],[160,1,160,2],[160,10,160,11],[155,1,155,2],[155,10,155,11],[156,1,156,2],[156,10,156,11],[157,1,157,2],[157,10,157,11],[152,1,152,2],[152,10,152,11],[153,1,153,2],[153,10,153,11],[154,1,154,2],[154,10,154,11],[149,0,149,2],[149,9,149,11],[150,1,150,2],[150,10,150,11],[151,1,151,2],[151,10,151,11],[146,2,146,5],[146,6,146,7],[146,11,146,14],[146,15,146,16],[147,2,147,5],[147,11,147,14],[142,2,142,5],[142,6,144,7],[142,11,142,14],[142,15,144,16],[143,2,143,5],[143,11,143,14],[144,2,144,5],[144,11,144,14],[139,4,139,6],[139,13,139,15],[141,0,141,1],[141,2,141,6],[141,9,141,10],[141,11,141,15],[132,1,132,2],[132,10,132,11],[134,1,134,7],[134,10,134,16],[136,0,136,7],[136,9,136,16],[129,1,129,2],[129,10,129,11],[130,1,130,2],[130,10,130,11],[131,1,131,2],[131,10,131,11],[126,1,126,2],[126,10,126,11],[127,1,127,2],[127,10,127,11],[128,1,128,2],[128,10,128,11],[123,1,123,2],[123,10,123,11],[124,1,124,2],[124,10,124,11],[125,1,125,2],[125,10,125,11],[118,15,118,16],[119,2,119,5],[119,11,119,14],[121,0,121,2],[121,9,121,11],[122,1,122,2],[122,10,122,11],[116,2,116,5],[116,11,116,14],[118,2,118,5],[118,6,118,7],[118,11,118,14],[113,0,113,1],[113,2,113,6],[113,9,113,10],[113,11,113,15],[114,2,114,5],[114,6,116,7],[114,11,114,14],[114,15,116,16],[115,2,115,5],[115,11,115,14],[106,1,106,7],[106,10,106,16],[108,0,108,7],[108,9,108,16],[111,4,111,6],[111,13,111,15],[102,1,102,2],[102,10,102,11],[103,1,103,2],[103,10,103,11],[104,1,104,2],[104,10,104,11],[99,1,99,2],[99,10,99,11],[100,1,100,2],[100,10,100,11],[101,1,101,2],[101,10,101,11],[96,1,96,2],[96,10,96,11],[97,1,97,2],[97,10,97,11],[98,1,98,2],[98,10,98,11],[93,0,93,2],[93,9,93,11],[94,1,94,2],[94,10,94,11],[95,1,95,2],[95,10,95,11],[90,2,90,5],[90,6,90,7],[90,11,90,14],[90,15,90,16],[91,2,91,5],[91,11,91,14],[86,2,86,5],[86,6,88,7],[86,11,86,14],[86,15,88,16],[87,2,87,5],[87,11,87,14],[88,2,88,5],[88,11,88,14],[83,4,83,6],[83,13,83,15],[85,0,85,1],[85,2,85,6],[85,9,85,10],[85,11,85,15],[76,1,76,2],[76,10,76,11],[78,1,78,7],[78,10,78,16],[80,0,80,7],[80,9,80,16],[73,1,73,2],[73,10,73,11],[74,1,74,2],[74,10,74,11],[75,1,75,2],[75,10,75,11],[70,1,70,2],[70,10,70,11],[71,1,71,2],[71,10,71,11],[72,1,72,2],[72,10,72,11],[67,1,67,2],[67,10,67,11],[68,1,68,2],[68,10,68,11],[69,1,69,2],[69,10,69,11],[62,15,62,16],[63,2,63,5],[63,11,63,14],[65,0,65,2],[65,9,65,11],[66,1,66,2],[66,10,66,11],[60,2,60,5],[60,11,60,14],[62,2,62,5],[62,6,62,7],[62,11,62,14],[57,0,57,1],[57,2,57,6],[57,9,57,10],[57,11,57,15],[58,2,58,5],[58,6,60,7],[58,11,58,14],[58,15,60,16],[59,2,59,5],[59,11,59,14],[50,1,50,7],[50,10,50,16],[52,0,52,7],[52,9,52,16],[55,4,55,6],[55,13,55,15],[46,1,46,2],[46,10,46,11],[47,1,47,2],[47,10,47,11],[48,1,48,2],[48,10,48,11],[43,1,43,2],[43,10,43,11],[44,1,44,2],[44,10,44,11],[45,1,45,2],[45,10,45,11],[40,1,40,2],[40,10,40,11],[41,1,41,2],[41,10,41,11],[42,1,42,2],[42,10,42,11],[37,0,37,2],[37,9,37,11],[38,1,38,2],[38,10,38,11],[39,1,39,2],[39,10,39,11],[34,2,34,5],[34,6,34,7],[34,11,34,14],[34,15,34,16],[35,2,35,5],[35,11,35,14],[30,2,30,5],[30,6,32,7],[30,11,30,14],[30,15,32,16],[31,2,31,5],[31,11,31,14],[32,2,32,5],[32,11,32,14],[27,4,27,6],[27,13,27,15],[29,0,29,1],[29,2,29,6],[29,9,29,10],[29,11,29,15],[20,1,20,2],[20,10,20,11],[22,1,22,7],[22,10,22,16],[24,0,24,7],[24,9,24,16],[17,1,17,2],[17,10,17,11],[18,1,18,2],[18,10,18,11],[19,1,19,2],[19,10,19,11],[14,1,14,2],[14,10,14,11],[15,1,15,2],[15,10,15,11],[16,1,16,2],[16,10,16,11],[11,1,11,2],[11,10,11,11],[12,1,12,2],[12,10,12,11],[13,1,13,2],[13,10,13,11],[6,15,6,16],[7,2,7,5],[7,11,7,14],[9,0,9,2],[9,9,9,11],[10,1,10,2],[10,10,10,11],[4,2,4,5],[4,11,4,14],[6,2,6,5],[6,6,6,7],[6,11,6,14],[1,0,1,1],[1,2,1,6],[1,9,1,10],[1,11,1,15],[2,2,2,5],[2,6,4,7],[2,11,2,14],[2,15,4,16],[3,2,3,5],[3,11,3,14]]}
["Abnahmekarte für das deutsche Tanzsportabzeichen DTSA",{"$nulls":8},"Abnahmekarte für das deutsche Tanzsportabzeichen DTSA"]
[{"$f":"Anmeldung!$E$7","v":"00:00:00"},null,{"$f":"Anmeldung!$E$8","v":0},{"$nulls":4},{"$f":"\"# \"&Datenerfassung!$H170","v":"# 161"},null,{"$f":"Anmeldung!$E$7","v":"00:00:00"},null,{"$f":"Anmeldung!$E$8","v":0},{"$nulls":4},{"$f":"\"# \"&Datenerfassung!$H171","v":"# 162"}]
["Vorname",null,{"$f":"Datenerfassung!$C170","v":0},null,null,null,"Der/die Bewerber/innen erkennen mit Unterschrift die DTSA-Verleihungsbedingungen an. \n",null,null,"Vorname",null,{"$f":"Datenerfassung!$C171","v":0},null,null,null,"Der/die Bewerber/innen erkennen mit Unterschrift die DTSA-Verleihungsbedingungen an. \n"]
["Nachname",null,{"$f":"Datenerfassung!$D170","v":0},{"$nulls":6},"Nachname",null,{"$f":"Datenerfassung!$D171","v":0}]
["Verein/Schule",null,{"$f":"Datenerfassung!$G170","v":"00:00:00"},{"$nulls":6},"Verein/Schule",null,{"$f":"Datenerfassung!$G171","v":"00:00:00"}]
[]
["Medaille",null,{"$f":"Datenerfassung!$B170","v":0},{"$nulls":6},"Medaille",null,{"$f":"Datenerfassung!$B171","v":0}]
[{"$nulls":6},"Anerkennung der Bedingungen durch Unterschrift",{"$nulls":8},"Anerkennung der Bedingungen durch Unterschrift"]
[]
[" Tanz bitte eintragen/ankreuzen",null,null,"Musik","Balancen","Bewegg.-\nAblauf","X =\nbestanden","spezielle Bemerkungen (Lob/Hinweis/Kritik)\nder/des Abnehmer/in",null," Tanz bitte eintragen/ankreuzen",null,null,"Musik","Balancen","Bewegg.-\nAblauf","X =\nbestanden","spezielle Bemerkungen (Lob/Hinweis/Kritik)\nder/des Abnehmer/in"]
[null,{"$f":"Datenerfassung!$AE170","v":"Langsamer Walzer"},{"$nulls":8},{"$f":"Datenerfassung!$AE171","v":"Langsamer Walzer"}]
[null,{"$f":"Datenerfassung!$AF170","v":"Tango"},{"$nulls":8},{"$f":"Datenerfassung!$AF171","v":"Tango"}]
[null,{"$f":"Datenerfassung!$AG170","v":"Wiener Walzer"},{"$nulls":8},{"$f":"Datenerfassung!$AG171","v":"Wiener Walzer"}]
[null,{"$f":"Datenerfassung!$AH170","v":"Slowfox"},{"$nulls":8},{"$f":"Datenerfassung!$AH171","v":"Slowfox"}]
[null,{"$f":"Datenerfassung!$AI170","v":"Quickstep"},{"$nulls":8},{"$f":"Datenerfassung!$AI171","v":"Quickstep"}]
[null,{"$f":"Datenerfassung!$AJ170","v":"Samba"},{"$nulls":8},{"$f":"Datenerfassung!$AJ171","v":"Samba"}]
[null,{"$f":"Datenerfassung!$AK170","v":"Chachacha"},{"$nulls":8},{"$f":"Datenerfassung!$AK171","v":"Chachacha"}]
[null,{"$f":"Datenerfassung!$AL170","v":"Rumba"},{"$nulls":8},{"$f":"Datenerfassung!$AL171","v":"Rumba"}]
[null,{"$f":"Datenerfassung!$AM170","v":"Paso Doble"},{"$nulls":8},{"$f":"Datenerfassung!$AM171","v":"Paso Doble"}]
[null,{"$f":"Datenerfassung!$AN170","v":"Jive"},{"$nulls":8},{"$f":"Datenerfassung!$AN171","v":"Jive"}]
[null,{"$f":"Datenerfassung!$AO170","v":"Discofox"},{"$nulls":8},{"$f":"Datenerfassung!$AO171","v":"Discofox"}]
[]
[null,"Gemäß Ausbildungsordnung des DTV wurde eine Leistung für den Lizenzerwerb (10-Tänze-Gold) erbracht.",{"$nulls":8},"Gemäß Ausbildungsordnung des DTV wurde eine Leistung für den Lizenzerwerb (10-Tänze-Gold) erbracht."]
[]
["Unterschriften Abnehmer/innen:",{"$nulls":8},"Unterschriften Abnehmer/innen:"]
[]
[]
[{"$f":"Anmeldung!$L$19","v":"00:00:00"},null,null,null,{"$f":"Anmeldung!$L$20","v":0},null,null,{"$f":"Anmeldung!$L$21","v":0},null,{"$f":"Anmeldung!$L$19","v":"00:00:00"},null,null,null,{"$f":"Anmeldung!$L$20","v":0},null,null,{"$f":"Anmeldung!$L$21","v":0}]
["Abnahmekarte für das deutsche Tanzsportabzeichen DTSA",{"$nulls":8},"Abnahmekarte für das deutsche Tanzsportabzeichen DTSA"]
[{"$f":"Anmeldung!$E$7","v":"00:00:00"},null,{"$f":"Anmeldung!$E$8","v":0},{"$nulls":4},{"$f":"\"# \"&Datenerfassung!$H172","v":"# 163"},null,{"$f":"Anmeldung!$E$7","v":"00:00:00"},null,{"$f":"Anmeldung!$E$8","v":0},{"$nulls":4},{"$f":"\"# \"&Datenerfassung!$H173","v":"# 164"}]
["Vorname",null,{"$f":"Datenerfassung!$C172","v":0},null,null,null,"Der/die Bewerber/innen erkennen mit Unterschrift die DTSA-Verleihungsbedingungen an. \n",null,null,"Vorname",null,{"$f":"Datenerfassung!$C173","v":0},null,null,null,"Der/die Bewerber/innen erkennen mit Unterschrift die DTSA-Verleihungsbedingungen an. \n"]
["Nachname",null,{"$f":"Datenerfassung!$D172","v":0},{"$nulls":6},"Nachname",null,{"$f":"Datenerfassung!$D173","v":0}]
["Verein/Schule",null,{"$f":"Datenerfassung!$G172","v":"00:00:00"},{"$nulls":6},"Verein/Schule",null,{"$f":"Datenerfassung!$G173","v":"00:00:00"}]
[]
["Medaille",null,{"$f":"Datenerfassung!$B172","v":0},{"$nulls":6},"Medaille",null,{"$f":"Datenerfassung!$B173","v":0}]
[{"$nulls":6},"Anerkennung der Bedingungen durch Unterschrift",{"$nulls":8},"Anerkennung der Bedingungen durch Unterschrift"]
[]
[" Tanz bitte eintragen/ankreuzen",null,null,"Musik","Balancen","Bewegg.-\nAblauf","X =\nbestanden","spezielle Bemerkungen (Lob/Hinweis/Kritik)\nder/des Abnehmer/in",null," Tanz bitte eintragen/ankreuzen",null,null,"Musik","Balancen","Bewegg.-\nAblauf","X =\nbestanden","spezielle Bemerkungen (Lob/Hinweis/Kritik)\nder/des Abnehmer/in"]
[null,{"$f":"Datenerfassung!$AE172","v":"Langsamer Walzer"},{"$nulls":8},{"$f":"Datenerfassung!$AE173","v":"Langsamer Walzer"}]
[null,{"$f":"Datenerfassung!$AF172","v":"Tango"},{"$nulls":8},{"$f":"Datenerfassung!$AF173","v":"Tango"}]
[null,{"$f":"Datenerfassung!$AG172","v":"Wiener Walzer"},{"$nulls":8},{"$f":"Datenerfassung!$AG173","v":"Wiener Walzer"}]
[null,{"$f":"Datenerfassung!$AH172","v":"Slowfox"},{"$nulls":8},{"$f":"Datenerfassung!$AH173","v":"Slowfox"}]
[null,{"$f":"Datenerfassung!$AI172","v":"Quickstep"},{"$nulls":8},{"$f":"Datenerfassung!$AI173","v":"Quickstep"}]
[null,{"$f":"Datenerfassung!$AJ172","v":"Samba"},{"$nulls":8},{"$f":"Datenerfassung!$AJ173","v":"Samba"}]
[null,{"$f":"Datenerfassung!$AK172","v":"Chachacha"},{"$nulls":8},{"$f":"Datenerfassung!$AK173","v":"Chachacha"}]
[null,{"$f":"Datenerfassung!$AL172","v":"Rumba"},{"$nulls":8},{"$f":"Datenerfassung!$AL173","v":"Rumba"}]
[null,{"$f":"Datenerfassung!$AM172","v":"Paso Doble"},{"$nulls":8},{"$f":"Datenerfassung!$AM173","v":"Paso Doble"}]
[null,{"$f":"Datenerfassung!$AN172","v":"Jive"},{"$nulls":8},{"$f":"Datenerfassung!$AN173","v":"Jive"}]
[null,{"$f":"Datenerfassung!$AO172","v":"Discofox"},{"$nulls":8},{"$f":"Datenerfassung!$AO173","v":"Discofox"}]
[]
[null,"Gemäß Ausbildungsordnung des DTV wurde eine Leistung für den Lizenzerwerb (10-Tänze-Gold) erbracht.",{"$nulls":8},"Gemäß Ausbildungsordnung des DTV wurde eine Leistung für den Lizenzerwerb (10-Tänze-Gold) erbracht."]
[]
["Unterschriften Abnehmer/innen:",{"$nulls":8},"Unterschriften Abnehmer/innen:"]
[]
[]
[{"$f":"Anmeldung!$L$19","v":"00:00:00"},null,null,null,{"$f":"Anmeldung!$L$20","v":0},null,null,{"$f":"Anmeldung!$L$21","v":0},null,{"$f":"Anmeldung!$L$19","v":"00:00:00"},null,null,null,{"$f":"Anmeldung!$L$20","v":0},null,null,{"$f":"Anmeldung!$L$21","v":0}]
["Abnahmekarte für das deutsche Tanzsportabzeichen DTSA",{"$nulls":8},"Abnahmekarte für das deutsche Tanzsportabzeichen DTSA"]
[{"$f":"Anmeldung!$E$7","v":"00:00:00"},null,{"$f":"Anmeldung!$E$8","v":0},{"$nulls":4},{"$f":"\"# \"&Datenerfassung!$H174","v":"# 165"},null,{"$f":"Anmeldung!$E$7","v":"00:00:00"},null,{"$f":"Anmeldung!$E$8","v":0},{"$nulls":4},{"$f":"\"# \"&Datenerfassung!$H175","v":"# 166"}]
["Vorname",null,{"$f":"Datenerfassung!$C174","v":0},null,null,null,"Der/die Bewerber/innen erkennen mit Unterschrift die DTSA-Verleihungsbedingungen an. \n",null,null,"Vorname",null,{"$f":"Datenerfassung!$C175","v":0},null,null,null,"Der/die Bewerber/innen erkennen mit Unterschrift die DTSA-Verleihungsbedingungen an. \n"]
["Nachname",null,{"$f":"Datenerfassung!$D174","v":0},{"$nulls":6},"Nachname",null,{"$f":"Datenerfassung!$D175","v":0}]
["Verein/Schule",null,{"$f":"Datenerfassung!$G174","v":"00:00:00"},{"$nulls":6},"Verein/Schule",null,{"$f":"Datenerfassung!$G175","v":"00:00:00"}]
[]
["Medaille",null,{"$f":"Datenerfassung!$B174","v":0},{"$nulls":6},"Medaille",null,{"$f":"Datenerfassung!$B175","v":0}]
[{"$nulls":6},"Anerkennung der Bedingungen durch Unterschrift",{"$nulls":8},"Anerkennung der Bedingungen durch Unterschrift"]
[]
[" Tanz bitte eintragen/ankreuzen",null,null,"Musik","Balancen","Bewegg.-\nAblauf","X =\nbestanden","spezielle Bemerkungen (Lob/Hinweis/Kritik)\nder/des Abnehmer/in",null," Tanz bitte eintragen/ankreuzen",null,null,"Musik","Balancen","Bewegg.-\nAblauf","X =\nbestanden","spezielle Bemerkungen (Lob/Hinweis/Kritik)\nder/des Abnehmer/in"]
[null,{"$f":"Datenerfassung!$AE174","v":"Langsamer Walzer"},{"$nulls":8},{"$f":"Datenerfassung!$AE175","v":"Langsamer Walzer"}]
[null,{"$f":"Datenerfassung!$AF174","v":"Tango"},{"$nulls":8},{"$f":"Datenerfassung!$AF175","v":"Tango"}]
[null,{"$f":"Datenerfassung!$AG174","v":"Wiener Walzer"},{"$nulls":8},{"$f":"Datenerfassung!$AG175","v":"Wiener Walzer"}]
[null,{"$f":"Datenerfassung!$AH174","v":"Slowfox"},{"$nulls":8},{"$f":"Datenerfassung!$AH175","v":"Slowfox"}]
[null,{"$f":"Datenerfassung!$AI174","v":"Quickstep"},{"$nulls":8},{"$f":"Datenerfassung!$AI175","v":"Quickstep"}]
[null,{"$f":"Datenerfassung!$AJ174","v":"Samba"},{"$nulls":8},{"$f":"Datenerfassung!$AJ175","v":"Samba"}]
[null,{"$f":"Datenerfassung!$AK174","v":"Chachacha"},{"$nulls":8},{"$f":"Datenerfassung!$AK175","v":"Chachacha"}]
[null,{"$f":"Datenerfassung!$AL174","v":"Rumba"},{"$nulls":8},{"$f":"Datenerfassung!$AL175","v":"Rumba"}]
[null,{"$f":"Datenerfassung!$AM174","v":"Paso Doble"},{"$nulls":8},{"$f":"Datenerfassung!$AM175","v":"Paso Doble"}]
[null,{"$f":"Datenerfassung!$AN174","v":"Jive"},{"$nulls":8},{"$f":"Datenerfassung!$AN175","v":"Jive"}]
[null,{"$f":"Datenerfassung!$AO174","v":"Discofox"},{"$nulls":8},{"$f":"Datenerfassung!$AO175","v":"Discofox"}]
[]
[null,"Gemäß Ausbildungsordnung des DTV wurde eine Leistung für den Lizenzerwerb (10-Tänze-Gold) erbracht.",{"$nulls":8},"Gemäß Ausbildungsordnung des DTV wurde eine Leistung für den Lizenzerwerb (10-Tänze-Gold) erbracht."]
[]
["Unterschriften Abnehmer/innen:",{"$nulls":8},"Unterschriften Abnehmer/innen:"]
[]
[]
[{"$f":"Anmeldung!$L$19","v":"00:00:00"},null,null,null,{"$f":"Anmeldung!$L$20","v":0},null,null,{"$f":"Anmeldung!$L$21","v":0},null,{"$f":"Anmeldung!$L$19","v":"00:00:00"},null,null,null,{"$f":"Anmeldung!$L$20","v":0},null,null,{"$f":"Anmeldung!$L$21","v":0}]
["Abnahmekarte für das deutsche Tanzsportabzeichen DTSA",{"$nulls":8},"Abnahmekarte für das deutsche Tanzsportabzeichen DTSA"]
[{"$f":"Anmeldung!$E$7","v":"00:00:00"},null,{"$f":"Anmeldung!$E$8","v":0},{"$nulls":4},{"$f":"\"# \"&Datenerfassung!$H176","v":"# 167"},null,{"$f":"Anmeldung!$E$7","v":"00:00:00"},null,{"$f":"Anmeldung!$E$8","v":0},{"$nulls":4},{"$f":"\"# \"&Datenerfassung!$H177","v":"# 168"}]
["Vorname",null,{"$f":"Datenerfassung!$C176","v":0},null,null,null,"Der/die Bewerber/innen erkennen mit Unterschrift die DTSA-Verleihungsbedingungen an. \n",null,null,"Vorname",null,{"$f":"Datenerfassung!$C177","v":0},null,null,null,"Der/die Bewerber/innen erkennen mit Unterschrift die DTSA-Verleihungsbedingungen an. \n"]
["Nachname",null,{"$f":"Datenerfassung!$D176","v":0},{"$nulls":6},"Nachname",null,{"$f":"Datenerfassung!$D177","v":0}]
["Verein/Schule",null,{"$f":"Datenerfassung!$G176","v":"00:00:00"},{"$nulls":6},"Verein/Schule",null,{"$f":"Datenerfassung!$G177","v":"00:00:00"}]
[]
["Medaille",null,{"$f":"Datenerfassung!$B176","v":0},{"$nulls":6},"Medaille",null,{"$f":"Datenerfassung!$B177","v":0}]
[{"$nulls":6},"Anerkennung der Bedingungen durch Unterschrift",{"$nulls":8},"Anerkennung der Bedingungen durch Unterschrift"]
[]
[" Tanz bitte eintragen/ankreuzen",null,null,"Musik","Balancen","Bewegg.-\nAblauf","X =\nbestanden","spezielle Bemerkungen (Lob/Hinweis/Kritik)\nder/des Abnehmer/in",null," Tanz bitte eintragen/ankreuzen",null,null,"Musik","Balancen","Bewegg.-\nAblauf","X =\nbestanden","spezielle Bemerkungen (Lob/Hinweis/Kritik)\nder/des Abnehmer/in"]
[null,{"$f":"Datenerfassung!$AE176","v":"Langsamer Walzer"},{"$nulls":8},{"$f":"Datenerfassung!$AE177","v":"Langsamer Walzer"}]
[null,{"$f":"Datenerfassung!$AF176","v":"Tango"},{"$nulls":8},{"$f":"Datenerfassung!$AF177","v":"Tango"}]
[null,{"$f":"Datenerfassung!$AG176","v":"Wiener Walzer"},{"$nulls":8},{"$f":"Datenerfassung!$AG177","v":"Wiener Walzer"}]
[null,{"$f":"Datenerfassung!$AH176","v":"Slowfox"},{"$nulls":8},{"$f":"Datenerfassung!$AH177","v":"Slowfox"}]
[null,{"$f":"Datenerfassung!$AI176","v":"Quickstep"},{"$nulls":8},{"$f":"Datenerfassung!$AI177","v":"Quickstep"}]
[null,{"$f":"Datenerfassung!$AJ176","v":"Samba"},{"$nulls":8},{"$f":"Datenerfassung!$AJ177","v":"Samba"}]
[null,{"$f":"Datenerfassung!$AK176","v":"Chachacha"},{"$nulls":8},{"$f":"Datenerfassung!$AK177","v":"Chachacha"}]
[null,{"$f":"Datenerfassung!$AL176","v":"Rumba"},{"$nulls":8},{"$f":"Datenerfassung!$AL177","v":"Rumba"}]
[null,{"$f":"Datenerfassung!$AM176","v":"Paso Doble"},{"$nulls":8},{"$f":"Datenerfassung!$AM177","v":"Paso Doble"}]
[null,{"$f":"Datenerfassung!$AN176","v":"Jive"},{"$nulls":8},{"$f":"Datenerfassung!$AN177","v":"Jive"}]
[null,{"$f":"Datenerfassung!$AO176","v":"Discofox"},{"$nulls":8},{"$f":"Datenerfassung!$AO177","v":"Discofox"}]
[]
[null,"Gemäß Ausbildungsordnung des DTV wurde eine Leistung für den Lizenzerwerb (10-Tänze-Gold) erbracht.",{"$nulls":8},"Gemäß Ausbildungsordnung des DTV wurde eine Leistung für den Lizenzerwerb (10-Tänze-Gold) erbracht."]
[]
["Unterschriften Abnehmer/innen:",{"$nulls":8},"Unterschriften Abnehmer/innen:"]
[]
[]
[{"$f":"Anmeldung!$L$19","v":"00:00:00"},null,null,null,{"$f":"Anmeldung!$L$20","v":0},null,null,{"$f":"Anmeldung!$L$21","v":0},null,{"$f":"Anmeldung!$L$19","v":"00:00:00"},null,null,null,{"$f":"Anmeldung!$L$20","v":0},null,null,{"$f":"Anmeldung!$L$21","v":0}]
["Abnahmekarte für das deutsche Tanzsportabzeichen DTSA",{"$nulls":8},"Abnahmekarte für das deutsche Tanzsportabzeichen DTSA"]
[{"$f":"Anmeldung!$E$7","v":"00:00:00"},null,{"$f":"Anmeldung!$E$8","v":0},{"$nulls":4},{"$f":"\"# \"&Datenerfassung!$H178","v":"# 169"},null,{"$f":"Anmeldung!$E$7","v":"00:00:00"},null,{"$f":"Anmeldung!$E$8","v":0},{"$nulls":4},{"$f":"\"# \"&Datenerfassung!$H179","v":"# 170"}]
["Vorname",null,{"$f":"Datenerfassung!$C178","v":0},null,null,null,"Der/die Bewerber/innen erkennen mit Unterschrift die DTSA-Verleihungsbedingungen an. \n",null,null,"Vorname",null,{"$f":"Datenerfassung!$C179","v":0},null,null,null,"Der/die Bewerber/innen erkennen mit Unterschrift die DTSA-Verleihungsbedingungen an. \n"]
["Nachname",null,{"$f":"Datenerfassung!$D178","v":0},{"$nulls":6},"Nachname",null,{"$f":"Datenerfassung!$D179","v":0}]
["Verein/Schule",null,{"$f":"Datenerfassung!$G178","v":"00:00:00"},{"$nulls":6},"Verein/Schule",null,{"$f":"Datenerfassung!$G179","v":"00:00:00"}]
[]
["Medaille",null,{"$f":"Datenerfassung!$B178","v":0},{"$nulls":6},"Medaille",null,{"$f":"Datenerfassung!$B179","v":0}]
[{"$nulls":6},"Anerkennung der Bedingungen durch Unterschrift",{"$nulls":8},"Anerkennung der Bedingungen durch Unterschrift"]
[]
[" Tanz bitte eintragen/ankreuzen",null,null,"Musik","Balancen","Bewegg.-\nAblauf","X =\nbestanden","spezielle Bemerkungen (Lob/Hinweis/Kritik)\nder/des Abnehmer/in",null," Tanz bitte eintragen/ankreuzen",null,null,"Musik","Balancen","Bewegg.-\nAblauf","X =\nbestanden","spezielle Bemerkungen (Lob/Hinweis/Kritik)\nder/des Abnehmer/in"]
[null,{"$f":"Datenerfassung!$AE178","v":"Langsamer Walzer"},{"$nulls":8},{"$f":"Datenerfassung!$AE179","v":"Langsamer Walzer"}]
[null,{"$f":"Datenerfassung!$AF178","v":"Tango"},{"$nulls":8},{"$f":"Datenerfassung!$AF179","v":"Tango"}]
[null,{"$f":"Datenerfassung!$AG178","v":"Wiener Walzer"},{"$nulls":8},{"$f":"Datenerfassung!$AG179","v":"Wiener Walzer"}]
[null,{"$f":"Datenerfassung!$AH178","v":"Slowfox"},{"$nulls":8},{"$f":"Datenerfassung!$AH179","v":"Slowfox"}]
[null,{"$f":"Datenerfassung!$AI178","v":"Quickstep"},{"$nulls":8},{"$f":"Datenerfassung!$AI179","v":"Quickstep"}]
[null,{"$f":"Datenerfassung!$AJ178","v":"Samba"},{"$nulls":8},{"$f":"Datenerfassung!$AJ179","v":"Samba"}]
[null,{"$f":"Datenerfassung!$AK178","v":"Chachacha"},{"$nulls":8},{"$f":"Datenerfassung!$AK179","v":"Chachacha"}]
[null,{"$f":"Datenerfassung!$AL178","v":"Rumba"},{"$nulls":8},{"$f":"Datenerfassung!$AL179","v":"Rumba"}]
[null,{"$f":"Datenerfassung!$AM178","v":"Paso Doble"},{"$nulls":8},{"$f":"Datenerfassung!$AM179","v":"Paso Doble"}]
[null,{"$f":"Datenerfassung!$AN178","v":"Jive"},{"$nulls":8},{"$f":"Datenerfassung!$AN179","v":"Jive"}]
[null,{"$f":"Datenerfassung!$AO178","v":"Discofox"},{"$nulls":8},{"$f":"Datenerfassung!$AO179","v":"Discofox"}]
[]
[null,"Gemäß Ausbildungsordnung des DTV wurde eine Leistung für den Lizenzerwerb (10-Tänze-Gold) erbracht.",{"$nulls":8},"Gemäß Ausbildungsordnung des DTV wurde eine Leistung für den Lizenzerwerb (10-Tänze-Gold) erbracht."]
[]
["Unterschriften Abnehmer/innen:",{"$nulls":8},"Unterschriften Abnehmer/innen:"]
[]
[]
[{"$f":"Anmeldung!$L$19","v":"00:00:00"},null,null,null,{"$f":"Anmeldung!$L$20","v":0},null,null,{"$f":"Anmeldung!$L$21","v":0},null,{"$f":"Anmeldung!$L$19","v":"00:00:00"},null,null,null,{"$f":"Anmeldung!$L$20","v":0},null,null,{"$f":"Anmeldung!$L$21","v":0}]
["Abnahmekarte für das deutsche Tanzsportabzeichen DTSA",{"$nulls":8},"Abnahmekarte für das deutsche Tanzsportabzeichen DTSA"]
[{"$f":"Anmeldung!$E$7","v":"00:00:00"},null,{"$f":"Anmeldung!$E$8","v":0},{"$nulls":4},{"$f":"\"# \"&Datenerfassung!$H180","v":"# 171"},null,{"$f":"Anmeldung!$E$7","v":"00:00:00"},null,{"$f":"Anmeldung!$E$8","v":0},{"$nulls":4},{"$f":"\"# \"&Datenerfassung!$H181","v":"# 172"}]
["Vorname",null,{"$f":"Datenerfassung!$C180","v":0},null,null,null,"Der/die Bewerber/innen erkennen mit Unterschrift die DTSA-Verleihungsbedingungen an. \n",null,null,"Vorname",null,{"$f":"Datenerfassung!$C181","v":0},null,null,null,"Der/die Bewerber/innen erkennen mit Unterschrift die DTSA-Verleihungsbedingungen an. \n"]
["Nachname",null,{"$f":"Datenerfassung!$D180","v":0},{"$nulls":6},"Nachname",null,{"$f":"Datenerfassung!$D181","v":0}]
["Verein/Schule",null,{"$f":"Datenerfassung!$G180","v":"00:00:00"},{"$nulls":6},"Verein/Schule",null,{"$f":"Datenerfassung!$G181","v":"00:00:00"}]
[]
["Medaille",null,{"$f":"Datenerfassung!$B180","v":0},{"$nulls":6},"Medaille",null,{"$f":"Datenerfassung!$B181","v":0}]
[{"$nulls":6},"Anerkennung der Bedingungen durch Unterschrift",{"$nulls":8},"Anerkennung der Bedingungen durch Unterschrift"]
[]
[" Tanz bitte eintragen/ankreuzen",null,null,"Musik","Balancen","Bewegg.-\nAblauf","X =\nbestanden","spezielle Bemerkungen (Lob/Hinweis/Kritik)\nder/des Abnehmer/in",null," Tanz bitte eintragen/ankreuzen",null,null,"Musik","Balancen","Bewegg.-\nAblauf","X =\nbestanden","spezielle Bemerkungen (Lob/Hinweis/Kritik)\nder/des Abnehmer/in"]
[null,{"$f":"Datenerfassung!$AE180","v":"Langsamer Walzer"},{"$nulls":8},{"$f":"Datenerfassung!$AE181","v":"Langsamer Walzer"}]
[null,{"$f":"Datenerfassung!$AF180","v":"Tango"},{"$nulls":8},{"$f":"Datenerfassung!$AF181","v":"Tango"}]
[null,{"$f":"Datenerfassung!$AG180","v":"Wiener Walzer"},{"$nulls":8},{"$f":"Datenerfassung!$AG181","v":"Wiener Walzer"}]
[null,{"$f":"Datenerfassung!$AH180","v":"Slowfox"},{"$nulls":8},{"$f":"Datenerfassung!$AH181","v":"Slowfox"}]
[null,{"$f":"Datenerfassung!$AI180","v":"Quickstep"},{"$nulls":8},{"$f":"Datenerfassung!$AI181","v":"Quickstep"}]
[null,{"$f":"Datenerfassung!$AJ180","v":"Samba"},{"$nulls":8},{"$f":"Datenerfassung!$AJ181","v":"Samba"}]
[null,{"$f":"Datenerfassung!$AK180","v":"Chachacha"},{"$nulls":8},{"$f":"Datenerfassung!$AK181","v":"Chachacha"}]
[null,{"$f":"Datenerfassung!$AL180","v":"Rumba"},{"$nulls":8},{"$f":"Datenerfassung!$AL181","v":"Rumba"}]
[null,{"$f":"Datenerfassung!$AM180","v":"Paso Doble"},{"$nulls":8},{"$f":"Datenerfassung!$AM181","v":"Paso Doble"}]
[null,{"$f":"Datenerfassung!$AN180","v":"Jive"},{"$nulls":8},{"$f":"Datenerfassung!$AN181","v":"Jive"}]
[null,{"$f":"Datenerfassung!$AO180","v":"Discofox"},{"$nulls":8},{"$f":"Datenerfassung!$AO181","v":"Discofox"}]
[]
[null,"Gemäß Ausbildungsordnung des DTV wurde eine Leistung für den Lizenzerwerb (10-Tänze-Gold) erbracht.",{"$nulls":8},"Gemäß Ausbildungsordnung des DTV wurde eine Leistung für den Lizenzerwerb (10-Tänze-Gold) erbracht."]
[]
["Unterschriften Abnehmer/innen:",{"$nulls":8},"Unterschriften Abnehmer/innen:"]
[]
[]
[{"$f":"Anmeldung!$L$19","v":"00:00:00"},null,null,null,{"$f":"Anmeldung!$L$20","v":0},null,null,{"$f":"Anmeldung!$L$21","v":0},null,{"$f":"Anmeldung!$L$19","v":"00:00:00"},null,null,null,{"$f":"Anmeldung!$L$20","v":0},null,null,{"$f":"Anmeldung!$L$21","v":0}]
["Abnahmekarte für das deutsche Tanzsportabzeichen DTSA",{"$nulls":8},"Abnahmekarte für das deutsche Tanzsportabzeichen DTSA"]
[{"$f":"Anmeldung!$E$7","v":"00:00:00"},null,{"$f":"Anmeldung!$E$8","v":0},{"$nulls":4},{"$f":"\"# \"&Datenerfassung!$H182","v":"# 173"},null,{"$f":"Anmeldung!$E$7","v":"00:00:00"},null,{"$f":"Anmeldung!$E$8","v":0},{"$nulls":4},{"$f":"\"# \"&Datenerfassung!$H183","v":"# 174"}]
["Vorname",null,{"$f":"Datenerfassung!$C182","v":0},null,null,null,"Der/die Bewerber/innen erkennen mit Unterschrift die DTSA-Verleihungsbedingungen an. \n",null,null,"Vorname",null,{"$f":"Datenerfassung!$C183","v":0},null,null,null,"Der/die Bewerber/innen erkennen mit Unterschrift die DTSA-Verleihungsbedingungen an. \n"]
["Nachname",null,{"$f":"Datenerfassung!$D182","v":0},{"$nulls":6},"Nachname",null,{"$f":"Datenerfassung!$D183","v":0}]
["Verein/Schule",null,{"$f":"Datenerfassung!$G182","v":"00:00:00"},{"$nulls":6},"Verein/Schule",null,{"$f":"Datenerfassung!$G183","v":"00:00:00"}]
[]
["Medaille",null,{"$f":"Datenerfassung!$B182","v":0},{"$nulls":6},"Medaille",null,{"$f":"Datenerfassung!$B183","v":0}]
[{"$nulls":6},"Anerkennung der Bedingungen durch Unterschrift",{"$nulls":8},"Anerkennung der Bedingungen durch Unterschrift"]
[]
[" Tanz bitte eintragen/ankreuzen",null,null,"Musik","Balancen","Bewegg.-\nAblauf","X =\nbestanden","spezielle Bemerkungen (Lob/Hinweis/Kritik)\nder/des Abnehmer/in",null," Tanz bitte eintragen/ankreuzen",null,null,"Musik","Balancen","Bewegg.-\nAblauf","X =\nbestanden","spezielle Bemerkungen (Lob/Hinweis/Kritik)\nder/des Abnehmer/in"]
[null,{"$f":"Datenerfassung!$AE182","v":"Langsamer Walzer"},{"$nulls":8},{"$f":"Datenerfassung!$AE183","v":"Langsamer Walzer"}]
[null,{"$f":"Datenerfassung!$AF182","v":"Tango"},{"$nulls":8},{"$f":"Datenerfassung!$AF183","v":"Tango"}]
[null,{"$f":"Datenerfassung!$AG182","v":"Wiener Walzer"},{"$nulls":8},{"$f":"Datenerfassung!$AG183","v":"Wiener Walzer"}]
[null,{"$f":"Datenerfassung!$AH182","v":"Slowfox"},{"$nulls":8},{"$f":"Datenerfassung!$AH183","v":"Slowfox"}]
[null,{"$f":"Datenerfassung!$AI182","v":"Quickstep"},{"$nulls":8},{"$f":"Datenerfassung!$AI183","v":"Quickstep"}]
[null,{"$f":"Datenerfassung!$AJ182","v":"Samba"},{"$nulls":8},{"$f":"Datenerfassung!$AJ183","v":"Samba"}]
[null,{"$f":"Datenerfassung!$AK182","v":"Chachacha"},{"$nulls":8},{"$f":"Datenerfassung!$AK183","v":"Chachacha"}]
[null,{"$f":"Datenerfassung!$AL182","v":"Rumba"},{"$nulls":8},{"$f":"Datenerfassung!$AL183","v":"Rumba"}]
[null,{"$f":"Datenerfassung!$AM182","v":"Paso Doble"},{"$nulls":8},{"$f":"Datenerfassung!$AM183","v":"Paso Doble"}]
[null,{"$f":"Datenerfassung!$AN182","v":"Jive"},{"$nulls":8},{"$f":"Datenerfassung!$AN183","v":"Jive"}]
[null,{"$f":"Datenerfassung!$AO182","v":"Discofox"},{"$nulls":8},{"$f":"Datenerfassung!$AO183","v":"Discofox"}]
[]
[null,"Gemäß Ausbildungsordnung des DTV wurde eine Leistung für den Lizenzerwerb (10-Tänze-Gold) erbracht.",{"$nulls":8},"Gemäß Ausbildungsordnung des DTV wurde eine Leistung für den Lizenzerwerb (10-Tänze-Gold) erbracht."]
[]
["Unterschriften Abnehmer/innen:",{"$nulls":8},"Unterschriften Abnehmer/innen:"]
[]
[]
[{"$f":"Anmeldung!$L$19","v":"00:00:00"},null,null,null,{"$f":"Anmeldung!$L$20","v":0},null,null,{"$f":"Anmeldung!$L$21","v":0},null,{"$f":"Anmeldung!$L$19","v":"00:00:00"},null,null,null,{"$f":"Anmeldung!$L$20","v":0},null,null,{"$f":"Anmeldung!$L$21","v":0}]
["Abnahmekarte für das deutsche Tanzsportabzeichen DTSA",{"$nulls":8},"Abnahmekarte für das deutsche Tanzsportabzeichen DTSA"]
[{"$f":"Anmeldung!$E$7","v":"00:00:00"},null,{"$f":"Anmeldung!$E$8","v":0},{"$nulls":4},{"$f":"\"# \"&Datenerfassung!$H184","v":"# 175"},null,{"$f":"Anmeldung!$E$7","v":"00:00:00"},null,{"$f":"Anmeldung!$E$8","v":0},{"$nulls":4},{"$f":"\"# \"&Datenerfassung!$H185","v":"# 176"}]
["Vorname",null,{"$f":"Datenerfassung!$C184","v":0},null,null,null,"Der/die Bewerber/innen erkennen mit Unterschrift die DTSA-Verleihungsbedingungen an. \n",null,null,"Vorname",null,{"$f":"Datenerfassung!$C185","v":0},null,null,null,"Der/die Bewerber/innen erkennen mit Unterschrift die DTSA-Verleihungsbedingungen an. \n"]
["Nachname",null,{"$f":"Datenerfassung!$D184","v":0},{"$nulls":6},"Nachname",null,{"$f":"Datenerfassung!$D185","v":0}]
["Verein/Schule",null,{"$f":"Datenerfassung!$G184","v":"00:00:00"},{"$nulls":6},"Verein/Schule",null,{"$f":"Datenerfassung!$G185","v":"00:00:00"}]
[]
["Medaille",null,{"$f":"Datenerfassung!$B184","v":0},{"$nulls":6},"Medaille",null,{"$f":"Datenerfassung!$B185","v":0}]
[{"$nulls":6},"Anerkennung der Bedingungen durch Unterschrift",{"$nulls":8},"Anerkennung der Bedingungen durch Unterschrift"]
[]
[" Tanz bitte eintragen/ankreuzen",null,null,"Musik","Balancen","Bewegg.-\nAblauf","X =\nbestanden","spezielle Bemerkungen (Lob/Hinweis/Kritik)\nder/des Abnehmer/in",null," Tanz bitte eintragen/ankreuzen",null,null,"Musik","Balancen","Bewegg.-\nAblauf","X =\nbestanden","spezielle Bemerkungen (Lob/Hinweis/Kritik)\nder/des Abnehmer/in"]
[null,{"$f":"Datenerfassung!$AE184","v":"Langsamer Walzer"},{"$nulls":8},{"$f":"Datenerfassung!$AE185","v":"Langsamer Walzer"}]
[null,{"$f":"Datenerfassung!$AF184","v":"Tango"},{"$nulls":8},{"$f":"Datenerfassung!$AF185","v":"Tango"}]
[null,{"$f":"Datenerfassung!$AG184","v":"Wiener Walzer"},{"$nulls":8},{"$f":"Datenerfassung!$AG185","v":"Wiener Walzer"}]
[null,{"$f":"Datenerfassung!$AH184","v":"Slowfox"},{"$nulls":8},{"$f":"Datenerfassung!$AH185","v":"Slowfox"}]
[null,{"$f":"Datenerfassung!$AI184","v":"Quickstep"},{"$nulls":8},{"$f":"Datenerfassung!$AI185","v":"Quickstep"}]
[null,{"$f":"Datenerfassung!$AJ184","v":"Samba"},{"$nulls":8},{"$f":"Datenerfassung!$AJ185","v":"Samba"}]
[null,{"$f":"Datenerfassung!$AK184","v":"Chachacha"},{"$nulls":8},{"$f":"Datenerfassung!$AK185","v":"Chachacha"}]
[null,{"$f":"Datenerfassung!$AL184","v":"Rumba"},{"$nulls":8},{"$f":"Datenerfassung!$AL185","v":"Rumba"}]
[null,{"$f":"Datenerfassung!$AM184","v":"Paso Doble"},{"$nulls":8},{"$f":"Datenerfassung!$AM185","v":"Paso Doble"}]
[null,{"$f":"Datenerfassung!$AN184","v":"Jive"},{"$nulls":8},{"$f":"Datenerfassung!$AN185","v":"Jive"}]
[null,{"$f":"Datenerfassung!$AO184","v":"Discofox"},{"$nulls":8},{"$f":"Datenerfassung!$AO185","v":"Discofox"}]
[]
[null,"Gemäß Ausbildungsordnung des DTV wurde eine Leistung für den Lizenzerwerb (10-Tänze-Gold) erbracht.",{"$nulls":8},"Gemäß Ausbildungsordnung des DTV wurde eine Leistung für den Lizenzerwerb (10-Tänze-Gold) erbracht."]
[]
["Unterschriften Abnehmer/innen:",{"$nulls":8},"Unterschriften Abnehmer/innen:"]
[]
[]
[{"$f":"Anmeldung!$L$19","v":"00:00:00"},null,null,null,{"$f":"Anmeldung!$L$20","v":0},null,null,{"$f":"Anmeldung!$L$21","v":0},null,{"$f":"Anmeldung!$L$19","v":"00:00:00"},null,null,null,{"$f":"Anmeldung!$L$20","v":0},null,null,{"$f":"Anmeldung!$L$21","v":0}]
["Abnahmekarte für das deutsche Tanzsportabzeichen DTSA",{"$nulls":8},"Abnahmekarte für das deutsche Tanzsportabzeichen DTSA"]
[{"$f":"Anmeldung!$E$7","v":"00:00:00"},null,{"$f":"Anmeldung!$E$8","v":0},{"$nulls":4},{"$f":"\"# \"&Datenerfassung!$H186","v":"# 177"},null,{"$f":"Anmeldung!$E$7","v":"00:00:00"},null,{"$f":"Anmeldung!$E$8","v":0},{"$nulls":4},{"$f":"\"# \"&Datenerfassung!$H187","v":"# 178"}]
["Vorname",null,{"$f":"Datenerfassung!$C186","v":0},null,null,null,"Der/die Bewerber/innen erkennen mit Unterschrift die DTSA-Verleihungsbedingungen an. \n",null,null,"Vorname",null,{"$f":"Datenerfassung!$C187","v":0},null,null,null,"Der/die Bewerber/innen erkennen mit Unterschrift die DTSA-Verleihungsbedingungen an. \n"]
["Nachname",null,{"$f":"Datenerfassung!$D186","v":0},{"$nulls":6},"Nachname",null,{"$f":"Datenerfassung!$D187","v":0}]
["Verein/Schule",null,{"$f":"Datenerfassung!$G186","v":"00:00:00"},{"$nulls":6},"Verein/Schule",null,{"$f":"Datenerfassung!$G187","v":"00:00:00"}]
[]
["Medaille",null,{"$f":"Datenerfassung!$B186","v":0},{"$nulls":6},"Medaille",null,{"$f":"Datenerfassung!$B187","v":0}]
[{"$nulls":6},"Anerkennung der Bedingungen durch Unterschrift",{"$nulls":8},"Anerkennung der Bedingungen durch Unterschrift"]
[]
[" Tanz bitte eintragen/ankreuzen",null,null,"Musik","Balancen","Bewegg.-\nAblauf","X =\nbestanden","spezielle Bemerkungen (Lob/Hinweis/Kritik)\nder/des Abnehmer/in",null," Tanz bitte eintragen/ankreuzen",null,null,"Musik","Balancen","Bewegg.-\nAblauf","X =\nbestanden","spezielle Bemerkungen (Lob/Hinweis/Kritik)\nder/des Abnehmer/in"]
[null,{"$f":"Datenerfassung!$AE186","v":"Langsamer Walzer"},{"$nulls":8},{"$f":"Datenerfassung!$AE187","v":"Langsamer Walzer"}]
[null,{"$f":"Datenerfassung!$AF186","v":"Tango"},{"$nulls":8},{"$f":"Datenerfassung!$AF187","v":"Tango"}]
[null,{"$f":"Datenerfassung!$AG186","v":"Wiener Walzer"},{"$nulls":8},{"$f":"Datenerfassung!$AG187","v":"Wiener Walzer"}]
[null,{"$f":"Datenerfassung!$AH186","v":"Slowfox"},{"$nulls":8},{"$f":"Datenerfassung!$AH187","v":"Slowfox"}]
[null,{"$f":"Datenerfassung!$AI186","v":"Quickstep"},{"$nulls":8},{"$f":"Datenerfassung!$AI187","v":"Quickstep"}]
[null,{"$f":"Datenerfassung!$AJ186","v":"Samba"},{"$nulls":8},{"$f":"Datenerfassung!$AJ187","v":"Samba"}]
[null,{"$f":"Datenerfassung!$AK186","v":"Chachacha"},{"$nulls":8},{"$f":"Datenerfassung!$AK187","v":"Chachacha"}]
[null,{"$f":"Datenerfassung!$AL186","v":"Rumba"},{"$nulls":8},{"$f":"Datenerfassung!$AL187","v":"Rumba"}]
[null,{"$f":"Datenerfassung!$AM186","v":"Paso Doble"},{"$nulls":8},{"$f":"Datenerfassung!$AM187","v":"Paso Doble"}]
[null,{"$f":"Datenerfassung!$AN186","v":"Jive"},{"$nulls":8},{"$f":"Datenerfassung!$AN187","v":"Jive"}]
[null,{"$f":"Datenerfassung!$AO186","v":"Discofox"},{"$nulls":8},{"$f":"Datenerfassung!$AO187","v":"Discofox"}]
[]
[null,"Gemäß Ausbildungsordnung des DTV wurde eine Leistung für den Lizenzerwerb (10-Tänze-Gold) erbracht.",{"$nulls":8},"Gemäß Ausbildungsordnung des DTV wurde eine Leistung für den Lizenzerwerb (10-Tänze-Gold) erbracht."]
[]
["Unterschriften Abnehmer/innen:",{"$nulls":8},"Unterschriften Abnehmer/innen:"]
[]
[]
[{"$f":"Anmeldung!$L$19","v":"00:00:00"},null,null,null,{"$f":"Anmeldung!$L$20","v":0},null,null,{"$f":"Anmeldung!$L$21","v":0},null,{"$f":"Anmeldung!$L$19","v":"00:00:00"},null,null,null,{"$f":"Anmeldung!$L$20","v":0},null,null,{"$f":"Anmeldung!$L$21","v":0}]
["Abnahmekarte für das deutsche Tanzsportabzeichen DTSA",{"$nulls":8},"Abnahmekarte für das deutsche Tanzsportabzeichen DTSA"]
[{"$f":"Anmeldung!$E$7","v":"00:00:00"},null,{"$f":"Anmeldung!$E$8","v":0},{"$nulls":4},{"$f":"\"# \"&Datenerfassung!$H188","v":"# 179"},null,{"$f":"Anmeldung!$E$7","v":"00:00:00"},null,{"$f":"Anmeldung!$E$8","v":0},{"$nulls":4},{"$f":"\"# \"&Datenerfassung!$H189","v":"# 180"}]
["Vorname",null,{"$f":"Datenerfassung!$C188","v":0},null,null,null,"Der/die Bewerber/innen erkennen mit Unterschrift die DTSA-Verleihungsbedingungen an. \n",null,null,"Vorname",null,{"$f":"Datenerfassung!$C189","v":0},null,null,null,"Der/die Bewerber/innen erkennen mit Unterschrift die DTSA-Verleihungsbedingungen an. \n"]
["Nachname",null,{"$f":"Datenerfassung!$D188","v":0},{"$nulls":6},"Nachname",null,{"$f":"Datenerfassung!$D189","v":0}]
["Verein/Schule",null,{"$f":"Datenerfassung!$G188","v":"00:00:00"},{"$nulls":6},"Verein/Schule",null,{"$f":"Datenerfassung!$G189","v":"00:00:00"}]
[]
["Medaille",null,{"$f":"Datenerfassung!$B188","v":0},{"$nulls":6},"Medaille",null,{"$f":"Datenerfassung!$B189","v":0}]
[{"$nulls":6},"Anerkennung der Bedingungen durch Unterschrift",{"$nulls":8},"Anerkennung der Bedingungen durch Unterschrift"]
[]
[" Tanz bitte eintragen/ankreuzen",null,null,"Musik","Balancen","Bewegg.-\nAblauf","X =\nbestanden","spezielle Bemerkungen (Lob/Hinweis/Kritik)\nder/des Abnehmer/in",null," Tanz bitte eintragen/ankreuzen",null,null,"Musik","Balancen","Bewegg.-\nAblauf","X =\nbestanden","spezielle Bemerkungen (Lob/Hinweis/Kritik)\nder/des Abnehmer/in"]
[null,{"$f":"Datenerfassung!$AE188","v":"Langsamer Walzer"},{"$nulls":8},{"$f":"Datenerfassung!$AE189","v":"Langsamer Walzer"}]
[null,{"$f":"Datenerfassung!$AF188","v":"Tango"},{"$nulls":8},{"$f":"Datenerfassung!$AF189","v":"Tango"}]
[null,{"$f":"Datenerfassung!$AG188","v":"Wiener Walzer"},{"$nulls":8},{"$f":"Datenerfassung!$AG189","v":"Wiener Walzer"}]
[null,{"$f":"Datenerfassung!$AH188","v":"Slowfox"},{"$nulls":8},{"$f":"Datenerfassung!$AH189","v":"Slowfox"}]
[null,{"$f":"Datenerfassung!$AI188","v":"Quickstep"},{"$nulls":8},{"$f":"Datenerfassung!$AI189","v":"Quickstep"}]
[null,{"$f":"Datenerfassung!$AJ188","v":"Samba"},{"$nulls":8},{"$f":"Datenerfassung!$AJ189","v":"Samba"}]
[null,{"$f":"Datenerfassung!$AK188","v":"Chachacha"},{"$nulls":8},{"$f":"Datenerfassung!$AK189","v":"Chachacha"}]
[null,{"$f":"Datenerfassung!$AL188","v":"Rumba"},{"$nulls":8},{"$f":"Datenerfassung!$AL189","v":"Rumba"}]
[null,{"$f":"Datenerfassung!$AM188","v":"Paso Doble"},{"$nulls":8},{"$f":"Datenerfassung!$AM189","v":"Paso Doble"}]
[null,{"$f":"Datenerfassung!$AN188","v":"Jive"},{"$nulls":8},{"$f":"Datenerfassung!$AN189","v":"Jive"}]
[null,{"$f":"Datenerfassung!$AO188","v":"Discofox"},{"$nulls":8},{"$f":"Datenerfassung!$AO189","v":"Discofox"}]
[]
[null,"Gemäß Ausbildungsordnung des DTV wurde eine Leistung für den Lizenzerwerb (10-Tänze-Gold) erbracht.",{"$nulls":8},"Gemäß Ausbildungsordnung des DTV wurde eine Leistung für den Lizenzerwerb (10-Tänze-Gold) erbracht."]
[]
["Unterschriften Abnehmer/innen:",{"$nulls":8},"Unterschriften Abnehmer/innen:"]
[]
[]
[{"$f":"Anmeldung!$L$19","v":"00:00:00"},null,null,null,{"$f":"Anmeldung!$L$20","v":0},null,null,{"$f":"Anmeldung!$L$21","v":0},null,{"$f":"Anmeldung!$L$19","v":"00:00:00"},null,null,null,{"$f":"Anmeldung!$L$20","v":0},null,null,{"$f":"Anmeldung!$L$21","v":0}]

{"sheet":"Einzel 181-200","index":12,"n_rows":280,"n_cols":17,"rows_kept":280,"cut":false,"hidden":false,"merged":[[274,1,274,7],[274,10,274,16],[276,0,276,7],[276,9,276,16],[279,4,279,6],[279,13,279,15],[270,1,270,2],[270,10,270,11],[271,1,271,2],[271,10,271,11],[272,1,272,2],[272,10,272,11],[267,1,267,2],[267,10,267,11],[268,1,268,2],[268,10,268,11],[269,1,269,2],[269,10,269,11],[264,1,264,2],[264,10,264,11],[265,1,265,2],[265,10,265,11],[266,1,266,2],[266,10,266,11],[261,0,261,2],[261,9,261,11],[262,1,262,2],[262,10,262,11],[263,1,263,2],[263,10,263,11],[258,2,258,5],[258,6,258,7],[258,11,258,14],[258,15,258,16],[259,2,259,5],[259,11,259,14],[254,2,254,5],[254,6,256,7],[254,11,254,14],[254,15,256,16],[255,2,255,5],[255,11,255,14],[256,2,256,5],[256,11,256,14],[251,4,251,6],[251,13,251,15],[253,0,253,1],[253,2,253,6],[253,9,253,10],[253,11,253,15],[244,1,244,2],[244,10,244,11],[246,1,246,7],[246,10,246,16],[248,0,248,7],[248,9,248,16],[241,1,241,2],[241,10,241,11],[242,1,242,2],[242,10,242,11],[243,1,243,2],[243,10,243,11],[238,1,238,2],[238,10,238,11],[239,1,239,2],[239,10,239,11],[240,1,240,2],[240,10,240,11],[235,1,235,2],[235,10,235,11],[236,1,236,2],[236,10,236,11],[237,1,237,2],[237,10,237,11],[230,15,230,16],[231,2,231,5],[231,11,231,14],[233,0,233,2],[233,9,233,11],[234,1,234,2],[234,10,234,11],[228,2,228,5],[228,11,228,14],[230,2,230,5],[230,6,230,7],[230,11,230,14],[225,0,225,1],[225,2,225,6],[225,9,225,10],[225,11,225,15],[226,2,226,5],[226,6,228,7],[226,11,226,14],[226,15,228,16],[227,2,227,5],[227,11,227,14],[218,1,218,7],[218,10,218,16],[220,0,220,7],[220,9,220,16],[223,4,223,6],[223,13,223,15],[214,1,214,2],[214,10,214,11],[215,1,215,2],[215,10,215,11],[216,1,216,2],[216,10,216,11],[211,1,211,2],[211,10,211,11],[212,1,212,2],[212,10,212,11],[213,1,213,2],[213,10,213,11],[208,1,208,2],[208,10,208,11],[209,1,209,2],[209,10,209,11],[210,1,210,2],[210,10,210,11],[205,0,205,2],[205,9,205,11],[206,1,206,2],[206,10,206,11],[207,1,207,2],[207,10,207,11],[202,2,202,5],[202,6,202,7],[202,11,202,14],[202,15,202,16],[203,2,203,5],[203,11,203,14],[198,2,198,5],[198,6,200,7],[198,11,198,14],[198,15,200,16],[199,2,199,5],[199,11,199,14],[200,2,200,5],[200,11,200,14],[195,4,195,6],[195,13,195,15],[197,0,197,1],[197,2,197,6],[197,9,197,10],[197,11,197,15],[188,1,188,2],[188,10,188,11],[190,1,190,7],[190,10,190,16],[192,0,192,7],[192,9,192,16],[185,1,185,2],[185,10,185,11],[186,1,186,2],[186,10,186,11],[187,1,187,2],[187,10,187,11],[182,1,182,2],[182,10,182,11],[183,1,183,2],[183,10,183,11],[184,1,184,2],[184,10,184,11],[179,1,179,2],[179,10,179,11],[180,1,180,2],[180,10,180,11],[181,1,181,2],[181,10,181,11],[174,15,174,16],[175,2,175,5],[175,11,175,14],[177,0,177,2],[177,9,177,11],[178,1,178,2],[178,10,178,11],[172,2,172,5],[172,11,172,14],[174,2,174,5],[174,6,174,7],[174,11,174,14],[169,0,169,1],[169,2,169,6],[169,9,169,10],[169,11,169,15],[170,2,170,5],[170,6,172,7],[170,11,170,14],[170,15,172,16],[171,2,171,5],[171,11,171,14],[162,1,162,7],[162,10,162,16],[164,0,164,7],[164,9,164,16],[167,4,167,6],[167,13,167,15],[158,1,158,2],[158,10,158,11],[159,1,159,2],[159,10,159,11],[160,1,160,2],[160,10,160,11],[155,1,155,2],[155,10,155,11],[156,1,156,2],[156,10,156,11],[157,1,157,2],[157,10,157,11],[152,1,152,2],[152,10,152,11],[153,1,153,2],[153,10,153,11],[154,1,154,2],[154,10,154,11],[149,0,149,2],[149,9,149,11],[150,1,150,2],[150,10,150,11],[151,1,151,2],[151,10,151,11],[146,2,146,5],[146,6,146,7],[146,11,146,14],[146,15,146,16],[147,2,147,5],[147,11,147,14],[142,2,142,5],[142,6,144,7],[142,11,142,14],[142,15,144,16],[143,2,143,5],[143,11,143,14],[144,2,144,5],[144,11,144,14],[139,4,139,6],[139,13,139,15],[141,0,141,1],[141,2,141,6],[141,9,141,10],[141,11,141,15],[132,1,132,2],[132,10,132,11],[134,1,134,7],[134,10,134,16],[136,0,136,7],[136,9,136,16],[129,1,129,2],[129,10,129,11],[130,1,130,2],[130,10,130,11],[131,1,131,2],[131,10,131,11],[126,1,126,2],[126,10,126,11],[127,1,127,2],[127,10,127,11],[128,1,128,2],[128,10,128,11],[123,1,123,2],[123,10,123,11],[124,1,124,2],[124,10,124,11],[125,1,125,2],[125,10,125,11],[118,15,118,16],[119,2,119,5],[119,11,119,14],[121,0,121,2],[121,9,121,11],[122,1,122,2],[122,10,122,11],[116,2,116,5],[116,11,116,14],[118,2,118,5],[118,6,118,7],[118,11,118,14],[113,0,113,1],[113,2,113,6],[113,9,113,10],[113,11,113,15],[114,2,114,5],[114,6,116,7],[114,11,114,14],[114,15,116,16],[115,2,115,5],[115,11,115,14],[106,1,106,7],[106,10,106,16],[108,0,108,7],[108,9,108,16],[111,4,111,6],[111,13,111,15],[102,1,102,2],[102,10,102,11],[103,1,103,2],[103,10,103,11],[104,1,104,2],[104,10,104,11],[99,1,99,2],[99,10,99,11],[100,1,100,2],[100,10,100,11],[101,1,101,2],[101,10,101,11],[96,1,96,2],[96,10,96,11],[97,1,97,2],[97,10,97,11],[98,1,98,2],[98,10,98,11],[93,0,93,2],[93,9,93,11],[94,1,94,2],[94,10,94,11],[95,1,95,2],[95,10,95,11],[90,2,90,5],[90,6,90,7],[90,11,90,14],[90,15,90,16],[91,2,91,5],[91,11,91,14],[86,2,86,5],[86,6,88,7],[86,11,86,14],[86,15,88,16],[87,2,87,5],[87,11,87,14],[88,2,88,5],[88,11,88,14],[83,4,83,6],[83,13,83,15],[85,0,85,1],[85,2,85,6],[85,9,85,10],[85,11,85,15],[76,1,76,2],[76,10,76,11],[78,1,78,7],[78,10,78,16],[80,0,80,7],[80,9,80,16],[73,1,73,2],[73,10,73,11],[74,1,74,2],[74,10,74,11],[75,1,75,2],[75,10,75,11],[70,1,70,2],[70,10,70,11],[71,1,71,2],[71,10,71,11],[72,1,72,2],[72,10,72,11],[67,1,67,2],[67,10,67,11],[68,1,68,2],[68,10,68,11],[69,1,69,2],[69,10,69,11],[62,15,62,16],[63,2,63,5],[63,11,63,14],[65,0,65,2],[65,9,65,11],[66,1,66,2],[66,10,66,11],[60,2,60,5],[60,11,60,14],[62,2,62,5],[62,6,62,7],[62,11,62,14],[57,0,57,1],[57,2,57,6],[57,9,57,10],[57,11,57,15],[58,2,58,5],[58,6,60,7],[58,11,58,14],[58,15,60,16],[59,2,59,5],[59,11,59,14],[50,1,50,7],[50,10,50,16],[52,0,52,7],[52,9,52,16],[55,4,55,6],[55,13,55,15],[46,1,46,2],[46,10,46,11],[47,1,47,2],[47,10,47,11],[48,1,48,2],[48,10,48,11],[43,1,43,2],[43,10,43,11],[44,1,44,2],[44,10,44,11],[45,1,45,2],[45,10,45,11],[40,1,40,2],[40,10,40,11],[41,1,41,2],[41,10,41,11],[42,1,42,2],[42,10,42,11],[37,0,37,2],[37,9,37,11],[38,1,38,2],[38,10,38,11],[39,1,39,2],[39,10,39,11],[34,2,34,5],[34,6,34,7],[34,11,34,14],[34,15,34,16],[35,2,35,5],[35,11,35,14],[30,2,30,5],[30,6,32,7],[30,11,30,14],[30,15,32,16],[31,2,31,5],[31,11,31,14],[32,2,32,5],[32,11,32,14],[27,4,27,6],[27,13,27,15],[29,0,29,1],[29,2,29,6],[29,9,29,10],[29,11,29,15],[20,1,20,2],[20,10,20,11],[22,1,22,7],[22,10,22,16],[24,0,24,7],[24,9,24,16],[17,1,17,2],[17,10,17,11],[18,1,18,2],[18,10,18,11],[19,1,19,2],[19,10,19,11],[14,1,14,2],[14,10,14,11],[15,1,15,2],[15,10,15,11],[16,1,16,2],[16,10,16,11],[11,1,11,2],[11,10,11,11],[12,1,12,2],[12,10,12,11],[13,1,13,2],[13,10,13,11],[6,15,6,16],[7,2,7,5],[7,11,7,14],[9,0,9,2],[9,9,9,11],[10,1,10,2],[10,10,10,11],[4,2,4,5],[4,11,4,14],[6,2,6,5],[6,6,6,7],[6,11,6,14],[1,0,1,1],[1,2,1,6],[1,9,1,10],[1,11,1,15],[2,2,2,5],[2,6,4,7],[2,11,2,14],[2,15,4,16],[3,2,3,5],[3,11,3,14]]}
["Abnahmekarte für das deutsche Tanzsportabzeichen DTSA",{"$nulls":8},"Abnahmekarte für das deutsche Tanzsportabzeichen DTSA"]
[{"$f":"Anmeldung!$E$7","v":"00:00:00"},null,{"$f":"Anmeldung!$E$8","v":0},{"$nulls":4},{"$f":"\"# \"&Datenerfassung!$H190","v":"# 181"},null,{"$f":"Anmeldung!$E$7","v":"00:00:00"},null,{"$f":"Anmeldung!$E$8","v":0},{"$nulls":4},{"$f":"\"# \"&Datenerfassung!$H191","v":"# 182"}]
["Vorname",null,{"$f":"Datenerfassung!$C190","v":0},null,null,null,"Der/die Bewerber/innen erkennen mit Unterschrift die DTSA-Verleihungsbedingungen an. \n",null,null,"Vorname",null,{"$f":"Datenerfassung!$C191","v":0},null,null,null,"Der/die Bewerber/innen erkennen mit Unterschrift die DTSA-Verleihungsbedingungen an. \n"]
["Nachname",null,{"$f":"Datenerfassung!$D190","v":0},{"$nulls":6},"Nachname",null,{"$f":"Datenerfassung!$D191","v":0}]
["Verein/Schule",null,{"$f":"Datenerfassung!$G190","v":"00:00:00"},{"$nulls":6},"Verein/Schule",null,{"$f":"Datenerfassung!$G191","v":"00:00:00"}]
[]
["Medaille",null,{"$f":"Datenerfassung!$B190","v":0},{"$nulls":6},"Medaille",null,{"$f":"Datenerfassung!$B191","v":0}]
[{"$nulls":6},"Anerkennung der Bedingungen durch Unterschrift",{"$nulls":8},"Anerkennung der Bedingungen durch Unterschrift"]
[]
[" Tanz bitte eintragen/ankreuzen",null,null,"Musik","Balancen","Bewegg.-\nAblauf","X =\nbestanden","spezielle Bemerkungen (Lob/Hinweis/Kritik)\nder/des Abnehmer/in",null," Tanz bitte eintragen/ankreuzen",null,null,"Musik","Balancen","Bewegg.-\nAblauf","X =\nbestanden","spezielle Bemerkungen (Lob/Hinweis/Kritik)\nder/des Abnehmer/in"]
[null,{"$f":"Datenerfassung!$AE190","v":"Langsamer Walzer"},{"$nulls":8},{"$f":"Datenerfassung!$AE191","v":"Langsamer Walzer"}]
[null,{"$f":"Datenerfassung!$AF190","v":"Tango"},{"$nulls":8},{"$f":"Datenerfassung!$AF191","v":"Tango"}]
[null,{"$f":"Datenerfassung!$AG190","v":"Wiener Walzer"},{"$nulls":8},{"$f":"Datenerfassung!$AG191","v":"Wiener Walzer"}]
[null,{"$f":"Datenerfassung!$AH190","v":"Slowfox"},{"$nulls":8},{"$f":"Datenerfassung!$AH191","v":"Slowfox"}]
[null,{"$f":"Datenerfassung!$AI190","v":"Quickstep"},{"$nulls":8},{"$f":"Datenerfassung!$AI191","v":"Quickstep"}]
[null,{"$f":"Datenerfassung!$AJ190","v":"Samba"},{"$nulls":8},{"$f":"Datenerfassung!$AJ191","v":"Samba"}]
[null,{"$f":"Datenerfassung!$AK190","v":"Chachacha"},{"$nulls":8},{"$f":"Datenerfassung!$AK191","v":"Chachacha"}]
[null,{"$f":"Datenerfassung!$AL190","v":"Rumba"},{"$nulls":8},{"$f":"Datenerfassung!$AL191","v":"Rumba"}]
[null,{"$f":"Datenerfassung!$AM190","v":"Paso Doble"},{"$nulls":8},{"$f":"Datenerfassung!$AM191","v":"Paso Doble"}]
[null,{"$f":"Datenerfassung!$AN190","v":"Jive"},{"$nulls":8},{"$f":"Datenerfassung!$AN191","v":"Jive"}]
[null,{"$f":"Datenerfassung!$AO190","v":"Discofox"},{"$nulls":8},{"$f":"Datenerfassung!$AO191","v":"Discofox"}]
[]
[null,"Gemäß Ausbildungsordnung des DTV wurde eine Leistung für den Lizenzerwerb (10-Tänze-Gold) erbracht.",{"$nulls":8},"Gemäß Ausbildungsordnung des DTV wurde eine Leistung für den Lizenzerwerb (10-Tänze-Gold) erbracht."]
[]
["Unterschriften Abnehmer/innen:",{"$nulls":8},"Unterschriften Abnehmer/innen:"]
[]
[]
[{"$f":"Anmeldung!$L$19","v":"00:00:00"},null,null,null,{"$f":"Anmeldung!$L$20","v":0},null,null,{"$f":"Anmeldung!$L$21","v":0},null,{"$f":"Anmeldung!$L$19","v":"00:00:00"},null,null,null,{"$f":"Anmeldung!$L$20","v":0},null,null,{"$f":"Anmeldung!$L$21","v":0}]
["Abnahmekarte für das deutsche Tanzsportabzeichen DTSA",{"$nulls":8},"Abnahmekarte für das deutsche Tanzsportabzeichen DTSA"]
[{"$f":"Anmeldung!$E$7","v":"00:00:00"},null,{"$f":"Anmeldung!$E$8","v":0},{"$nulls":4},{"$f":"\"# \"&Datenerfassung!$H192","v":"# 183"},null,{"$f":"Anmeldung!$E$7","v":"00:00:00"},null,{"$f":"Anmeldung!$E$8","v":0},{"$nulls":4},{"$f":"\"# \"&Datenerfassung!$H193","v":"# 184"}]
["Vorname",null,{"$f":"Datenerfassung!$C192","v":0},null,null,null,"Der/die Bewerber/innen erkennen mit Unterschrift die DTSA-Verleihungsbedingungen an. \n",null,null,"Vorname",null,{"$f":"Datenerfassung!$C193","v":0},null,null,null,"Der/die Bewerber/innen erkennen mit Unterschrift die DTSA-Verleihungsbedingungen an. \n"]
["Nachname",null,{"$f":"Datenerfassung!$D192","v":0},{"$nulls":6},"Nachname",null,{"$f":"Datenerfassung!$D193","v":0}]
["Verein/Schule",null,{"$f":"Datenerfassung!$G192","v":"00:00:00"},{"$nulls":6},"Verein/Schule",null,{"$f":"Datenerfassung!$G193","v":"00:00:00"}]
[]
["Medaille",null,{"$f":"Datenerfassung!$B192","v":0},{"$nulls":6},"Medaille",null,{"$f":"Datenerfassung!$B193","v":0}]
[{"$nulls":6},"Anerkennung der Bedingungen durch Unterschrift",{"$nulls":8},"Anerkennung der Bedingungen durch Unterschrift"]
[]
[" Tanz bitte eintragen/ankreuzen",null,null,"Musik","Balancen","Bewegg.-\nAblauf","X =\nbestanden","spezielle Bemerkungen (Lob/Hinweis/Kritik)\nder/des Abnehmer/in",null," Tanz bitte eintragen/ankreuzen",null,null,"Musik","Balancen","Bewegg.-\nAblauf","X =\nbestanden","spezielle Bemerkungen (Lob/Hinweis/Kritik)\nder/des Abnehmer/in"]
[null,{"$f":"Datenerfassung!$AE192","v":"Langsamer Walzer"},{"$nulls":8},{"$f":"Datenerfassung!$AE193","v":"Langsamer Walzer"}]
[null,{"$f":"Datenerfassung!$AF192","v":"Tango"},{"$nulls":8},{"$f":"Datenerfassung!$AF193","v":"Tango"}]
[null,{"$f":"Datenerfassung!$AG192","v":"Wiener Walzer"},{"$nulls":8},{"$f":"Datenerfassung!$AG193","v":"Wiener Walzer"}]
[null,{"$f":"Datenerfassung!$AH192","v":"Slowfox"},{"$nulls":8},{"$f":"Datenerfassung!$AH193","v":"Slowfox"}]
[null,{"$f":"Datenerfassung!$AI192","v":"Quickstep"},{"$nulls":8},{"$f":"Datenerfassung!$AI193","v":"Quickstep"}]
[null,{"$f":"Datenerfassung!$AJ192","v":"Samba"},{"$nulls":8},{"$f":"Datenerfassung!$AJ193","v":"Samba"}]
[null,{"$f":"Datenerfassung!$AK192","v":"Chachacha"},{"$nulls":8},{"$f":"Datenerfassung!$AK193","v":"Chachacha"}]
[null,{"$f":"Datenerfassung!$AL192","v":"Rumba"},{"$nulls":8},{"$f":"Datenerfassung!$AL193","v":"Rumba"}]
[null,{"$f":"Datenerfassung!$AM192","v":"Paso Doble"},{"$nulls":8},{"$f":"Datenerfassung!$AM193","v":"Paso Doble"}]
[null,{"$f":"Datenerfassung!$AN192","v":"Jive"},{"$nulls":8},{"$f":"Datenerfassung!$AN193","v":"Jive"}]
[null,{"$f":"Datenerfassung!$AO192","v":"Discofox"},{"$nulls":8},{"$f":"Datenerfassung!$AO193","v":"Discofox"}]
[]
[null,"Gemäß Ausbildungsordnung des DTV wurde eine Leistung für den Lizenzerwerb (10-Tänze-Gold) erbracht.",{"$nulls":8},"Gemäß Ausbildungsordnung des DTV wurde eine Leistung für den Lizenzerwerb (10-Tänze-Gold) erbracht."]
[]
["Unterschriften Abnehmer/innen:",{"$nulls":8},"Unterschriften Abnehmer/innen:"]
[]
[]
[{"$f":"Anmeldung!$L$19","v":"00:00:00"},null,null,null,{"$f":"Anmeldung!$L$20","v":0},null,null,{"$f":"Anmeldung!$L$21","v":0},null,{"$f":"Anmeldung!$L$19","v":"00:00:00"},null,null,null,{"$f":"Anmeldung!$L$20","v":0},null,null,{"$f":"Anmeldung!$L$21","v":0}]
["Abnahmekarte für das deutsche Tanzsportabzeichen DTSA",{"$nulls":8},"Abnahmekarte für das deutsche Tanzsportabzeichen DTSA"]
[{"$f":"Anmeldung!$E$7","v":"00:00:00"},null,{"$f":"Anmeldung!$E$8","v":0},{"$nulls":4},{"$f":"\"# \"&Datenerfassung!$H194","v":"# 185"},null,{"$f":"Anmeldung!$E$7","v":"00:00:00"},null,{"$f":"Anmeldung!$E$8","v":0},{"$nulls":4},{"$f":"\"# \"&Datenerfassung!$H195","v":"# 186"}]
["Vorname",null,{"$f":"Datenerfassung!$C194","v":0},null,null,null,"Der/die Bewerber/innen erkennen mit Unterschrift die DTSA-Verleihungsbedingungen an. \n",null,null,"Vorname",null,{"$f":"Datenerfassung!$C195","v":0},null,null,null,"Der/die Bewerber/innen erkennen mit Unterschrift die DTSA-Verleihungsbedingungen an. \n"]
["Nachname",null,{"$f":"Datenerfassung!$D194","v":0},{"$nulls":6},"Nachname",null,{"$f":"Datenerfassung!$D195","v":0}]
["Verein/Schule",null,{"$f":"Datenerfassung!$G194","v":"00:00:00"},{"$nulls":6},"Verein/Schule",null,{"$f":"Datenerfassung!$G195","v":"00:00:00"}]
[]
["Medaille",null,{"$f":"Datenerfassung!$B194","v":0},{"$nulls":6},"Medaille",null,{"$f":"Datenerfassung!$B195","v":0}]
[{"$nulls":6},"Anerkennung der Bedingungen durch Unterschrift",{"$nulls":8},"Anerkennung der Bedingungen durch Unterschrift"]
[]
[" Tanz bitte eintragen/ankreuzen",null,null,"Musik","Balancen","Bewegg.-\nAblauf","X =\nbestanden","spezielle Bemerkungen (Lob/Hinweis/Kritik)\nder/des Abnehmer/in",null," Tanz bitte eintragen/ankreuzen",null,null,"Musik","Balancen","Bewegg.-\nAblauf","X =\nbestanden","spezielle Bemerkungen (Lob/Hinweis/Kritik)\nder/des Abnehmer/in"]
[null,{"$f":"Datenerfassung!$AE194","v":"Langsamer Walzer"},{"$nulls":8},{"$f":"Datenerfassung!$AE195","v":"Langsamer Walzer"}]
[null,{"$f":"Datenerfassung!$AF194","v":"Tango"},{"$nulls":8},{"$f":"Datenerfassung!$AF195","v":"Tango"}]
[null,{"$f":"Datenerfassung!$AG194","v":"Wiener Walzer"},{"$nulls":8},{"$f":"Datenerfassung!$AG195","v":"Wiener Walzer"}]
[null,{"$f":"Datenerfassung!$AH194","v":"Slowfox"},{"$nulls":8},{"$f":"Datenerfassung!$AH195","v":"Slowfox"}]
[null,{"$f":"Datenerfassung!$AI194","v":"Quickstep"},{"$nulls":8},{"$f":"Datenerfassung!$AI195","v":"Quickstep"}]
[null,{"$f":"Datenerfassung!$AJ194","v":"Samba"},{"$nulls":8},{"$f":"Datenerfassung!$AJ195","v":"Samba"}]
[null,{"$f":"Datenerfassung!$AK194","v":"Chachacha"},{"$nulls":8},{"$f":"Datenerfassung!$AK195","v":"Chachacha"}]
[null,{"$f":"Datenerfassung!$AL194","v":"Rumba"},{"$nulls":8},{"$f":"Datenerfassung!$AL195","v":"Rumba"}]
[null,{"$f":"Datenerfassung!$AM194","v":"Paso Doble"},{"$nulls":8},{"$f":"Datenerfassung!$AM195","v":"Paso Doble"}]
[null,{"$f":"Datenerfassung!$AN194","v":"Jive"},{"$nulls":8},{"$f":"Datenerfassung!$AN195","v":"Jive"}]
[null,{"$f":"Datenerfassung!$AO194","v":"Discofox"},{"$nulls":8},{"$f":"Datenerfassung!$AO195","v":"Discofox"}]
[]
[null,"Gemäß Ausbildungsordnung des DTV wurde eine Leistung für den Lizenzerwerb (10-Tänze-Gold) erbracht.",{"$nulls":8},"Gemäß Ausbildungsordnung des DTV wurde eine Leistung für den Lizenzerwerb (10-Tänze-Gold) erbracht."]
[]
["Unterschriften Abnehmer/innen:",{"$nulls":8},"Unterschriften Abnehmer/innen:"]
[]
[]
[{"$f":"Anmeldung!$L$19","v":"00:00:00"},null,null,null,{"$f":"Anmeldung!$L$20","v":0},null,null,{"$f":"Anmeldung!$L$21","v":0},null,{"$f":"Anmeldung!$L$19","v":"00:00:00"},null,null,null,{"$f":"Anmeldung!$L$20","v":0},null,null,{"$f":"Anmeldung!$L$21","v":0}]
["Abnahmekarte für das deutsche Tanzsportabzeichen DTSA",{"$nulls":8},"Abnahmekarte für das deutsche Tanzsportabzeichen DTSA"]
[{"$f":"Anmeldung!$E$7","v":"00:00:00"},null,{"$f":"Anmeldung!$E$8","v":0},{"$nulls":4},{"$f":"\"# \"&Datenerfassung!$H196","v":"# 187"},null,{"$f":"Anmeldung!$E$7","v":"00:00:00"},null,{"$f":"Anmeldung!$E$8","v":0},{"$nulls":4},{"$f":"\"# \"&Datenerfassung!$H197","v":"# 188"}]
["Vorname",null,{"$f":"Datenerfassung!$C196","v":0},null,null,null,"Der/die Bewerber/innen erkennen mit Unterschrift die DTSA-Verleihungsbedingungen an. \n",null,null,"Vorname",null,{"$f":"Datenerfassung!$C197","v":0},null,null,null,"Der/die Bewerber/innen erkennen mit Unterschrift die DTSA-Verleihungsbedingungen an. \n"]
["Nachname",null,{"$f":"Datenerfassung!$D196","v":0},{"$nulls":6},"Nachname",null,{"$f":"Datenerfassung!$D197","v":0}]
["Verein/Schule",null,{"$f":"Datenerfassung!$G196","v":"00:00:00"},{"$nulls":6},"Verein/Schule",null,{"$f":"Datenerfassung!$G197","v":"00:00:00"}]
[]
["Medaille",null,{"$f":"Datenerfassung!$B196","v":0},{"$nulls":6},"Medaille",null,{"$f":"Datenerfassung!$B197","v":0}]
[{"$nulls":6},"Anerkennung der Bedingungen durch Unterschrift",{"$nulls":8},"Anerkennung der Bedingungen durch Unterschrift"]
[]
[" Tanz bitte eintragen/ankreuzen",null,null,"Musik","Balancen","Bewegg.-\nAblauf","X =\nbestanden","spezielle Bemerkungen (Lob/Hinweis/Kritik)\nder/des Abnehmer/in",null," Tanz bitte eintragen/ankreuzen",null,null,"Musik","Balancen","Bewegg.-\nAblauf","X =\nbestanden","spezielle Bemerkungen (Lob/Hinweis/Kritik)\nder/des Abnehmer/in"]
[null,{"$f":"Datenerfassung!$AE196","v":"Langsamer Walzer"},{"$nulls":8},{"$f":"Datenerfassung!$AE197","v":"Langsamer Walzer"}]
[null,{"$f":"Datenerfassung!$AF196","v":"Tango"},{"$nulls":8},{"$f":"Datenerfassung!$AF197","v":"Tango"}]
[null,{"$f":"Datenerfassung!$AG196","v":"Wiener Walzer"},{"$nulls":8},{"$f":"Datenerfassung!$AG197","v":"Wiener Walzer"}]
[null,{"$f":"Datenerfassung!$AH196","v":"Slowfox"},{"$nulls":8},{"$f":"Datenerfassung!$AH197","v":"Slowfox"}]
[null,{"$f":"Datenerfassung!$AI196","v":"Quickstep"},{"$nulls":8},{"$f":"Datenerfassung!$AI197","v":"Quickstep"}]
[null,{"$f":"Datenerfassung!$AJ196","v":"Samba"},{"$nulls":8},{"$f":"Datenerfassung!$AJ197","v":"Samba"}]
[null,{"$f":"Datenerfassung!$AK196","v":"Chachacha"},{"$nulls":8},{"$f":"Datenerfassung!$AK197","v":"Chachacha"}]
[null,{"$f":"Datenerfassung!$AL196","v":"Rumba"},{"$nulls":8},{"$f":"Datenerfassung!$AL197","v":"Rumba"}]
[null,{"$f":"Datenerfassung!$AM196","v":"Paso Doble"},{"$nulls":8},{"$f":"Datenerfassung!$AM197","v":"Paso Doble"}]
[null,{"$f":"Datenerfassung!$AN196","v":"Jive"},{"$nulls":8},{"$f":"Datenerfassung!$AN197","v":"Jive"}]
[null,{"$f":"Datenerfassung!$AO196","v":"Discofox"},{"$nulls":8},{"$f":"Datenerfassung!$AO197","v":"Discofox"}]
[]
[null,"Gemäß Ausbildungsordnung des DTV wurde eine Leistung für den Lizenzerwerb (10-Tänze-Gold) erbracht.",{"$nulls":8},"Gemäß Ausbildungsordnung des DTV wurde eine Leistung für den Lizenzerwerb (10-Tänze-Gold) erbracht."]
[]
["Unterschriften Abnehmer/innen:",{"$nulls":8},"Unterschriften Abnehmer/innen:"]
[]
[]
[{"$f":"Anmeldung!$L$19","v":"00:00:00"},null,null,null,{"$f":"Anmeldung!$L$20","v":0},null,null,{"$f":"Anmeldung!$L$21","v":0},null,{"$f":"Anmeldung!$L$19","v":"00:00:00"},null,null,null,{"$f":"Anmeldung!$L$20","v":0},null,null,{"$f":"Anmeldung!$L$21","v":0}]
["Abnahmekarte für das deutsche Tanzsportabzeichen DTSA",{"$nulls":8},"Abnahmekarte für das deutsche Tanzsportabzeichen DTSA"]
[{"$f":"Anmeldung!$E$7","v":"00:00:00"},null,{"$f":"Anmeldung!$E$8","v":0},{"$nulls":4},{"$f":"\"# \"&Datenerfassung!$H198","v":"# 189"},null,{"$f":"Anmeldung!$E$7","v":"00:00:00"},null,{"$f":"Anmeldung!$E$8","v":0},{"$nulls":4},{"$f":"\"# \"&Datenerfassung!$H199","v":"# 190"}]
["Vorname",null,{"$f":"Datenerfassung!$C198","v":0},null,null,null,"Der/die Bewerber/innen erkennen mit Unterschrift die DTSA-Verleihungsbedingungen an. \n",null,null,"Vorname",null,{"$f":"Datenerfassung!$C199","v":0},null,null,null,"Der/die Bewerber/innen erkennen mit Unterschrift die DTSA-Verleihungsbedingungen an. \n"]
["Nachname",null,{"$f":"Datenerfassung!$D198","v":0},{"$nulls":6},"Nachname",null,{"$f":"Datenerfassung!$D199","v":0}]
["Verein/Schule",null,{"$f":"Datenerfassung!$G198","v":"00:00:00"},{"$nulls":6},"Verein/Schule",null,{"$f":"Datenerfassung!$G199","v":"00:00:00"}]
[]
["Medaille",null,{"$f":"Datenerfassung!$B198","v":0},{"$nulls":6},"Medaille",null,{"$f":"Datenerfassung!$B199","v":0}]
[{"$nulls":6},"Anerkennung der Bedingungen durch Unterschrift",{"$nulls":8},"Anerkennung der Bedingungen durch Unterschrift"]
[]
[" Tanz bitte eintragen/ankreuzen",null,null,"Musik","Balancen","Bewegg.-\nAblauf","X =\nbestanden","spezielle Bemerkungen (Lob/Hinweis/Kritik)\nder/des Abnehmer/in",null," Tanz bitte eintragen/ankreuzen",null,null,"Musik","Balancen","Bewegg.-\nAblauf","X =\nbestanden","spezielle Bemerkungen (Lob/Hinweis/Kritik)\nder/des Abnehmer/in"]
[null,{"$f":"Datenerfassung!$AE198","v":"Langsamer Walzer"},{"$nulls":8},{"$f":"Datenerfassung!$AE199","v":"Langsamer Walzer"}]
[null,{"$f":"Datenerfassung!$AF198","v":"Tango"},{"$nulls":8},{"$f":"Datenerfassung!$AF199","v":"Tango"}]
[null,{"$f":"Datenerfassung!$AG198","v":"Wiener Walzer"},{"$nulls":8},{"$f":"Datenerfassung!$AG199","v":"Wiener Walzer"}]
[null,{"$f":"Datenerfassung!$AH198","v":"Slowfox"},{"$nulls":8},{"$f":"Datenerfassung!$AH199","v":"Slowfox"}]
[null,{"$f":"Datenerfassung!$AI198","v":"Quickstep"},{"$nulls":8},{"$f":"Datenerfassung!$AI199","v":"Quickstep"}]
[null,{"$f":"Datenerfassung!$AJ198","v":"Samba"},{"$nulls":8},{"$f":"Datenerfassung!$AJ199","v":"Samba"}]
[null,{"$f":"Datenerfassung!$AK198","v":"Chachacha"},{"$nulls":8},{"$f":"Datenerfassung!$AK199","v":"Chachacha"}]
[null,{"$f":"Datenerfassung!$AL198","v":"Rumba"},{"$nulls":8},{"$f":"Datenerfassung!$AL199","v":"Rumba"}]
[null,{"$f":"Datenerfassung!$AM198","v":"Paso Doble"},{"$nulls":8},{"$f":"Datenerfassung!$AM199","v":"Paso Doble"}]
[null,{"$f":"Datenerfassung!$AN198","v":"Jive"},{"$nulls":8},{"$f":"Datenerfassung!$AN199","v":"Jive"}]
[null,{"$f":"Datenerfassung!$AO198","v":"Discofox"},{"$nulls":8},{"$f":"Datenerfassung!$AO199","v":"Discofox"}]
[]
[null,"Gemäß Ausbildungsordnung des DTV wurde eine Leistung für den Lizenzerwerb (10-Tänze-Gold) erbracht.",{"$nulls":8},"Gemäß Ausbildungsordnung des DTV wurde eine Leistung für den Lizenzerwerb (10-Tänze-Gold) erbracht."]
[]
["Unterschriften Abnehmer/innen:",{"$nulls":8},"Unterschriften Abnehmer/innen:"]
[]
[]
[{"$f":"Anmeldung!$L$19","v":"00:00:00"},null,null,null,{"$f":"Anmeldung!$L$20","v":0},null,null,{"$f":"Anmeldung!$L$21","v":0},null,{"$f":"Anmeldung!$L$19","v":"00:00:00"},null,null,null,{"$f":"Anmeldung!$L$20","v":0},null,null,{"$f":"Anmeldung!$L$21","v":0}]
["Abnahmekarte für das deutsche Tanzsportabzeichen DTSA",{"$nulls":8},"Abnahmekarte für das deutsche Tanzsportabzeichen DTSA"]
[{"$f":"Anmeldung!$E$7","v":"00:00:00"},null,{"$f":"Anmeldung!$E$8","v":0},{"$nulls":4},{"$f":"\"# \"&Datenerfassung!$H200","v":"# 191"},null,{"$f":"Anmeldung!$E$7","v":"00:00:00"},null,{"$f":"Anmeldung!$E$8","v":0},{"$nulls":4},{"$f":"\"# \"&Datenerfassung!$H201","v":"# 192"}]
["Vorname",null,{"$f":"Datenerfassung!$C200","v":0},null,null,null,"Der/die Bewerber/innen erkennen mit Unterschrift die DTSA-Verleihungsbedingungen an. \n",null,null,"Vorname",null,{"$f":"Datenerfassung!$C201","v":0},null,null,null,"Der/die Bewerber/innen erkennen mit Unterschrift die DTSA-Verleihungsbedingungen an. \n"]
["Nachname",null,{"$f":"Datenerfassung!$D200","v":0},{"$nulls":6},"Nachname",null,{"$f":"Datenerfassung!$D201","v":0}]
["Verein/Schule",null,{"$f":"Datenerfassung!$G200","v":"00:00:00"},{"$nulls":6},"Verein/Schule",null,{"$f":"Datenerfassung!$G201","v":"00:00:00"}]
[]
["Medaille",null,{"$f":"Datenerfassung!$B200","v":0},{"$nulls":6},"Medaille",null,{"$f":"Datenerfassung!$B201","v":0}]
[{"$nulls":6},"Anerkennung der Bedingungen durch Unterschrift",{"$nulls":8},"Anerkennung der Bedingungen durch Unterschrift"]
[]
[" Tanz bitte eintragen/ankreuzen",null,null,"Musik","Balancen","Bewegg.-\nAblauf","X =\nbestanden","spezielle Bemerkungen (Lob/Hinweis/Kritik)\nder/des Abnehmer/in",null," Tanz bitte eintragen/ankreuzen",null,null,"Musik","Balancen","Bewegg.-\nAblauf","X =\nbestanden","spezielle Bemerkungen (Lob/Hinweis/Kritik)\nder/des Abnehmer/in"]
[null,{"$f":"Datenerfassung!$AE200","v":"Langsamer Walzer"},{"$nulls":8},{"$f":"Datenerfassung!$AE201","v":"Langsamer Walzer"}]
[null,{"$f":"Datenerfassung!$AF200","v":"Tango"},{"$nulls":8},{"$f":"Datenerfassung!$AF201","v":"Tango"}]
[null,{"$f":"Datenerfassung!$AG200","v":"Wiener Walzer"},{"$nulls":8},{"$f":"Datenerfassung!$AG201","v":"Wiener Walzer"}]
[null,{"$f":"Datenerfassung!$AH200","v":"Slowfox"},{"$nulls":8},{"$f":"Datenerfassung!$AH201","v":"Slowfox"}]
[null,{"$f":"Datenerfassung!$AI200","v":"Quickstep"},{"$nulls":8},{"$f":"Datenerfassung!$AI201","v":"Quickstep"}]
[null,{"$f":"Datenerfassung!$AJ200","v":"Samba"},{"$nulls":8},{"$f":"Datenerfassung!$AJ201","v":"Samba"}]
[null,{"$f":"Datenerfassung!$AK200","v":"Chachacha"},{"$nulls":8},{"$f":"Datenerfassung!$AK201","v":"Chachacha"}]
[null,{"$f":"Datenerfassung!$AL200","v":"Rumba"},{"$nulls":8},{"$f":"Datenerfassung!$AL201","v":"Rumba"}]
[null,{"$f":"Datenerfassung!$AM200","v":"Paso Doble"},{"$nulls":8},{"$f":"Datenerfassung!$AM201","v":"Paso Doble"}]
[null,{"$f":"Datenerfassung!$AN200","v":"Jive"},{"$nulls":8},{"$f":"Datenerfassung!$AN201","v":"Jive"}]
[null,{"$f":"Datenerfassung!$AO200","v":"Discofox"},{"$nulls":8},{"$f":"Datenerfassung!$AO201","v":"Discofox"}]
[]
[null,"Gemäß Ausbildungsordnung des DTV wurde eine Leistung für den Lizenzerwerb (10-Tänze-Gold) erbracht.",{"$nulls":8},"Gemäß Ausbildungsordnung des DTV wurde eine Leistung für den Lizenzerwerb (10-Tänze-Gold) erbracht."]
[]
["Unterschriften Abnehmer/innen:",{"$nulls":8},"Unterschriften Abnehmer/innen:"]
[]
[]
[{"$f":"Anmeldung!$L$19","v":"00:00:00"},null,null,null,{"$f":"Anmeldung!$L$20","v":0},null,null,{"$f":"Anmeldung!$L$21","v":0},null,{"$f":"Anmeldung!$L$19","v":"00:00:00"},null,null,null,{"$f":"Anmeldung!$L$20","v":0},null,null,{"$f":"Anmeldung!$L$21","v":0}]
["Abnahmekarte für das deutsche Tanzsportabzeichen DTSA",{"$nulls":8},"Abnahmekarte für das deutsche Tanzsportabzeichen DTSA"]
[{"$f":"Anmeldung!$E$7","v":"00:00:00"},null,{"$f":"Anmeldung!$E$8","v":0},{"$nulls":4},{"$f":"\"# \"&Datenerfassung!$H202","v":"# 193"},null,{"$f":"Anmeldung!$E$7","v":"00:00:00"},null,{"$f":"Anmeldung!$E$8","v":0},{"$nulls":4},{"$f":"\"# \"&Datenerfassung!$H203","v":"# 194"}]
["Vorname",null,{"$f":"Datenerfassung!$C202","v":0},null,null,null,"Der/die Bewerber/innen erkennen mit Unterschrift die DTSA-Verleihungsbedingungen an. \n",null,null,"Vorname",null,{"$f":"Datenerfassung!$C203","v":0},null,null,null,"Der/die Bewerber/innen erkennen mit Unterschrift die DTSA-Verleihungsbedingungen an. \n"]
["Nachname",null,{"$f":"Datenerfassung!$D202","v":0},{"$nulls":6},"Nachname",null,{"$f":"Datenerfassung!$D203","v":0}]
["Verein/Schule",null,{"$f":"Datenerfassung!$G202","v":"00:00:00"},{"$nulls":6},"Verein/Schule",null,{"$f":"Datenerfassung!$G203","v":"00:00:00"}]
[]
["Medaille",null,{"$f":"Datenerfassung!$B202","v":0},{"$nulls":6},"Medaille",null,{"$f":"Datenerfassung!$B203","v":0}]
[{"$nulls":6},"Anerkennung der Bedingungen durch Unterschrift",{"$nulls":8},"Anerkennung der Bedingungen durch Unterschrift"]
[]
[" Tanz bitte eintragen/ankreuzen",null,null,"Musik","Balancen","Bewegg.-\nAblauf","X =\nbestanden","spezielle Bemerkungen (Lob/Hinweis/Kritik)\nder/des Abnehmer/in",null," Tanz bitte eintragen/ankreuzen",null,null,"Musik","Balancen","Bewegg.-\nAblauf","X =\nbestanden","spezielle Bemerkungen (Lob/Hinweis/Kritik)\nder/des Abnehmer/in"]
[null,{"$f":"Datenerfassung!$AE202","v":"Langsamer Walzer"},{"$nulls":8},{"$f":"Datenerfassung!$AE203","v":"Langsamer Walzer"}]
[null,{"$f":"Datenerfassung!$AF202","v":"Tango"},{"$nulls":8},{"$f":"Datenerfassung!$AF203","v":"Tango"}]
[null,{"$f":"Datenerfassung!$AG202","v":"Wiener Walzer"},{"$nulls":8},{"$f":"Datenerfassung!$AG203","v":"Wiener Walzer"}]
[null,{"$f":"Datenerfassung!$AH202","v":"Slowfox"},{"$nulls":8},{"$f":"Datenerfassung!$AH203","v":"Slowfox"}]
[null,{"$f":"Datenerfassung!$AI202","v":"Quickstep"},{"$nulls":8},{"$f":"Datenerfassung!$AI203","v":"Quickstep"}]
[null,{"$f":"Datenerfassung!$AJ202","v":"Samba"},{"$nulls":8},{"$f":"Datenerfassung!$AJ203","v":"Samba"}]
[null,{"$f":"Datenerfassung!$AK202","v":"Chachacha"},{"$nulls":8},{"$f":"Datenerfassung!$AK203","v":"Chachacha"}]
[null,{"$f":"Datenerfassung!$AL202","v":"Rumba"},{"$nulls":8},{"$f":"Datenerfassung!$AL203","v":"Rumba"}]
[null,{"$f":"Datenerfassung!$AM202","v":"Paso Doble"},{"$nulls":8},{"$f":"Datenerfassung!$AM203","v":"Paso Doble"}]
[null,{"$f":"Datenerfassung!$AN202","v":"Jive"},{"$nulls":8},{"$f":"Datenerfassung!$AN203","v":"Jive"}]
[null,{"$f":"Datenerfassung!$AO202","v":"Discofox"},{"$nulls":8},{"$f":"Datenerfassung!$AO203","v":"Discofox"}]
[]
[null,"Gemäß Ausbildungsordnung des DTV wurde eine Leistung für den Lizenzerwerb (10-Tänze-Gold) erbracht.",{"$nulls":8},"Gemäß Ausbildungsordnung des DTV wurde eine Leistung für den Lizenzerwerb (10-Tänze-Gold) erbracht."]
[]
["Unterschriften Abnehmer/innen:",{"$nulls":8},"Unterschriften Abnehmer/innen:"]
[]
[]
[{"$f":"Anmeldung!$L$19","v":"00:00:00"},null,null,null,{"$f":"Anmeldung!$L$20","v":0},null,null,{"$f":"Anmeldung!$L$21","v":0},null,{"$f":"Anmeldung!$L$19","v":"00:00:00"},null,null,null,{"$f":"Anmeldung!$L$20","v":0},null,null,{"$f":"Anmeldung!$L$21","v":0}]
["Abnahmekarte für das deutsche Tanzsportabzeichen DTSA",{"$nulls":8},"Abnahmekarte für das deutsche Tanzsportabzeichen DTSA"]
[{"$f":"Anmeldung!$E$7","v":"00:00:00"},null,{"$f":"Anmeldung!$E$8","v":0},{"$nulls":4},{"$f":"\"# \"&Datenerfassung!$H204","v":"# 195"},null,{"$f":"Anmeldung!$E$7","v":"00:00:00"},null,{"$f":"Anmeldung!$E$8","v":0},{"$nulls":4},{"$f":"\"# \"&Datenerfassung!$H205","v":"# 196"}]
["Vorname",null,{"$f":"Datenerfassung!$C204","v":0},null,null,null,"Der/die Bewerber/innen erkennen mit Unterschrift die DTSA-Verleihungsbedingungen an. \n",null,null,"Vorname",null,{"$f":"Datenerfassung!$C205","v":0},null,null,null,"Der/die Bewerber/innen erkennen mit Unterschrift die DTSA-Verleihungsbedingungen an. \n"]
["Nachname",null,{"$f":"Datenerfassung!$D204","v":0},{"$nulls":6},"Nachname",null,{"$f":"Datenerfassung!$D205","v":0}]
["Verein/Schule",null,{"$f":"Datenerfassung!$G204","v":"00:00:00"},{"$nulls":6},"Verein/Schule",null,{"$f":"Datenerfassung!$G205","v":"00:00:00"}]
[]
["Medaille",null,{"$f":"Datenerfassung!$B204","v":0},{"$nulls":6},"Medaille",null,{"$f":"Datenerfassung!$B205","v":0}]
[{"$nulls":6},"Anerkennung der Bedingungen durch Unterschrift",{"$nulls":8},"Anerkennung der Bedingungen durch Unterschrift"]
[]
[" Tanz bitte eintragen/ankreuzen",null,null,"Musik","Balancen","Bewegg.-\nAblauf","X =\nbestanden","spezielle Bemerkungen (Lob/Hinweis/Kritik)\nder/des Abnehmer/in",null," Tanz bitte eintragen/ankreuzen",null,null,"Musik","Balancen","Bewegg.-\nAblauf","X =\nbestanden","spezielle Bemerkungen (Lob/Hinweis/Kritik)\nder/des Abnehmer/in"]
[null,{"$f":"Datenerfassung!$AE204","v":"Langsamer Walzer"},{"$nulls":8},{"$f":"Datenerfassung!$AE205","v":"Langsamer Walzer"}]
[null,{"$f":"Datenerfassung!$AF204","v":"Tango"},{"$nulls":8},{"$f":"Datenerfassung!$AF205","v":"Tango"}]
[null,{"$f":"Datenerfassung!$AG204","v":"Wiener Walzer"},{"$nulls":8},{"$f":"Datenerfassung!$AG205","v":"Wiener Walzer"}]
[null,{"$f":"Datenerfassung!$AH204","v":"Slowfox"},{"$nulls":8},{"$f":"Datenerfassung!$AH205","v":"Slowfox"}]
[null,{"$f":"Datenerfassung!$AI204","v":"Quickstep"},{"$nulls":8},{"$f":"Datenerfassung!$AI205","v":"Quickstep"}]
[null,{"$f":"Datenerfassung!$AJ204","v":"Samba"},{"$nulls":8},{"$f":"Datenerfassung!$AJ205","v":"Samba"}]
[null,{"$f":"Datenerfassung!$AK204","v":"Chachacha"},{"$nulls":8},{"$f":"Datenerfassung!$AK205","v":"Chachacha"}]
[null,{"$f":"Datenerfassung!$AL204","v":"Rumba"},{"$nulls":8},{"$f":"Datenerfassung!$AL205","v":"Rumba"}]
[null,{"$f":"Datenerfassung!$AM204","v":"Paso Doble"},{"$nulls":8},{"$f":"Datenerfassung!$AM205","v":"Paso Doble"}]
[null,{"$f":"Datenerfassung!$AN204","v":"Jive"},{"$nulls":8},{"$f":"Datenerfassung!$AN205","v":"Jive"}]
[null,{"$f":"Datenerfassung!$AO204","v":"Discofox"},{"$nulls":8},{"$f":"Datenerfassung!$AO205","v":"Discofox"}]
[]
[null,"Gemäß Ausbildungsordnung des DTV wurde eine Leistung für den Lizenzerwerb (10-Tänze-Gold) erbracht.",{"$nulls":8},"Gemäß Ausbildungsordnung des DTV wurde eine Leistung für den Lizenzerwerb (10-Tänze-Gold) erbracht."]
[]
["Unterschriften Abnehmer/innen:",{"$nulls":8},"Unterschriften Abnehmer/innen:"]
[]
[]
[{"$f":"Anmeldung!$L$19","v":"00:00:00"},null,null,null,{"$f":"Anmeldung!$L$20","v":0},null,null,{"$f":"Anmeldung!$L$21","v":0},null,{"$f":"Anmeldung!$L$19","v":"00:00:00"},null,null,null,{"$f":"Anmeldung!$L$20","v":0},null,null,{"$f":"Anmeldung!$L$21","v":0}]
["Abnahmekarte für das deutsche Tanzsportabzeichen DTSA",{"$nulls":8},"Abnahmekarte für das deutsche Tanzsportabzeichen DTSA"]
[{"$f":"Anmeldung!$E$7","v":"00:00:00"},null,{"$f":"Anmeldung!$E$8","v":0},{"$nulls":4},{"$f":"\"# \"&Datenerfassung!$H206","v":"# 197"},null,{"$f":"Anmeldung!$E$7","v":"00:00:00"},null,{"$f":"Anmeldung!$E$8","v":0},{"$nulls":4},{"$f":"\"# \"&Datenerfassung!$H207","v":"# 198"}]
["Vorname",null,{"$f":"Datenerfassung!$C206","v":0},null,null,null,"Der/die Bewerber/innen erkennen mit Unterschrift die DTSA-Verleihungsbedingungen an. \n",null,null,"Vorname",null,{"$f":"Datenerfassung!$C207","v":0},null,null,null,"Der/die Bewerber/innen erkennen mit Unterschrift die DTSA-Verleihungsbedingungen an. \n"]
["Nachname",null,{"$f":"Datenerfassung!$D206","v":0},{"$nulls":6},"Nachname",null,{"$f":"Datenerfassung!$D207","v":0}]
["Verein/Schule",null,{"$f":"Datenerfassung!$G206","v":"00:00:00"},{"$nulls":6},"Verein/Schule",null,{"$f":"Datenerfassung!$G207","v":"00:00:00"}]
[]
["Medaille",null,{"$f":"Datenerfassung!$B206","v":0},{"$nulls":6},"Medaille",null,{"$f":"Datenerfassung!$B207","v":0}]
[{"$nulls":6},"Anerkennung der Bedingungen durch Unterschrift",{"$nulls":8},"Anerkennung der Bedingungen durch Unterschrift"]
[]
[" Tanz bitte eintragen/ankreuzen",null,null,"Musik","Balancen","Bewegg.-\nAblauf","X =\nbestanden","spezielle Bemerkungen (Lob/Hinweis/Kritik)\nder/des Abnehmer/in",null," Tanz bitte eintragen/ankreuzen",null,null,"Musik","Balancen","Bewegg.-\nAblauf","X =\nbestanden","spezielle Bemerkungen (Lob/Hinweis/Kritik)\nder/des Abnehmer/in"]
[null,{"$f":"Datenerfassung!$AE206","v":"Langsamer Walzer"},{"$nulls":8},{"$f":"Datenerfassung!$AE207","v":"Langsamer Walzer"}]
[null,{"$f":"Datenerfassung!$AF206","v":"Tango"},{"$nulls":8},{"$f":"Datenerfassung!$AF207","v":"Tango"}]
[null,{"$f":"Datenerfassung!$AG206","v":"Wiener Walzer"},{"$nulls":8},{"$f":"Datenerfassung!$AG207","v":"Wiener Walzer"}]
[null,{"$f":"Datenerfassung!$AH206","v":"Slowfox"},{"$nulls":8},{"$f":"Datenerfassung!$AH207","v":"Slowfox"}]
[null,{"$f":"Datenerfassung!$AI206","v":"Quickstep"},{"$nulls":8},{"$f":"Datenerfassung!$AI207","v":"Quickstep"}]
[null,{"$f":"Datenerfassung!$AJ206","v":"Samba"},{"$nulls":8},{"$f":"Datenerfassung!$AJ207","v":"Samba"}]
[null,{"$f":"Datenerfassung!$AK206","v":"Chachacha"},{"$nulls":8},{"$f":"Datenerfassung!$AK207","v":"Chachacha"}]
[null,{"$f":"Datenerfassung!$AL206","v":"Rumba"},{"$nulls":8},{"$f":"Datenerfassung!$AL207","v":"Rumba"}]
[null,{"$f":"Datenerfassung!$AM206","v":"Paso Doble"},{"$nulls":8},{"$f":"Datenerfassung!$AM207","v":"Paso Doble"}]
[null,{"$f":"Datenerfassung!$AN206","v":"Jive"},{"$nulls":8},{"$f":"Datenerfassung!$AN207","v":"Jive"}]
[null,{"$f":"Datenerfassung!$AO206","v":"Discofox"},{"$nulls":8},{"$f":"Datenerfassung!$AO207","v":"Discofox"}]
[]
[null,"Gemäß Ausbildungsordnung des DTV wurde eine Leistung für den Lizenzerwerb (10-Tänze-Gold) erbracht.",{"$nulls":8},"Gemäß Ausbildungsordnung des DTV wurde eine Leistung für den Lizenzerwerb (10-Tänze-Gold) erbracht."]
[]
["Unterschriften Abnehmer/innen:",{"$nulls":8},"Unterschriften Abnehmer/innen:"]
[]
[]
[{"$f":"Anmeldung!$L$19","v":"00:00:00"},null,null,null,{"$f":"Anmeldung!$L$20","v":0},null,null,{"$f":"Anmeldung!$L$21","v":0},null,{"$f":"Anmeldung!$L$19","v":"00:00:00"},null,null,null,{"$f":"Anmeldung!$L$20","v":0},null,null,{"$f":"Anmeldung!$L$21","v":0}]
["Abnahmekarte für das deutsche Tanzsportabzeichen DTSA",{"$nulls":8},"Abnahmekarte für das deutsche Tanzsportabzeichen DTSA"]
[{"$f":"Anmeldung!$E$7","v":"00:00:00"},null,{"$f":"Anmeldung!$E$8","v":0},{"$nulls":4},{"$f":"\"# \"&Datenerfassung!$H208","v":"# 199"},null,{"$f":"Anmeldung!$E$7","v":"00:00:00"},null,{"$f":"Anmeldung!$E$8","v":0},{"$nulls":4},{"$f":"\"# \"&Datenerfassung!$H209","v":"# 200"}]
["Vorname",null,{"$f":"Datenerfassung!$C208","v":0},null,null,null,"Der/die Bewerber/innen erkennen mit Unterschrift die DTSA-Verleihungsbedingungen an. \n",null,null,"Vorname",null,{"$f":"Datenerfassung!$C209","v":0},null,null,null,"Der/die Bewerber/innen erkennen mit Unterschrift die DTSA-Verleihungsbedingungen an. \n"]
["Nachname",null,{"$f":"Datenerfassung!$D208","v":0},{"$nulls":6},"Nachname",null,{"$f":"Datenerfassung!$D209","v":0}]
["Verein/Schule",null,{"$f":"Datenerfassung!$G208","v":"00:00:00"},{"$nulls":6},"Verein/Schule",null,{"$f":"Datenerfassung!$G209","v":"00:00:00"}]
[]
["Medaille",null,{"$f":"Datenerfassung!$B208","v":0},{"$nulls":6},"Medaille",null,{"$f":"Datenerfassung!$B209","v":0}]
[{"$nulls":6},"Anerkennung der Bedingungen durch Unterschrift",{"$nulls":8},"Anerkennung der Bedingungen durch Unterschrift"]
[]
[" Tanz bitte eintragen/ankreuzen",null,null,"Musik","Balancen","Bewegg.-\nAblauf","X =\nbestanden","spezielle Bemerkungen (Lob/Hinweis/Kritik)\nder/des Abnehmer/in",null," Tanz bitte eintragen/ankreuzen",null,null,"Musik","Balancen","Bewegg.-\nAblauf","X =\nbestanden","spezielle Bemerkungen (Lob/Hinweis/Kritik)\nder/des Abnehmer/in"]
[null,{"$f":"Datenerfassung!$AE208","v":"Langsamer Walzer"},{"$nulls":8},{"$f":"Datenerfassung!$AE209","v":"Langsamer Walzer"}]
[null,{"$f":"Datenerfassung!$AF208","v":"Tango"},{"$nulls":8},{"$f":"Datenerfassung!$AF209","v":"Tango"}]
[null,{"$f":"Datenerfassung!$AG208","v":"Wiener Walzer"},{"$nulls":8},{"$f":"Datenerfassung!$AG209","v":"Wiener Walzer"}]
[null,{"$f":"Datenerfassung!$AH208","v":"Slowfox"},{"$nulls":8},{"$f":"Datenerfassung!$AH209","v":"Slowfox"}]
[null,{"$f":"Datenerfassung!$AI208","v":"Quickstep"},{"$nulls":8},{"$f":"Datenerfassung!$AI209","v":"Quickstep"}]
[null,{"$f":"Datenerfassung!$AJ208","v":"Samba"},{"$nulls":8},{"$f":"Datenerfassung!$AJ209","v":"Samba"}]
[null,{"$f":"Datenerfassung!$AK208","v":"Chachacha"},{"$nulls":8},{"$f":"Datenerfassung!$AK209","v":"Chachacha"}]
[null,{"$f":"Datenerfassung!$AL208","v":"Rumba"},{"$nulls":8},{"$f":"Datenerfassung!$AL209","v":"Rumba"}]
[null,{"$f":"Datenerfassung!$AM208","v":"Paso Doble"},{"$nulls":8},{"$f":"Datenerfassung!$AM209","v":"Paso Doble"}]
[null,{"$f":"Datenerfassung!$AN208","v":"Jive"},{"$nulls":8},{"$f":"Datenerfassung!$AN209","v":"Jive"}]
[null,{"$f":"Datenerfassung!$AO208","v":"Discofox"},{"$nulls":8},{"$f":"Datenerfassung!$AO209","v":"Discofox"}]
[]
[null,"Gemäß Ausbildungsordnung des DTV wurde eine Leistung für den Lizenzerwerb (10-Tänze-Gold) erbracht.",{"$nulls":8},"Gemäß Ausbildungsordnung des DTV wurde eine Leistung für den Lizenzerwerb (10-Tänze-Gold) erbracht."]
[]
["Unterschriften Abnehmer/innen:",{"$nulls":8},"Unterschriften Abnehmer/innen:"]
[]
[]
[{"$f":"Anmeldung!$L$19","v":"00:00:00"},null,null,null,{"$f":"Anmeldung!$L$20","v":0},null,null,{"$f":"Anmeldung!$L$21","v":0},null,{"$f":"Anmeldung!$L$19","v":"00:00:00"},null,null,null,{"$f":"Anmeldung!$L$20","v":0},null,null,{"$f":"Anmeldung!$L$21","v":0}]

{"sheet":"Meldedaten","index":13,"n_rows":6,"n_cols":77,"rows_kept":6,"cut":false,"hidden":false,"merged":[[2,25,2,39],[0,9,0,24],[0,25,0,40],[0,0,2,7],[2,9,2,23],[1,9,1,10],[1,25,1,26],[1,11,1,23],[1,27,1,39],[1,76,3,76],[2,41,2,44],[2,45,2,47],[2,48,2,50],[2,51,2,75],[1,41,1,44],[1,45,1,47],[1,48,1,50],[1,51,1,75]]}
["Hier können sie nichts ausfüllen, die Daten aus dem Anmeldeformular werden hier nur für die weitere Verarbeitung beim LTV und die Meldung an den DTV in einer anderen Form dargestellt.",{"$nulls":8},"Urkunde und Abzeichen",{"$nulls":15},"nur Urkunde"]
[{"$nulls":8},"Gebühren",1.5,null,5,{"$nulls":13},1.5,null,2.5,{"$nulls":48},"Abnahme Fachverband (Kategorie III a)"]
[{"$nulls":9},2.5,{"$nulls":15},2.5,{"$nulls":15},"Rücksendeanschrift für die Rechnung des DTV",null,null,null,"Verantwortlicher Abnahmeleiter",null,null,"DTSA Abnehmer",null,null,"Disziplinen, die geprüft werden sollen."]
["Anmeldung am","Status","Abnahmedatum","Einzugsemächtigung\nliegt dem DTV vor.","DTV\nVereinsnr.","LTV","Abnahmeort","Abnahmeveranstalter",null,"kleines TS","großes TS","Bronze","Silber","Gold","Gold (5)","Gold (10)","Gold (15)","Gold (20)","Gold (25)","Gold (30)","Gold (35)","Brillant","Brillant (5)","Brillant (10)","Gesamt mit Abzeichen","kleines TS","großes TS","Bronze","Silber","Gold","Gold (5)","Gold (10)","Gold (15)","Gold (20)","Gold (25)","Gold (30)","Gold (35)","Brillant","Brillant (5)","Brillant (10)","Gesamt ohne Abzeichen"," Herr/Frau/DH","Name","Str., Hs.Nr.:","Plz, Ort","Name","Telefon","E-Mail","Abnehmer 1\n(Lizenznummer in Klammer)","Abnehmer 2\n(Lizenznummer in Klammer)","Abnehmer 3\n(Lizenznummer in Klammer)","Standard","Latein","Discofox","Salsa","Merengue","Seniorentanz","Kindertänze","HipHop","Videoclipdancing","JMD","Garde","Steptanz","Alte Tänze","Folklore-Tänze","Tango Argentino","Country-& Western","Linedance","Orientalischer Tanz","Rollstuhltanz","New Vogue","Boogie Woogie","Rock'n'Roll",{"$f":"Anmeldung!$K$28","v":0},{"$f":"Anmeldung!$K$29","v":0},{"$f":"Anmeldung!$K$30","v":0}]
[{"$f":"Anmeldung!$C$4","v":"00:00:00"},"Verein",{"$f":"Anmeldung!$E$7","v":"00:00:00"},null,{"$f":"Anmeldung!$M$8","v":0},"Berlin",{"$f":"Anmeldung!$E$9","v":0},{"$f":"Anmeldung!$E$8","v":0},{"$f":"(J5+K5)*J2+(L5+M5+N5+O5+P5+Q5+R5+S5+T5+U5+V5+W5+X5)*L2+(Z5+AA5)*Z2+(AB5+AC5+AD5+AE5+AF5+AG5+AH5+AI5+AJ5+AK5+AL5+AM5+AN5)*AB2","v":0},{"$f":"Datenerfassung!$C214","v":0},{"$f":"Datenerfassung!$C215","v":0},{"$f":"Datenerfassung!$C216","v":0},{"$f":"Datenerfassung!$C217","v":0},{"$f":"Datenerfassung!$C218","v":0},{"$f":"Datenerfassung!$C219","v":0},{"$f":"Datenerfassung!$C220","v":0},{"$f":"Datenerfassung!$C221","v":0},{"$f":"Datenerfassung!$C222","v":0},{"$f":"Datenerfassung!$C223","v":0},{"$f":"Datenerfassung!$C224","v":0},{"$f":"Datenerfassung!$C225","v":0},{"$f":"Datenerfassung!$C226","v":0},{"$f":"Datenerfassung!$C227","v":0},{"$f":"Datenerfassung!$C228","v":0},{"$f":"Datenerfassung!$C$231","v":0},{"$f":"Datenerfassung!$E214","v":0},{"$f":"Datenerfassung!$E215","v":0},{"$f":"Datenerfassung!$E216","v":0},{"$f":"Datenerfassung!$E217","v":0},{"$f":"Datenerfassung!$E218","v":0},{"$f":"Datenerfassung!$E219","v":0},{"$f":"Datenerfassung!$E220","v":0},{"$f":"Datenerfassung!$E221","v":0},{"$f":"Datenerfassung!$E222","v":0},{"$f":"Datenerfassung!$E223","v":0},{"$f":"Datenerfassung!$E224","v":0},{"$f":"Datenerfassung!$E225","v":0},{"$f":"Datenerfassung!$E226","v":0},{"$f":"Datenerfassung!$E227","v":0},{"$f":"Datenerfassung!$E228","v":0},{"$f":"Datenerfassung!$E$231","v":0},{"$f":"Anmeldung!$D$13","v":0},{"$f":"Anmeldung!$D$14","v":0},{"$f":"Anmeldung!$D$15","v":0},{"$f":"Anmeldung!$D$16","v":0},{"$f":"Anmeldung!$D$19","v":0},{"$f":"Anmeldung!$D$20","v":0},{"$f":"Anmeldung!$D$21","v":0},{"$f":"Anmeldung!$L$19","v":0},{"$f":"Anmeldung!$L$20","v":0},{"$f":"Anmeldung!$L$21","v":0},{"$f":"Anmeldung!$A$24","v":0},{"$f":"Anmeldung!$A$25","v":0},{"$f":"Anmeldung!$A$26","v":0},{"$f":"Anmeldung!$A$27","v":0},{"$f":"Anmeldung!$A$28","v":0},{"$f":"Anmeldung!$A$29","v":0},{"$f":"Anmeldung!$A$30","v":0},{"$f":"Anmeldung!$A$31","v":0},{"$f":"Anmeldung!$A$32","v":0},{"$f":"Anmeldung!$E$24","v":0},{"$f":"Anmeldung!$E$25","v":0},{"$f":"Anmeldung!$E$26","v":0},{"$f":"Anmeldung!$E$27","v":0},{"$f":"Anmeldung!$E$28","v":0},{"$f":"Anmeldung!$E$29","v":0},{"$f":"Anmeldung!$E$30","v":0},{"$f":"Anmeldung!$E$31","v":0},{"$f":"Anmeldung!$E$32","v":0},{"$f":"Anmeldung!$I$24","v":0},{"$f":"Anmeldung!$I$25","v":0},{"$f":"Anmeldung!$I$26","v":0},{"$f":"Anmeldung!$I$27","v":0},{"$f":"Anmeldung!$I$28","v":0},{"$f":"Anmeldung!$I$29","v":0},{"$f":"Anmeldung!$I$30","v":0},{"$f":"Anmeldung!$A$35","v":0}]
[{"$f":"Anmeldung!$C$4","v":"00:00:00"},"Schule",{"$f":"Anmeldung!$E$7","v":"00:00:00"},null,{"$f":"Anmeldung!$M$8","v":0},"Berlin",{"$f":"Anmeldung!$E$9","v":0},{"$f":"Anmeldung!$E$8","v":0},{"$f":"(J6+K6+L6+M6+N6+O6+P6+Q6+R6+S6+T6+U6+V6+W6+X6)*J3+(Z6+AA6+AB6+AC6+AD6+AE6+AF6+AG6+AH6+AI6+AJ6+AK6+AL6+AM6+AN6)*Z3","v":0},{"$f":"Datenerfassung!$C214","v":0},{"$f":"Datenerfassung!$C215","v":0},{"$f":"Datenerfassung!$C216","v":0},{"$f":"Datenerfassung!$C217","v":0},{"$f":"Datenerfassung!$C218","v":0},{"$f":"Datenerfassung!$C219","v":0},{"$f":"Datenerfassung!$C220","v":0},{"$f":"Datenerfassung!$C221","v":0},{"$f":"Datenerfassung!$C222","v":0},{"$f":"Datenerfassung!$C223","v":0},{"$f":"Datenerfassung!$C224","v":0},{"$f":"Datenerfassung!$C225","v":0},{"$f":"Datenerfassung!$C226","v":0},{"$f":"Datenerfassung!$C227","v":0},{"$f":"Datenerfassung!$C228","v":0},{"$f":"Datenerfassung!$C$231","v":0},{"$f":"Datenerfassung!$E214","v":0},{"$f":"Datenerfassung!$E215","v":0},{"$f":"Datenerfassung!$E216","v":0},{"$f":"Datenerfassung!$E217","v":0},{"$f":"Datenerfassung!$E218","v":0},{"$f":"Datenerfassung!$E219","v":0},{"$f":"Datenerfassung!$E220","v":0},{"$f":"Datenerfassung!$E221","v":0},{"$f":"Datenerfassung!$E222","v":0},{"$f":"Datenerfassung!$E223","v":0},{"$f":"Datenerfassung!$E224","v":0},{"$f":"Datenerfassung!$E225","v":0},{"$f":"Datenerfassung!$E226","v":0},{"$f":"Datenerfassung!$E227","v":0},{"$f":"Datenerfassung!$E228","v":0},{"$f":"Datenerfassung!$E$231","v":0},{"$f":"Anmeldung!$D$13","v":0},{"$f":"Anmeldung!$D$14","v":0},{"$f":"Anmeldung!$D$15","v":0},{"$f":"Anmeldung!$D$16","v":0},{"$f":"Anmeldung!$D$19","v":0},{"$f":"Anmeldung!$D$20","v":0},{"$f":"Anmeldung!$D$21","v":0},{"$f":"Anmeldung!$L$19","v":0},{"$f":"Anmeldung!$L$20","v":0},{"$f":"Anmeldung!$L$21","v":0},{"$f":"Anmeldung!$A$24","v":0},{"$f":"Anmeldung!$A$25","v":0},{"$f":"Anmeldung!$A$26","v":0},{"$f":"Anmeldung!$A$27","v":0},{"$f":"Anmeldung!$A$28","v":0},{"$f":"Anmeldung!$A$29","v":0},{"$f":"Anmeldung!$A$30","v":0},{"$f":"Anmeldung!$A$31","v":0},{"$f":"Anmeldung!$A$32","v":0},{"$f":"Anmeldung!$E$24","v":0},{"$f":"Anmeldung!$E$25","v":0},{"$f":"Anmeldung!$E$26","v":0},{"$f":"Anmeldung!$E$27","v":0},{"$f":"Anmeldung!$E$28","v":0},{"$f":"Anmeldung!$E$29","v":0},{"$f":"Anmeldung!$E$30","v":0},{"$f":"Anmeldung!$E$31","v":0},{"$f":"Anmeldung!$E$32","v":0},{"$f":"Anmeldung!$I$24","v":0},{"$f":"Anmeldung!$I$25","v":0},{"$f":"Anmeldung!$I$26","v":0},{"$f":"Anmeldung!$I$27","v":0},{"$f":"Anmeldung!$I$28","v":0},{"$f":"Anmeldung!$I$29","v":0},{"$f":"Anmeldung!$I$30","v":0},{"$f":"Anmeldung!$A$35","v":0}]