{"text_format":"2","workbook":"xlsx","n_sheets":4,"sheets":["Anmeldung","Datenerfassung","Gruppen","Meldedaten"],"not_rendered":{"charts":0,"images":0,"macros":0,"external_links":0,"defined_names":5,"comments":0,"pivot_tables":0},"unopened":[],"bounds":{"document_bytes":16777216,"sheet_cells":100000,"run_cost":"one","rows_first":2000,"rows_last":500,"rows_between":2000,"halvings":0,"cell_chars":16384,"cell_head_chars":4096},"cells_cut":0,"cells_raw":0,"read":"whole","date_system":"1900"}

{"sheet":"Anmeldung","index":0,"n_rows":40,"n_cols":16,"rows_kept":40,"cut":false,"hidden":false,"merged":[[0,0,1,12],[0,15,1,22],[4,15,17,22],[34,2,35,11],[38,0,38,3],[38,6,38,10],[28,2,28,3],[28,10,28,11],[29,2,29,3],[29,10,29,11],[30,2,30,3],[31,2,31,3],[27,2,27,3],[27,10,27,11],[18,3,18,6],[18,11,18,12],[23,2,23,3],[24,2,24,3],[25,2,25,3],[26,2,26,3],[17,8,17,12],[19,3,19,6],[19,11,19,12],[20,3,20,6],[20,11,20,12],[22,0,22,12],[6,0,6,3],[6,4,6,10],[7,0,7,3],[7,4,7,10],[8,0,8,3],[8,4,8,10],[11,0,11,7],[12,3,12,6],[13,3,13,6],[14,3,14,6],[15,3,15,6]]}
["Bitte folgendes Formular vollständig ausfüllen und dann die Datei per Mail an dtsa@ltv-berlin.de senden.(nur grau unterlegte Felder sind auswählbar).\nDie hier eingetragenen Daten werden automatisch in andere Tabellenblätter übernommen.",{"$nulls":14},"Änderungen/Korrekturen von z.B. Namen, Geburtstag können nur auf den Tabellenblättern [Anmeldung] und [Datenerfassung] vorgenommen werden. "]
[]
[]
["Anmeldung DTSA Abnahme",{"$nulls":14},"Nach der Abnahme:"]
["per Mail an",null,null,"dtsa@ltv-berlin.de",{"$nulls":11},"\nIm Anschluss an die Abnahme bitte das Datenblatt \"Datenerfassung\" komplett ausfüllen.\n\nDanach die Datei unter \"20JJ-MM-TT - Vereins-/Schulname\" speichern und verschlüsselt \nan dtsa@ltv-berlin.de mailen.\n\nDas Passwort zu der verschlüsselten Datei bitte in einer separaten Mail ebenfalls an dtsa@ltv-berlin.de senden.\n\nUrkunden und Nadeln werden immer erst nach der Abnahme auf Basis der eingereichten Datenerfassung erstellt. \n\nDie Abnahmekarten bleiben beim Verein / der Schule, werden also NICHT an den LTV Berlin gesandt.\n\nBei Fragen bitte am Besten einfach per Mail an dtsa@ltv-berlin.de wenden. \nWir antworten schnellstmöglich.\n\n… und jetzt viel Spaß und Erfolg bei Ihrer DTSA Abnahme."]
[]
["Abnahmedatum"]
["Abnahmeveranstalter\n(Verein, Schule…)",{"$nulls":10},"DTV Vereinsnr."]
["Abnahmeort",{"$nulls":10},"LTV","Berlin"]
[]
[]
["Rücksendeanschrift für Rechnung des DTV"]
["Herr/Frau/DH"]
["Name"]
["Strasse"]
["Plz, Ort"]
[]
["Verantwortlicher Abnahmeleiter",{"$nulls":7},"Abnehmer \n(Lizenznummer in Klammern)"]
["Name",{"$nulls":7},"Abnehmer 1"]
["Telefon",{"$nulls":7},"Abnehmer 2"]
["E-Mail",{"$nulls":7},"Abnehmer 3"]
[]
["Disziplinen, die geprüft werden sollen (bitte ankreuzen)"]
[null,null,"Standard",null,null,null,"JMC",null,null,null,"Rollstuhltanz"]
[null,null,"Latein",null,null,null,"Garde",null,null,null,"New Vogue"]
[null,null,"Discofox",null,null,null,"Steptanz",null,null,null,"Boogie Woogie"]
[null,null,"Salsa",null,null,null,"Alte Tänze",null,null,null,"Rock'n'Roll"]
[null,null,"Merengue",null,null,null,"Folklore-Tänze"]
[null,null,"Seniorentanz",null,null,null,"Tango Argentino"]
[null,null,"Kindertänze",null,null,null,"Country-& Western"]
[null,null,"HipHop",null,null,null,"Linedance"]
[null,null,"Videoclipdancing",null,null,null,"Orientalischer Tanz"]
[]
[]
[null,null,"Es soll innerhalb der Veranstaltung auch Abnahmen nach den Vorgaben eines Fachverbandes (Kategorie III a) stattfinden."]
[]
[]
["Hiermit beantragen wir die Durchführung der oben aufgeführten DTSA Abnahme"]
[]
["Datum",{"$nulls":5},"gezeichnet Vor- und Nachname"]

{"sheet":"Datenerfassung","index":1,"n_rows":229,"n_cols":41,"rows_kept":229,"cut":false,"hidden":false,"merged":[[0,30,6,40],[7,30,8,30],[7,31,8,31],[7,32,8,32],[7,33,8,33],[7,34,8,34],[7,35,8,35],[7,36,8,36],[7,37,8,37],[7,38,8,38],[7,39,8,39],[7,40,8,40],[0,0,2,3],[3,0,8,0],[0,8,8,8],[4,9,8,9],[0,5,2,5],[0,4,2,4],[3,1,8,1],[3,2,8,2],[3,3,8,3],[3,4,8,4],[3,5,8,5],[3,29,8,29],[1,9,3,28],[4,22,8,22],[4,25,8,25],[0,7,2,7],[4,11,8,11],[4,28,8,28],[4,10,8,10],[4,23,8,23],[4,12,8,12],[4,13,8,13],[4,14,8,14],[4,15,8,15],[4,16,8,16],[4,17,8,17],[4,18,8,18],[4,26,8,26],[4,27,8,27],[4,19,8,19],[4,20,8,20],[3,6,8,6],[4,24,8,24],[3,7,8,7],[4,21,8,21]]}
["Datenerfassungsblatt DTSA Abnahme",null,null,null,{"$f":"Anmeldung!E7","v":"00:00:00"},null,null,null,"Anzahl der Gruppentänze",{"$f":"COUNTIF(J10:J209,\"x\")","v":0},0,0,0,0,0,0,0,0,0,0,0,0,0,0,0,0,0,0,0,null,"Da das DTSA in diversen Tanzformen abgelegt werden kann, besteht hier die Möglichkeit, \ndie Tänze einzutragen, die als Auswahlmöglichkeit auf die Einzelabnahmekarte übertragen \nwerden sollen. \nHierzu einfach die vorgegebenen Tänze in den weiß unterlegten Feldern überschreiben. \nAlle anderen Zeilen werden dann entsprechend angepasst, können aber auch einzeln überschrieben werden."]
[{"$nulls":9},"Bitte entsprechenden Gruppentanz \nmit einem \"x\" versehen"]
[]
["Datum der \nAbnahme","Bitte entsprechende \nAbnahme auswählen.\nDiese Auswahl wird auf \ndie Urkunde gedruckt.","Vorname\nBitte Titel (wenn gewünscht)\nbeim Vornamen mit eintragen. \nz.B.: Dr. Max","Nachname","nur Urkunde\nbitte ein X eintragen, wenn KEIN Abzeichen ausgegeben werden soll","Zusatz Urkunde \nHier bitte eintragen, was zusätzlich\nauf die Urkunde gedruckt\nwerden soll.\nz.B.: über 10 Tänze, Linedance,\nKindertänze, Folklore, Latein …","Verein / Schule\nHier bitte den exakten\nVereins-/Schulnamen eintragen.\nDiese Angabe wird auf die \nUrkunde gedruckt !!!","Startnummer "]
[{"$nulls":9},"Gruppentanz  1","Gruppentanz  2","Gruppentanz  3","Gruppentanz  4","Gruppentanz  5","Gruppentanz  6","Gruppentanz  7","Gruppentanz  8","Gruppentanz  9","Gruppentanz  10","Gruppentanz  11","Gruppentanz  12","Gruppentanz  13","Gruppentanz  14","Gruppentanz  15","Gruppentanz  16","Gruppentanz  17","Gruppentanz  18","Gruppentanz  19","Gruppentanz  20"]
[]
[]
[{"$nulls":30},"Langsamer Walzer","Tango","Wiener Walzer","Slowfox","Quickstep","Samba","Chachacha","Rumba","Paso Doble","Jive","Discofox"]
[]
[{"$f":"Anmeldung!$E$7","v":"00:00:00"},{"$nulls":6},1,{"$f":"COUNTIF(J10:AC10,\"x\")","v":0},{"$nulls":10}," "," "," "," "," "," "," "," "," "," ",null,{"$f":"$AE$8","v":"Langsamer Walzer"},{"$f":"$AF$8","v":"Tango"},{"$f":"$AG$8","v":"Wiener Walzer"},{"$f":"$AH$8","v":"Slowfox"},{"$f":"$AI$8","v":"Quickstep"},{"$f":"$AJ$8","v":"Samba"},{"$f":"$AK$8","v":"Chachacha"},{"$f":"$AL$8","v":"Rumba"},{"$f":"$AM$8","v":"Paso Doble"},{"$f":"$AN$8","v":"Jive"},{"$f":"$AO$8","v":"Discofox"}]
[{"$f":"Anmeldung!$E$7","v":"00:00:00"},{"$nulls":6},2,0," "," "," "," "," "," "," "," "," "," "," "," "," "," "," "," "," "," "," "," ",null,"Langsamer Walzer","Tango","Wiener Walzer","Slowfox","Quickstep","Samba","Chachacha","Rumba","Paso Doble","Jive","Discofox"]
[{"$f":"Anmeldung!$E$7","v":"00:00:00"},{"$nulls":6},3,0," "," "," "," "," "," "," "," "," "," "," "," "," "," "," "," "," "," "," "," ",null,"Langsamer Walzer","Tango","Wiener Walzer","Slowfox","Quickstep","Samba","Chachacha","Rumba","Paso Doble","Jive","Discofox"]
[{"$f":"Anmeldung!$E$7","v":"00:00:00"},{"$nulls":6},4,0," "," "," "," "," "," "," "," "," "," "," "," "," "," "," "," "," "," "," "," ",null,"Langsamer Walzer","Tango","Wiener Walzer","Slowfox","Quickstep","Samba","Chachacha","Rumba","Paso Doble","Jive","Discofox"]
[{"$f":"Anmeldung!$E$7","v":"00:00:00"},{"$nulls":6},5,0," "," "," "," "," "," "," "," "," "," "," "," "," "," "," "," "," "," "," "," ",null,"Langsamer Walzer","Tango","Wiener Walzer","Slowfox","Quickstep","Samba","Chachacha","Rumba","Paso Doble","Jive","Discofox"]
[{"$f":"Anmeldung!$E$7","v":"00:00:00"},{"$nulls":6},6,0," "," "," "," "," "," "," "," "," "," "," "," "," "," "," "," "," "," "," "," ",null,"Langsamer Walzer","Tango","Wiener Walzer","Slowfox","Quickstep","Samba","Chachacha","Rumba","Paso Doble","Jive","Discofox"]
[{"$f":"Anmeldung!$E$7","v":"00:00:00"},{"$nulls":6},7,0," "," "," "," "," "," "," "," "," "," "," "," "," "," "," "," "," "," "," "," ",null,"Langsamer Walzer","Tango","Wiener Walzer","Slowfox","Quickstep","Samba","Chachacha","Rumba","Paso Doble","Jive","Discofox"]
[{"$f":"Anmeldung!$E$7","v":"00:00:00"},{"$nulls":6},8,0," "," "," "," "," "," "," "," "," "," "," "," "," "," "," "," "," "," "," "," ",null,"Langsamer Walzer","Tango","Wiener Walzer","Slowfox","Quickstep","Samba","Chachacha","Rumba","Paso Doble","Jive","Discofox"]
[{"$f":"Anmeldung!$E$7","v":"00:00:00"},{"$nulls":6},9,0," "," "," "," "," "," "," "," "," "," "," "," "," "," "," "," "," "," "," "," ",null,"Langsamer Walzer","Tango","Wiener Walzer","Slowfox","Quickstep","Samba","Chachacha","Rumba","Paso Doble","Jive","Discofox"]
[{"$f":"Anmeldung!$E$7","v":"00:00:00"},{"$nulls":6},10,0," "," "," "," "," "," "," "," "," "," "," "," "," "," "," "," "," "," "," "," ",null,"Langsamer Walzer","Tango","Wiener Walzer","Slowfox","Quickstep","Samba","Chachacha","Rumba","Paso Doble","Jive","Discofox"]
[{"$f":"Anmeldung!$E$7","v":"00:00:00"},{"$nulls":6},11,0," "," "," "," "," "," "," "," "," "," "," "," "," "," "," "," "," "," "," "," ",null,"Langsamer Walzer","Tango","Wiener Walzer","Slowfox","Quickstep","Samba","Chachacha","Rumba","Paso Doble","Jive","Discofox"]
[{"$f":"Anmeldung!$E$7","v":"00:00:00"},{"$nulls":6},12,0," "," "," "," "," "," "," "," "," "," "," "," "," "," "," "," "," "," "," "," ",null,"Langsamer Walzer","Tango","Wiener Walzer","Slowfox","Quickstep","Samba","Chachacha","Rumba","Paso Doble","Jive","Discofox"]
[{"$f":"Anmeldung!$E$7","v":"00:00:00"},{"$nulls":6},13,0," "," "," "," "," "," "," "," "," "," "," "," "," "," "," "," "," "," "," "," ",null,"Langsamer Walzer","Tango","Wiener Walzer","Slowfox","Quickstep","Samba","Chachacha","Rumba","Paso Doble","Jive","Discofox"]
[{"$f":"Anmeldung!$E$7","v":"00:00:00"},{"$nulls":6},14,0," "," "," "," "," "," "," "," "," "," "," "," "," "," "," "," "," "," "," "," ",null,"Langsamer Walzer","Tango","Wiener Walzer","Slowfox","Quickstep","Samba","Chachacha","Rumba","Paso Doble","Jive","Discofox"]
[{"$f":"Anmeldung!$E$7","v":"00:00:00"},{"$nulls":6},15,0," "," "," "," "," "," "," "," "," "," "," "," "," "," "," "," "," "," "," "," ",null,"Langsamer Walzer","Tango","Wiener Walzer","Slowfox","Quickstep","Samba","Chachacha","Rumba","Paso Doble","Jive","Discofox"]
[{"$f":"Anmeldung!$E$7","v":"00:00:00"},{"$nulls":6},16,0," "," "," "," "," "," "," "," "," "," "," "," "," "," "," "," "," "," "," "," ",null,"Langsamer Walzer","Tango","Wiener Walzer","Slowfox","Quickstep","Samba","Chachacha","Rumba","Paso Doble","Jive","Discofox"]
[{"$f":"Anmeldung!$E$7","v":"00:00:00"},{"$nulls":6},17,0," "," "," "," "," "," "," "," "," "," "," "," "," "," "," "," "," "," "," "," ",null,"Langsamer Walzer","Tango","Wiener Walzer","Slowfox","Quickstep","Samba","Chachacha","Rumba","Paso Doble","Jive","Discofox"]
[{"$f":"Anmeldung!$E$7","v":"00:00:00"},{"$nulls":6},18,0," "," "," "," "," "," "," "," "," "," "," "," "," "," "," "," "," "," "," "," ",null,"Langsamer Walzer","Tango","Wiener Walzer","Slowfox","Quickstep","Samba","Chachacha","Rumba","Paso Doble","Jive","Discofox"]
[{"$f":"Anmeldung!$E$7","v":"00:00:00"},{"$nulls":6},19,0," "," "," "," "," "," "," "," "," "," "," "," "," "," "," "," "," "," "," "," ",null,"Langsamer Walzer","Tango","Wiener Walzer","Slowfox","Quickstep","Samba","Chachacha","Rumba","Paso Doble","Jive","Discofox"]
[{"$f":"Anmeldung!$E$7","v":"00:00:00"},{"$nulls":6},20,0," "," "," "," "," "," "," "," "," "," "," "," "," "," "," "," "," "," "," "," ",null,"Langsamer Walzer","Tango","Wiener Walzer","Slowfox","Quickstep","Samba","Chachacha","Rumba","Paso Doble","Jive","Discofox"]
[{"$f":"Anmeldung!$E$7","v":"00:00:00"},{"$nulls":6},21,0," "," "," "," "," "," "," "," "," "," "," "," "," "," "," "," "," "," "," "," ",null,"Langsamer Walzer","Tango","Wiener Walzer","Slowfox","Quickstep","Samba","Chachacha","Rumba","Paso Doble","Jive","Discofox"]
[{"$f":"Anmeldung!$E$7","v":"00:00:00"},{"$nulls":6},22,0," "," "," "," "," "," "," "," "," "," "," "," "," "," "," "," "," "," "," "," ",null,"Langsamer Walzer","Tango","Wiener Walzer","Slowfox","Quickstep","Samba","Chachacha","Rumba","Paso Doble","Jive","Discofox"]
[{"$f":"Anmeldung!$E$7","v":"00:00:00"},{"$nulls":6},23,0," "," "," "," "," "," "," "," "," "," "," "," "," "," "," "," "," "," "," "," ",null,"Langsamer Walzer","Tango","Wiener Walzer","Slowfox","Quickstep","Samba","Chachacha","Rumba","Paso Doble","Jive","Discofox"]
[{"$f":"Anmeldung!$E$7","v":"00:00:00"},{"$nulls":6},24,0," "," "," "," "," "," "," "," "," "," "," "," "," "," "," "," "," "," "," "," ",null,"Langsamer Walzer","Tango","Wiener Walzer","Slowfox","Quickstep","Samba","Chachacha","Rumba","Paso Doble","Jive","Discofox"]
[{"$f":"Anmeldung!$E$7","v":"00:00:00"},{"$nulls":6},25,0," "," "," "," "," "," "," "," "," "," "," "," "," "," "," "," "," "," "," "," ",null,"Langsamer Walzer","Tango","Wiener Walzer","Slowfox","Quickstep","Samba","Chachacha","Rumba","Paso Doble","Jive","Discofox"]
[{"$f":"Anmeldung!$E$7","v":"00:00:00"},{"$nulls":6},26,0," "," "," "," "," "," "," "," "," "," "," "," "," "," "," "," "," "," "," "," ",null,"Langsamer Walzer","Tango","Wiener Walzer","Slowfox","Quickstep","Samba","Chachacha","Rumba","Paso Doble","Jive","Discofox"]
[{"$f":"Anmeldung!$E$7","v":"00:00:00"},{"$nulls":6},27,0," "," "," "," "," "," "," "," "," "," "," "," "," "," "," "," "," "," "," "," ",null,"Langsamer Walzer","Tango","Wiener Walzer","Slowfox","Quickstep","Samba","Chachacha","Rumba","Paso Doble","Jive","Discofox"]
[{"$f":"Anmeldung!$E$7","v":"00:00:00"},{"$nulls":6},28,0," "," "," "," "," "," "," "," "," "," "," "," "," "," "," "," "," "," "," "," ",null,"Langsamer Walzer","Tango","Wiener Walzer","Slowfox","Quickstep","Samba","Chachacha","Rumba","Paso Doble","Jive","Discofox"]
[{"$f":"Anmeldung!$E$7","v":"00:00:00"},{"$nulls":6},29,0," "," "," "," "," "," "," "," "," "," "," "," "," "," "," "," "," "," "," "," ",null,"Langsamer Walzer","Tango","Wiener Walzer","Slowfox","Quickstep","Samba","Chachacha","Rumba","Paso Doble","Jive","Discofox"]
[{"$f":"Anmeldung!$E$7","v":"00:00:00"},{"$nulls":6},30,0," "," "," "," "," "," "," "," "," "," "," "," "," "," "," "," "," "," "," "," ",null,"Langsamer Walzer","Tango","Wiener Walzer","Slowfox","Quickstep","Samba","Chachacha","Rumba","Paso Doble","Jive","Discofox"]
[{"$f":"Anmeldung!$E$7","v":"00:00:00"},{"$nulls":6},31,0," "," "," "," "," "," "," "," "," "," "," "," "," "," "," "," "," "," "," "," ",null,"Langsamer Walzer","Tango","Wiener Walzer","Slowfox","Quickstep","Samba","Chachacha","Rumba","Paso Doble","Jive","Discofox"]
[{"$f":"Anmeldung!$E$7","v":"00:00:00"},{"$nulls":6},32,0," "," "," "," "," "," "," "," "," "," "," "," "," "," "," "," "," "," "," "," ",null,"Langsamer Walzer","Tango","Wiener Walzer","Slowfox","Quickstep","Samba","Chachacha","Rumba","Paso Doble","Jive","Discofox"]
[{"$f":"Anmeldung!$E$7","v":"00:00:00"},{"$nulls":6},33,0," "," "," "," "," "," "," "," "," "," "," "," "," "," "," "," "," "," "," "," ",null,{"$f":"$AE$8","v":"Langsamer Walzer"},{"$f":"$AF$8","v":"Tango"},{"$f":"$AG$8","v":"Wiener Walzer"},{"$f":"$AH$8","v":"Slowfox"},{"$f":"$AI$8","v":"Quickstep"},{"$f":"$AJ$8","v":"Samba"},{"$f":"$AK$8","v":"Chachacha"},{"$f":"$AL$8","v":"Rumba"},{"$f":"$AM$8","v":"Paso Doble"},{"$f":"$AN$8","v":"Jive"},{"$f":"$AO$8","v":"Discofox"}]
[{"$f":"Anmeldung!$E$7","v":"00:00:00"},{"$nulls":6},34,0," "," "," "," "," "," "," "," "," "," "," "," "," "," "," "," "," "," "," "," ",null,"Langsamer Walzer","Tango","Wiener Walzer","Slowfox","Quickstep","Samba","Chachacha","Rumba","Paso Doble","Jive","Discofox"]
[{"$f":"Anmeldung!$E$7","v":"00:00:00"},{"$nulls":6},35,0," "," "," "," "," "," "," "," "," "," "," "," "," "," "," "," "," "," "," "," ",null,"Langsamer Walzer","Tango","Wiener Walzer","Slowfox","Quickstep","Samba","Chachacha","Rumba","Paso Doble","Jive","Discofox"]
[{"$f":"Anmeldung!$E$7","v":"00:00:00"},{"$nulls":6},36,0," "," "," "," "," "," "," "," "," "," "," "," "," "," "," "," "," "," "," "," ",null,"Langsamer Walzer","Tango","Wiener Walzer","Slowfox","Quickstep","Samba","Chachacha","Rumba","Paso Doble","Jive","Discofox"]
[{"$f":"Anmeldung!$E$7","v":"00:00:00"},{"$nulls":6},37,0," "," "," "," "," "," "," "," "," "," "," "," "," "," "," "," "," "," "," "," ",null,"Langsamer Walzer","Tango","Wiener Walzer","Slowfox","Quickstep","Samba","Chachacha","Rumba","Paso Doble","Jive","Discofox"]
[{"$f":"Anmeldung!$E$7","v":"00:00:00"},{"$nulls":6},38,0," "," "," "," "," "," "," "," "," "," "," "," "," "," "," "," "," "," "," "," ",null,"Langsamer Walzer","Tango","Wiener Walzer","Slowfox","Quickstep","Samba","Chachacha","Rumba","Paso Doble","Jive","Discofox"]
[{"$f":"Anmeldung!$E$7","v":"00:00:00"},{"$nulls":6},39,0," "," "," "," "," "," "," "," "," "," "," "," "," "," "," "," "," "," "," "," ",null,"Langsamer Walzer","Tango","Wiener Walzer","Slowfox","Quickstep","Samba","Chachacha","Rumba","Paso Doble","Jive","Discofox"]
[{"$f":"Anmeldung!$E$7","v":"00:00:00"},{"$nulls":6},40,0," "," "," "," "," "," "," "," "," "," "," "," "," "," "," "," "," "," "," "," ",null,"Langsamer Walzer","Tango","Wiener Walzer","Slowfox","Quickstep","Samba","Chachacha","Rumba","Paso Doble","Jive","Discofox"]
[{"$f":"Anmeldung!$E$7","v":"00:00:00"},{"$nulls":6},41,0," "," "," "," "," "," "," "," "," "," "," "," "," "," "," "," "," "," "," "," ",null,"Langsamer Walzer","Tango","Wiener Walzer","Slowfox","Quickstep","Samba","Chachacha","Rumba","Paso Doble","Jive","Discofox"]
[{"$f":"Anmeldung!$E$7","v":"00:00:00"},{"$nulls":6},42,0," "," "," "," "," "," "," "," "," "," "," "," "," "," "," "," "," "," "," "," ",null,"Langsamer Walzer","Tango","Wiener Walzer","Slowfox","Quickstep","Samba","Chachacha","Rumba","Paso Doble","Jive","Discofox"]
[{"$f":"Anmeldung!$E$7","v":"00:00:00"},{"$nulls":6},43,0," "," "," "," "," "," "," "," "," "," "," "," "," "," "," "," "," "," "," "," ",null,"Langsamer Walzer","Tango","Wiener Walzer","Slowfox","Quickstep","Samba","Chachacha","Rumba","Paso Doble","Jive","Discofox"]
[{"$f":"Anmeldung!$E$7","v":"00:00:00"},{"$nulls":6},44,0," "," "," "," "," "," "," "," "," "," "," "," "," "," "," "," "," "," "," "," ",null,"Langsamer Walzer","Tango","Wiener Walzer","Slowfox","Quickstep","Samba","Chachacha","Rumba","Paso Doble","Jive","Discofox"]
[{"$f":"Anmeldung!$E$7","v":"00:00:00"},{"$nulls":6},45,0," "," "," "," "," "," "," "," "," "," "," "," "," "," "," "," "," "," "," "," ",null,"Langsamer Walzer","Tango","Wiener Walzer","Slowfox","Quickstep","Samba","Chachacha","Rumba","Paso Doble","Jive","Discofox"]
[{"$f":"Anmeldung!$E$7","v":"00:00:00"},{"$nulls":6},46,0," "," "," "," "," "," "," "," "," "," "," "," "," "," "," "," "," "," "," "," ",null,"Langsamer Walzer","Tango","Wiener Walzer","Slowfox","Quickstep","Samba","Chachacha","Rumba","Paso Doble","Jive","Discofox"]
[{"$f":"Anmeldung!$E$7","v":"00:00:00"},{"$nulls":6},47,0," "," "," "," "," "," "," "," "," "," "," "," "," "," "," "," "," "," "," "," ",null,"Langsamer Walzer","Tango","Wiener Walzer","Slowfox","Quickstep","Samba","Chachacha","Rumba","Paso Doble","Jive","Discofox"]
[{"$f":"Anmeldung!$E$7","v":"00:00:00"},{"$nulls":6},48,0," "," "," "," "," "," "," "," "," "," "," "," "," "," "," "," "," "," "," "," ",null,"Langsamer Walzer","Tango","Wiener Walzer","Slowfox","Quickstep","Samba","Chachacha","Rumba","Paso Doble","Jive","Discofox"]
[{"$f":"Anmeldung!$E$7","v":"00:00:00"},{"$nulls":6},49,0," "," "," "," "," "," "," "," "," "," "," "," "," "," "," "," "," "," "," "," ",null,"Langsamer Walzer","Tango","Wiener Walzer","Slowfox","Quickstep","Samba","Chachacha","Rumba","Paso Doble","Jive","Discofox"]
[{"$f":"Anmeldung!$E$7","v":"00:00:00"},{"$nulls":6},50,0," "," "," "," "," "," "," "," "," "," "," "," "," "," "," "," "," "," "," "," ",null,"Langsamer Walzer","Tango","Wiener Walzer","Slowfox","Quickstep","Samba","Chachacha","Rumba","Paso Doble","Jive","Discofox"]
[{"$f":"Anmeldung!$E$7","v":"00:00:00"},{"$nulls":6},51,0," "," "," "," "," "," "," "," "," "," "," "," "," "," "," "," "," "," "," "," ",null,"Langsamer Walzer","Tango","Wiener Walzer","Slowfox","Quickstep","Samba","Chachacha","Rumba","Paso Doble","Jive","Discofox"]
[{"$f":"Anmeldung!$E$7","v":"00:00:00"},{"$nulls":6},52,0," "," "," "," "," "," "," "," "," "," "," "," "," "," "," "," "," "," "," "," ",null,"Langsamer Walzer","Tango","Wiener Walzer","Slowfox","Quickstep","Samba","Chachacha","Rumba","Paso Doble","Jive","Discofox"]
[{"$f":"Anmeldung!$E$7","v":"00:00:00"},{"$nulls":6},53,0," "," "," "," "," "," "," "," "," "," "," "," "," "," "," "," "," "," "," "," ",null,"Langsamer Walzer","Tango","Wiener Walzer","Slowfox","Quickstep","Samba","Chachacha","Rumba","Paso Doble","Jive","Discofox"]
[{"$f":"Anmeldung!$E$7","v":"00:00:00"},{"$nulls":6},54,0," "," "," "," "," "," "," "," "," "," "," "," "," "," "," "," "," "," "," "," ",null,"Langsamer Walzer","Tango","Wiener Walzer","Slowfox","Quickstep","Samba","Chachacha","Rumba","Paso Doble","Jive","Discofox"]
[{"$f":"Anmeldung!$E$7","v":"00:00:00"},{"$nulls":6},55,0," "," "," "," "," "," "," "," "," "," "," "," "," "," "," "," "," "," "," "," ",null,"Langsamer Walzer","Tango","Wiener Walzer","Slowfox","Quickstep","Samba","Chachacha","Rumba","Paso Doble","Jive","Discofox"]
[{"$f":"Anmeldung!$E$7","v":"00:00:00"},{"$nulls":6},56,0," "," "," "," "," "," "," "," "," "," "," "," "," "," "," "," "," "," "," "," ",null,"Langsamer Walzer","Tango","Wiener Walzer","Slowfox","Quickstep","Samba","Chachacha","Rumba","Paso Doble","Jive","Discofox"]
[{"$f":"Anmeldung!$E$7","v":"00:00:00"},{"$nulls":6},57,0," "," "," "," "," "," "," "," "," "," "," "," "," "," "," "," "," "," "," "," ",null,"Langsamer Walzer","Tango","Wiener Walzer","Slowfox","Quickstep","Samba","Chachacha","Rumba","Paso Doble","Jive","Discofox"]
[{"$f":"Anmeldung!$E$7","v":"00:00:00"},{"$nulls":6},58,0," "," "," "," "," "," "," "," "," "," "," "," "," "," "," "," "," "," "," "," ",null,"Langsamer Walzer","Tango","Wiener Walzer","Slowfox","Quickstep","Samba","Chachacha","Rumba","Paso Doble","Jive","Discofox"]
[{"$f":"Anmeldung!$E$7","v":"00:00:00"},{"$nulls":6},59,0," "," "," "," "," "," "," "," "," "," "," "," "," "," "," "," "," "," "," "," ",null,"Langsamer Walzer","Tango","Wiener Walzer","Slowfox","Quickstep","Samba","Chachacha","Rumba","Paso Doble","Jive","Discofox"]
[{"$f":"Anmeldung!$E$7","v":"00:00:00"},{"$nulls":6},60,0," "," "," "," "," "," "," "," "," "," "," "," "," "," "," "," "," "," "," "," ",null,"Langsamer Walzer","Tango","Wiener Walzer","Slowfox","Quickstep","Samba","Chachacha","Rumba","Paso Doble","Jive","Discofox"]
[{"$f":"Anmeldung!$E$7","v":"00:00:00"},{"$nulls":6},61,0," "," "," "," "," "," "," "," "," "," "," "," "," "," "," "," "," "," "," "," ",null,"Langsamer Walzer","Tango","Wiener Walzer","Slowfox","Quickstep","Samba","Chachacha","Rumba","Paso Doble","Jive","Discofox"]
[{"$f":"Anmeldung!$E$7","v":"00:00:00"},{"$nulls":6},62,0," "," "," "," "," "," "," "," "," "," "," "," "," "," "," "," "," "," "," "," ",null,"Langsamer Walzer","Tango","Wiener Walzer","Slowfox","Quickstep","Samba","Chachacha","Rumba","Paso Doble","Jive","Discofox"]
[{"$f":"Anmeldung!$E$7","v":"00:00:00"},{"$nulls":6},63,0," "," "," "," "," "," "," "," "," "," "," "," "," "," "," "," "," "," "," "," ",null,"Langsamer Walzer","Tango","Wiener Walzer","Slowfox","Quickstep","Samba","Chachacha","Rumba","Paso Doble","Jive","Discofox"]
[{"$f":"Anmeldung!$E$7","v":"00:00:00"},{"$nulls":6},64,0," "," "," "," "," "," "," "," "," "," "," "," "," "," "," "," "," "," "," "," ",null,"Langsamer Walzer","Tango","Wiener Walzer","Slowfox","Quickstep","Samba","Chachacha","Rumba","Paso Doble","Jive","Discofox"]
[{"$f":"Anmeldung!$E$7","v":"00:00:00"},{"$nulls":6},65,{"$f":"COUNTIF(J74:AC74,\"x\")","v":0}," "," "," "," "," "," "," "," "," "," "," "," "," "," "," "," "," "," "," "," ",null,{"$f":"$AE$8","v":"Langsamer Walzer"},{"$f":"$AF$8","v":"Tango"},{"$f":"$AG$8","v":"Wiener Walzer"},{"$f":"$AH$8","v":"Slowfox"},{"$f":"$AI$8","v":"Quickstep"},{"$f":"$AJ$8","v":"Samba"},{"$f":"$AK$8","v":"Chachacha"},{"$f":"$AL$8","v":"Rumba"},{"$f":"$AM$8","v":"Paso Doble"},{"$f":"$AN$8","v":"Jive"},{"$f":"$AO$8","v":"Discofox"}]
[{"$f":"Anmeldung!$E$7","v":"00:00:00"},{"$nulls":6},66,0," "," "," "," "," "," "," "," "," "," "," "," "," "," "," "," "," "," "," "," ",null,"Langsamer Walzer","Tango","Wiener Walzer","Slowfox","Quickstep","Samba","Chachacha","Rumba","Paso Doble","Jive","Discofox"]
[{"$f":"Anmeldung!$E$7","v":"00:00:00"},{"$nulls":6},67,0," "," "," "," "," "," "," "," "," "," "," "," "," "," "," "," "," "," "," "," ",null,"Langsamer Walzer","Tango","Wiener Walzer","Slowfox","Quickstep","Samba","Chachacha","Rumba","Paso Doble","Jive","Discofox"]
[{"$f":"Anmeldung!$E$7","v":"00:00:00"},{"$nulls":6},68,0," "," "," "," "," "," "," "," "," "," "," "," "," "," "," "," "," "," "," "," ",null,"Langsamer Walzer","Tango","Wiener Walzer","Slowfox","Quickstep","Samba","Chachacha","Rumba","Paso Doble","Jive","Discofox"]
[{"$f":"Anmeldung!$E$7","v":"00:00:00"},{"$nulls":6},69,0," "," "," "," "," "," "," "," "," "," "," "," "," "," "," "," "," "," "," "," ",null,"Langsamer Walzer","Tango","Wiener Walzer","Slowfox","Quickstep","Samba","Chachacha","Rumba","Paso Doble","Jive","Discofox"]
[{"$f":"Anmeldung!$E$7","v":"00:00:00"},{"$nulls":6},70,0," "," "," "," "," "," "," "," "," "," "," "," "," "," "," "," "," "," "," "," ",null,"Langsamer Walzer","Tango","Wiener Walzer","Slowfox","Quickstep","Samba","Chachacha","Rumba","Paso Doble","Jive","Discofox"]
[{"$f":"Anmeldung!$E$7","v":"00:00:00"},{"$nulls":6},71,0," "," "," "," "," "," "," "," "," "," "," "," "," "," "," "," "," "," "," "," ",null,"Langsamer Walzer","Tango","Wiener Walzer","Slowfox","Quickstep","Samba","Chachacha","Rumba","Paso Doble","Jive","Discofox"]
[{"$f":"Anmeldung!$E$7","v":"00:00:00"},{"$nulls":6},72,0," "," "," "," "," "," "," "," "," "," "," "," "," "," "," "," "," "," "," "," ",null,"Langsamer Walzer","Tango","Wiener Walzer","Slowfox","Quickstep","Samba","Chachacha","Rumba","Paso Doble","Jive","Discofox"]
[{"$f":"Anmeldung!$E$7","v":"00:00:00"},{"$nulls":6},73,0," "," "," "," "," "," "," "," "," "," "," "," "," "," "," "," "," "," "," "," ",null,"Langsamer Walzer","Tango","Wiener Walzer","Slowfox","Quickstep","Samba","Chachacha","Rumba","Paso Doble","Jive","Discofox"]
[{"$f":"Anmeldung!$E$7","v":"00:00:00"},{"$nulls":6},74,0," "," "," "," "," "," "," "," "," "," "," "," "," "," "," "," "," "," "," "," ",null,"Langsamer Walzer","Tango","Wiener Walzer","Slowfox","Quickstep","Samba","Chachacha","Rumba","Paso Doble","Jive","Discofox"]
[{"$f":"Anmeldung!$E$7","v":"00:00:00"},{"$nulls":6},75,0," "," "," "," "," "," "," "," "," "," "," "," "," "," "," "," "," "," "," "," ",null,"Langsamer Walzer","Tango","Wiener Walzer","Slowfox","Quickstep","Samba","Chachacha","Rumba","Paso Doble","Jive","Discofox"]
[{"$f":"Anmeldung!$E$7","v":"00:00:00"},{"$nulls":6},76,0," "," "," "," "," "," "," "," "," "," "," "," "," "," "," "," "," "," "," "," ",null,"Langsamer Walzer","Tango","Wiener Walzer","Slowfox","Quickstep","Samba","Chachacha","Rumba","Paso Doble","Jive","Discofox"]
[{"$f":"Anmeldung!$E$7","v":"00:00:00"},{"$nulls":6},77,0," "," "," "," "," "," "," "," "," "," "," "," "," "," "," "," "," "," "," "," ",null,"Langsamer Walzer","Tango","Wiener Walzer","Slowfox","Quickstep","Samba","Chachacha","Rumba","Paso Doble","Jive","Discofox"]
[{"$f":"Anmeldung!$E$7","v":"00:00:00"},{"$nulls":6},78,0," "," "," "," "," "," "," "," "," "," "," "," "," "," "," "," "," "," "," "," ",null,"Langsamer Walzer","Tango","Wiener Walzer","Slowfox","Quickstep","Samba","Chachacha","Rumba","Paso Doble","Jive","Discofox"]
[{"$f":"Anmeldung!$E$7","v":"00:00:00"},{"$nulls":6},79,0," "," "," "," "," "," "," "," "," "," "," "," "," "," "," "," "," "," "," "," ",null,"Langsamer Walzer","Tango","Wiener Walzer","Slowfox","Quickstep","Samba","Chachacha","Rumba","Paso Doble","Jive","Discofox"]
[{"$f":"Anmeldung!$E$7","v":"00:00:00"},{"$nulls":6},80,0," "," "," "," "," "," "," "," "," "," "," "," "," "," "," "," "," "," "," "," ",null,"Langsamer Walzer","Tango","Wiener Walzer","Slowfox","Quickstep","Samba","Chachacha","Rumba","Paso Doble","Jive","Discofox"]
[{"$f":"Anmeldung!$E$7","v":"00:00:00"},{"$nulls":6},81,0," "," "," "," "," "," "," "," "," "," "," "," "," "," "," "," "," "," "," "," ",null,"Langsamer Walzer","Tango","Wiener Walzer","Slowfox","Quickstep","Samba","Chachacha","Rumba","Paso Doble","Jive","Discofox"]
[{"$f":"Anmeldung!$E$7","v":"00:00:00"},{"$nulls":6},82,0," "," "," "," "," "," "," "," "," "," "," "," "," "," "," "," "," "," "," "," ",null,"Langsamer Walzer","Tango","Wiener Walzer","Slowfox","Quickstep","Samba","Chachacha","Rumba","Paso Doble","Jive","Discofox"]
[{"$f":"Anmeldung!$E$7","v":"00:00:00"},{"$nulls":6},83,0," "," "," "," "," "," "," "," "," "," "," "," "," "," "," "," "," "," "," "," ",null,"Langsamer Walzer","Tango","Wiener Walzer","Slowfox","Quickstep","Samba","Chachacha","Rumba","Paso Doble","Jive","Discofox"]
[{"$f":"Anmeldung!$E$7","v":"00:00:00"},{"$nulls":6},84,0," "," "," "," "," "," "," "," "," "," "," "," "," "," "," "," "," "," "," "," ",null,"Langsamer Walzer","Tango","Wiener Walzer","Slowfox","Quickstep","Samba","Chachacha","Rumba","Paso Doble","Jive","Discofox"]
[{"$f":"Anmeldung!$E$7","v":"00:00:00"},{"$nulls":6},85,0," "," "," "," "," "," "," "," "," "," "," "," "," "," "," "," "," "," "," "," ",null,"Langsamer Walzer","Tango","Wiener Walzer","Slowfox","Quickstep","Samba","Chachacha","Rumba","Paso Doble","Jive","Discofox"]
[{"$f":"Anmeldung!$E$7","v":"00:00:00"},{"$nulls":6},86,0," "," "," "," "," "," "," "," "," "," "," "," "," "," "," "," "," "," "," "," ",null,"Langsamer Walzer","Tango","Wiener Walzer","Slowfox","Quickstep","Samba","Chachacha","Rumba","Paso Doble","Jive","Discofox"]
[{"$f":"Anmeldung!$E$7","v":"00:00:00"},{"$nulls":6},87,0," "," "," "," "," "," "," "," "," "," "," "," "," "," "," "," "," "," "," "," ",null,"Langsamer Walzer","Tango","Wiener Walzer","Slowfox","Quickstep","Samba","Chachacha","Rumba","Paso Doble","Jive","Discofox"]
[{"$f":"Anmeldung!$E$7","v":"00:00:00"},{"$nulls":6},88,0," "," "," "," "," "," "," "," "," "," "," "," "," "," "," "," "," "," "," "," ",null,"Langsamer Walzer","Tango","Wiener Walzer","Slowfox","Quickstep","Samba","Chachacha","Rumba","Paso Doble","Jive","Discofox"]
[{"$f":"Anmeldung!$E$7","v":"00:00:00"},{"$nulls":6},89,0," "," "," "," "," "," "," "," "," "," "," "," "," "," "," "," "," "," "," "," ",null,"Langsamer Walzer","Tango","Wiener Walzer","Slowfox","Quickstep","Samba","Chachacha","Rumba","Paso Doble","Jive","Discofox"]
[{"$f":"Anmeldung!$E$7","v":"00:00:00"},{"$nulls":6},90,0," "," "," "," "," "," "," "," "," "," "," "," "," "," "," "," "," "," "," "," ",null,"Langsamer Walzer","Tango","Wiener Walzer","Slowfox","Quickstep","Samba","Chachacha","Rumba","Paso Doble","Jive","Discofox"]
[{"$f":"Anmeldung!$E$7","v":"00:00:00"},{"$nulls":6},91,0," "," "," "," "," "," "," "," "," "," "," "," "," "," "," "," "," "," "," "," ",null,"Langsamer Walzer","Tango","Wiener Walzer","Slowfox","Quickstep","Samba","Chachacha","Rumba","Paso Doble","Jive","Discofox"]
[{"$f":"Anmeldung!$E$7","v":"00:00:00"},{"$nulls":6},92,0," "," "," "," "," "," "," "," "," "," "," "," "," "," "," "," "," "," "," "," ",null,"Langsamer Walzer","Tango","Wiener Walzer","Slowfox","Quickstep","Samba","Chachacha","Rumba","Paso Doble","Jive","Discofox"]
[{"$f":"Anmeldung!$E$7","v":"00:00:00"},{"$nulls":6},93,0," "," "," "," "," "," "," "," "," "," "," "," "," "," "," "," "," "," "," "," ",null,"Langsamer Walzer","Tango","Wiener Walzer","Slowfox","Quickstep","Samba","Chachacha","Rumba","Paso Doble","Jive","Discofox"]
[{"$f":"Anmeldung!$E$7","v":"00:00:00"},{"$nulls":6},94,0," "," "," "," "," "," "," "," "," "," "," "," "," "," "," "," "," "," "," "," ",null,"Langsamer Walzer","Tango","Wiener Walzer","Slowfox","Quickstep","Samba","Chachacha","Rumba","Paso Doble","Jive","Discofox"]
[{"$f":"Anmeldung!$E$7","v":"00:00:00"},{"$nulls":6},95,0," "," "," "," "," "," "," "," "," "," "," "," "," "," "," "," "," "," "," "," ",null,"Langsamer Walzer","Tango","Wiener Walzer","Slowfox","Quickstep","Samba","Chachacha","Rumba","Paso Doble","Jive","Discofox"]
[{"$f":"Anmeldung!$E$7","v":"00:00:00"},{"$nulls":6},96,0," "," "," "," "," "," "," "," "," "," "," "," "," "," "," "," "," "," "," "," ",null,"Langsamer Walzer","Tango","Wiener Walzer","Slowfox","Quickstep","Samba","Chachacha","Rumba","Paso Doble","Jive","Discofox"]
[{"$f":"Anmeldung!$E$7","v":"00:00:00"},{"$nulls":6},97,0," "," "," "," "," "," "," "," "," "," "," "," "," "," "," "," "," "," "," "," ",null,{"$f":"$AE$8","v":"Langsamer Walzer"},{"$f":"$AF$8","v":"Tango"},{"$f":"$AG$8","v":"Wiener Walzer"},{"$f":"$AH$8","v":"Slowfox"},{"$f":"$AI$8","v":"Quickstep"},{"$f":"$AJ$8","v":"Samba"},{"$f":"$AK$8","v":"Chachacha"},{"$f":"$AL$8","v":"Rumba"},{"$f":"$AM$8","v":"Paso Doble"},{"$f":"$AN$8","v":"Jive"},{"$f":"$AO$8","v":"Discofox"}]
[{"$f":"Anmeldung!$E$7","v":"00:00:00"},{"$nulls":6},98,0," "," "," "," "," "," "," "," "," "," "," "," "," "," "," "," "," "," "," "," ",null,"Langsamer Walzer","Tango","Wiener Walzer","Slowfox","Quickstep","Samba","Chachacha","Rumba","Paso Doble","Jive","Discofox"]
[{"$f":"Anmeldung!$E$7","v":"00:00:00"},{"$nulls":6},99,0," "," "," "," "," "," "," "," "," "," "," "," "," "," "," "," "," "," "," "," ",null,"Langsamer Walzer","Tango","Wiener Walzer","Slowfox","Quickstep","Samba","Chachacha","Rumba","Paso Doble","Jive","Discofox"]
[{"$f":"Anmeldung!$E$7","v":"00:00:00"},{"$nulls":6},100,0," "," "," "," "," "," "," "," "," "," "," "," "," "," "," "," "," "," "," "," ",null,"Langsamer Walzer","Tango","Wiener Walzer","Slowfox","Quickstep","Samba","Chachacha","Rumba","Paso Doble","Jive","Discofox"]
[{"$f":"Anmeldung!$E$7","v":"00:00:00"},{"$nulls":6},101,0," "," "," "," "," "," "," "," "," "," "," "," "," "," "," "," "," "," "," "," ",null,"Langsamer Walzer","Tango","Wiener Walzer","Slowfox","Quickstep","Samba","Chachacha","Rumba","Paso Doble","Jive","Discofox"]
[{"$f":"Anmeldung!$E$7","v":"00:00:00"},{"$nulls":6},102,0," "," "," "," "," "," "," "," "," "," "," "," "," "," "," "," "," "," "," "," ",null,"Langsamer Walzer","Tango","Wiener Walzer","Slowfox","Quickstep","Samba","Chachacha","Rumba","Paso Doble","Jive","Discofox"]
[{"$f":"Anmeldung!$E$7","v":"00:00:00"},{"$nulls":6},103,0," "," "," "," "," "," "," "," "," "," "," "," "," "," "," "," "," "," "," "," ",null,"Langsamer Walzer","Tango","Wiener Walzer","Slowfox","Quickstep","Samba","Chachacha","Rumba","Paso Doble","Jive","Discofox"]
[{"$f":"Anmeldung!$E$7","v":"00:00:00"},{"$nulls":6},104,0," "," "," "," "," "," "," "," "," "," "," "," "," "," "," "," "," "," "," "," ",null,"Langsamer Walzer","Tango","Wiener Walzer","Slowfox","Quickstep","Samba","Chachacha","Rumba","Paso Doble","Jive","Discofox"]
[{"$f":"Anmeldung!$E$7","v":"00:00:00"},{"$nulls":6},105,0," "," "," "," "," "," "," "," "," "," "," "," "," "," "," "," "," "," "," "," ",null,"Langsamer Walzer","Tango","Wiener Walzer","Slowfox","Quickstep","Samba","Chachacha","Rumba","Paso Doble","Jive","Discofox"]
[{"$f":"Anmeldung!$E$7","v":"00:00:00"},{"$nulls":6},106,0," "," "," "," "," "," "," "," "," "," "," "," "," "," "," "," "," "," "," "," ",null,"Langsamer Walzer","Tango","Wiener Walzer","Slowfox","Quickstep","Samba","Chachacha","Rumba","Paso Doble","Jive","Discofox"]
[{"$f":"Anmeldung!$E$7","v":"00:00:00"},{"$nulls":6},107,0," "," "," "," "," "," "," "," "," "," "," "," "," "," "," "," "," "," "," "," ",null,"Langsamer Walzer","Tango","Wiener Walzer","Slowfox","Quickstep","Samba","Chachacha","Rumba","Paso Doble","Jive","Discofox"]
[{"$f":"Anmeldung!$E$7","v":"00:00:00"},{"$nulls":6},108,0," "," "," "," "," "," "," "," "," "," "," "," "," "," "," "," "," "," "," "," ",null,"Langsamer Walzer","Tango","Wiener Walzer","Slowfox","Quickstep","Samba","Chachacha","Rumba","Paso Doble","Jive","Discofox"]
[{"$f":"Anmeldung!$E$7","v":"00:00:00"},{"$nulls":6},109,0," "," "," "," "," "," "," "," "," "," "," "," "," "," "," "," "," "," "," "," ",null,"Langsamer Walzer","Tango","Wiener Walzer","Slowfox","Quickstep","Samba","Chachacha","Rumba","Paso Doble","Jive","Discofox"]
[{"$f":"Anmeldung!$E$7","v":"00:00:00"},{"$nulls":6},110,0," "," "," "," "," "," "," "," "," "," "," "," "," "," "," "," "," "," "," "," ",null,"Langsamer Walzer","Tango","Wiener Walzer","Slowfox","Quickstep","Samba","Chachacha","Rumba","Paso Doble","Jive","Discofox"]
[{"$f":"Anmeldung!$E$7","v":"00:00:00"},{"$nulls":6},111,0," "," "," "," "," "," "," "," "," "," "," "," "," "," "," "," "," "," "," "," ",null,"Langsamer Walzer","Tango","Wiener Walzer","Slowfox","Quickstep","Samba","Chachacha","Rumba","Paso Doble","Jive","Discofox"]
[{"$f":"Anmeldung!$E$7","v":"00:00:00"},{"$nulls":6},112,0," "," "," "," "," "," "," "," "," "," "," "," "," "," "," "," "," "," "," "," ",null,"Langsamer Walzer","Tango","Wiener Walzer","Slowfox","Quickstep","Samba","Chachacha","Rumba","Paso Doble","Jive","Discofox"]
[{"$f":"Anmeldung!$E$7","v":"00:00:00"},{"$nulls":6},113,0," "," "," "," "," "," "," "," "," "," "," "," "," "," "," "," "," "," "," "," ",null,"Langsamer Walzer","Tango","Wiener Walzer","Slowfox","Quickstep","Samba","Chachacha","Rumba","Paso Doble","Jive","Discofox"]
[{"$f":"Anmeldung!$E$7","v":"00:00:00"},{"$nulls":6},114,0," "," "," "," "," "," "," "," "," "," "," "," "," "," "," "," "," "," "," "," ",null,"Langsamer Walzer","Tango","Wiener Walzer","Slowfox","Quickstep","Samba","Chachacha","Rumba","Paso Doble","Jive","Discofox"]
[{"$f":"Anmeldung!$E$7","v":"00:00:00"},{"$nulls":6},115,0," "," "," "," "," "," "," "," "," "," "," "," "," "," "," "," "," "," "," "," ",null,"Langsamer Walzer","Tango","Wiener Walzer","Slowfox","Quickstep","Samba","Chachacha","Rumba","Paso Doble","Jive","Discofox"]
[{"$f":"Anmeldung!$E$7","v":"00:00:00"},{"$nulls":6},116,0," "," "," "," "," "," "," "," "," "," "," "," "," "," "," "," "," "," "," "," ",null,"Langsamer Walzer","Tango","Wiener Walzer","Slowfox","Quickstep","Samba","Chachacha","Rumba","Paso Doble","Jive","Discofox"]
[{"$f":"Anmeldung!$E$7","v":"00:00:00"},{"$nulls":6},117,0," "," "," "," "," "," "," "," "," "," "," "," "," "," "," "," "," "," "," "," ",null,"Langsamer Walzer","Tango","Wiener Walzer","Slowfox","Quickstep","Samba","Chachacha","Rumba","Paso Doble","Jive","Discofox"]
[{"$f":"Anmeldung!$E$7","v":"00:00:00"},{"$nulls":6},118,0," "," "," "," "," "," "," "," "," "," "," "," "," "," "," "," "," "," "," "," ",null,"Langsamer Walzer","Tango","Wiener Walzer","Slowfox","Quickstep","Samba","Chachacha","Rumba","Paso Doble","Jive","Discofox"]
[{"$f":"Anmeldung!$E$7","v":"00:00:00"},{"$nulls":6},119,0," "," "," "," "," "," "," "," "," "," "," "," "," "," "," "," "," "," "," "," ",null,"Langsamer Walzer","Tango","Wiener Walzer","Slowfox","Quickstep","Samba","Chachacha","Rumba","Paso Doble","Jive","Discofox"]
[{"$f":"Anmeldung!$E$7","v":"00:00:00"},{"$nulls":6},120,0," "," "," "," "," "," "," "," "," "," "," "," "," "," "," "," "," "," "," "," ",null,"Langsamer Walzer","Tango","Wiener Walzer","Slowfox","Quickstep","Samba","Chachacha","Rumba","Paso Doble","Jive","Discofox"]
[{"$f":"Anmeldung!$E$7","v":"00:00:00"},{"$nulls":6},121,0," "," "," "," "," "," "," "," "," "," "," "," "," "," "," "," "," "," "," "," ",null,"Langsamer Walzer","Tango","Wiener Walzer","Slowfox","Quickstep","Samba","Chachacha","Rumba","Paso Doble","Jive","Discofox"]
[{"$f":"Anmeldung!$E$7","v":"00:00:00"},{"$nulls":6},122,0," "," "," "," "," "," "," "," "," "," "," "," "," "," "," "," "," "," "," "," ",null,"Langsamer Walzer","Tango","Wiener Walzer","Slowfox","Quickstep","Samba","Chachacha","Rumba","Paso Doble","Jive","Discofox"]
[{"$f":"Anmeldung!$E$7","v":"00:00:00"},{"$nulls":6},123,0," "," "," "," "," "," "," "," "," "," "," "," "," "," "," "," "," "," "," "," ",null,"Langsamer Walzer","Tango","Wiener Walzer","Slowfox","Quickstep","Samba","Chachacha","Rumba","Paso Doble","Jive","Discofox"]
[{"$f":"Anmeldung!$E$7","v":"00:00:00"},{"$nulls":6},124,0," "," "," "," "," "," "," "," "," "," "," "," "," "," "," "," "," "," "," "," ",null,"Langsamer Walzer","Tango","Wiener Walzer","Slowfox","Quickstep","Samba","Chachacha","Rumba","Paso Doble","Jive","Discofox"]
[{"$f":"Anmeldung!$E$7","v":"00:00:00"},{"$nulls":6},125,0," "," "," "," "," "," "," "," "," "," "," "," "," "," "," "," "," "," "," "," ",null,"Langsamer Walzer","Tango","Wiener Walzer","Slowfox","Quickstep","Samba","Chachacha","Rumba","Paso Doble","Jive","Discofox"]
[{"$f":"Anmeldung!$E$7","v":"00:00:00"},{"$nulls":6},126,0," "," "," "," "," "," "," "," "," "," "," "," "," "," "," "," "," "," "," "," ",null,"Langsamer Walzer","Tango","Wiener Walzer","Slowfox","Quickstep","Samba","Chachacha","Rumba","Paso Doble","Jive","Discofox"]
[{"$f":"Anmeldung!$E$7","v":"00:00:00"},{"$nulls":6},127,0," "," "," "," "," "," "," "," "," "," "," "," "," "," "," "," "," "," "," "," ",null,"Langsamer Walzer","Tango","Wiener Walzer","Slowfox","Quickstep","Samba","Chachacha","Rumba","Paso Doble","Jive","Discofox"]
[{"$f":"Anmeldung!$E$7","v":"00:00:00"},{"$nulls":6},128,0," "," "," "," "," "," "," "," "," "," "," "," "," "," "," "," "," "," "," "," ",null,"Langsamer Walzer","Tango","Wiener Walzer","Slowfox","Quickstep","Samba","Chachacha","Rumba","Paso Doble","Jive","Discofox"]
[{"$f":"Anmeldung!$E$7","v":"00:00:00"},{"$nulls":6},129,{"$f":"COUNTIF(J138:AC138,\"x\")","v":0}," "," "," "," "," "," "," "," "," "," "," "," "," "," "," "," "," "," "," "," ",null,{"$f":"$AE$8","v":"Langsamer Walzer"},{"$f":"$AF$8","v":"Tango"},{"$f":"$AG$8","v":"Wiener Walzer"},{"$f":"$AH$8","v":"Slowfox"},{"$f":"$AI$8","v":"Quickstep"},{"$f":"$AJ$8","v":"Samba"},{"$f":"$AK$8","v":"Chachacha"},{"$f":"$AL$8","v":"Rumba"},{"$f":"$AM$8","v":"Paso Doble"},{"$f":"$AN$8","v":"Jive"},{"$f":"$AO$8","v":"Discofox"}]
[{"$f":"Anmeldung!$E$7","v":"00:00:00"},{"$nulls":6},130,0," "," "," "," "," "," "," "," "," "," "," "," "," "," "," "," "," "," "," "," ",null,"Langsamer Walzer","Tango","Wiener Walzer","Slowfox","Quickstep","Samba","Chachacha","Rumba","Paso Doble","Jive","Discofox"]
[{"$f":"Anmeldung!$E$7","v":"00:00:00"},{"$nulls":6},131,0," "," "," "," "," "," "," "," "," "," "," "," "," "," "," "," "," "," "," "," ",null,"Langsamer Walzer","Tango","Wiener Walzer","Slowfox","Quickstep","Samba","Chachacha","Rumba","Paso Doble","Jive","Discofox"]
[{"$f":"Anmeldung!$E$7","v":"00:00:00"},{"$nulls":6},132,0," "," "," "," "," "," "," "," "," "," "," "," "," "," "," "," "," "," "," "," ",null,"Langsamer Walzer","Tango","Wiener Walzer","Slowfox","Quickstep","Samba","Chachacha","Rumba","Paso Doble","Jive","Discofox"]
[{"$f":"Anmeldung!$E$7","v":"00:00:00"},{"$nulls":6},133,0," "," "," "," "," "," "," "," "," "," "," "," "," "," "," "," "," "," "," "," ",null,"Langsamer Walzer","Tango","Wiener Walzer","Slowfox","Quickstep","Samba","Chachacha","Rumba","Paso Doble","Jive","Discofox"]
[{"$f":"Anmeldung!$E$7","v":"00:00:00"},{"$nulls":6},134,0," "," "," "," "," "," "," "," "," "," "," "," "," "," "," "," "," "," "," "," ",null,"Langsamer Walzer","Tango","Wiener Walzer","Slowfox","Quickstep","Samba","Chachacha","Rumba","Paso Doble","Jive","Discofox"]
[{"$f":"Anmeldung!$E$7","v":"00:00:00"},{"$nulls":6},135,0," "," "," "," "," "," "," "," "," "," "," "," "," "," "," "," "," "," "," "," ",null,"Langsamer Walzer","Tango","Wiener Walzer","Slowfox","Quickstep","Samba","Chachacha","Rumba","Paso Doble","Jive","Discofox"]
[{"$f":"Anmeldung!$E$7","v":"00:00:00"},{"$nulls":6},136,0," "," "," "," "," "," "," "," "," "," "," "," "," "," "," "," "," "," "," "," ",null,"Langsamer Walzer","Tango","Wiener Walzer","Slowfox","Quickstep","Samba","Chachacha","Rumba","Paso Doble","Jive","Discofox"]
[{"$f":"Anmeldung!$E$7","v":"00:00:00"},{"$nulls":6},137,0," "," "," "," "," "," "," "," "," "," "," "," "," "," "," "," "," "," "," "," ",null,"Langsamer Walzer","Tango","Wiener Walzer","Slowfox","Quickstep","Samba","Chachacha","Rumba","Paso Doble","Jive","Discofox"]
[{"$f":"Anmeldung!$E$7","v":"00:00:00"},{"$nulls":6},138,0," "," "," "," "," "," "," "," "," "," "," "," "," "," "," "," "," "," "," "," ",null,"Langsamer Walzer","Tango","Wiener Walzer","Slowfox","Quickstep","Samba","Chachacha","Rumba","Paso Doble","Jive","Discofox"]
[{"$f":"Anmeldung!$E$7","v":"00:00:00"},{"$nulls":6},139,0," "," "," "," "," "," "," "," "," "," "," "," "," "," "," "," "," "," "," "," ",null,"Langsamer Walzer","Tango","Wiener Walzer","Slowfox","Quickstep","Samba","Chachacha","Rumba","Paso Doble","Jive","Discofox"]
[{"$f":"Anmeldung!$E$7","v":"00:00:00"},{"$nulls":6},140,0," "," "," "," "," "," "," "," "," "," "," "," "," "," "," "," "," "," "," "," ",null,"Langsamer Walzer","Tango","Wiener Walzer","Slowfox","Quickstep","Samba","Chachacha","Rumba","Paso Doble","Jive","Discofox"]
[{"$f":"Anmeldung!$E$7","v":"00:00:00"},{"$nulls":6},141,0," "," "," "," "," "," "," "," "," "," "," "," "," "," "," "," "," "," "," "," ",null,"Langsamer Walzer","Tango","Wiener Walzer","Slowfox","Quickstep","Samba","Chachacha","Rumba","Paso Doble","Jive","Discofox"]
[{"$f":"Anmeldung!$E$7","v":"00:00:00"},{"$nulls":6},142,0," "," "," "," "," "," "," "," "," "," "," "," "," "," "," "," "," "," "," "," ",null,"Langsamer Walzer","Tango","Wiener Walzer","Slowfox","Quickstep","Samba","Chachacha","Rumba","Paso Doble","Jive","Discofox"]
[{"$f":"Anmeldung!$E$7","v":"00:00:00"},{"$nulls":6},143,0," "," "," "," "," "," "," "," "," "," "," "," "," "," "," "," "," "," "," "," ",null,"Langsamer Walzer","Tango","Wiener Walzer","Slowfox","Quickstep","Samba","Chachacha","Rumba","Paso Doble","Jive","Discofox"]
[{"$f":"Anmeldung!$E$7","v":"00:00:00"},{"$nulls":6},144,0," "," "," "," "," "," "," "," "," "," "," "," "," "," "," "," "," "," "," "," ",null,"Langsamer Walzer","Tango","Wiener Walzer","Slowfox","Quickstep","Samba","Chachacha","Rumba","Paso Doble","Jive","Discofox"]
[{"$f":"Anmeldung!$E$7","v":"00:00:00"},{"$nulls":6},145,0," "," "," "," "," "," "," "," "," "," "," "," "," "," "," "," "," "," "," "," ",null,"Langsamer Walzer","Tango","Wiener Walzer","Slowfox","Quickstep","Samba","Chachacha","Rumba","Paso Doble","Jive","Discofox"]
[{"$f":"Anmeldung!$E$7","v":"00:00:00"},{"$nulls":6},146,0," "," "," "," "," "," "," "," "," "," "," "," "," "," "," "," "," "," "," "," ",null,"Langsamer Walzer","Tango","Wiener Walzer","Slowfox","Quickstep","Samba","Chachacha","Rumba","Paso Doble","Jive","Discofox"]
[{"$f":"Anmeldung!$E$7","v":"00:00:00"},{"$nulls":6},147,0," "," "," "," "," "," "," "," "," "," "," "," "," "," "," "," "," "," "," "," ",null,"Langsamer Walzer","Tango","Wiener Walzer","Slowfox","Quickstep","Samba","Chachacha","Rumba","Paso Doble","Jive","Discofox"]
[{"$f":"Anmeldung!$E$7","v":"00:00:00"},{"$nulls":6},148,0," "," "," "," "," "," "," "," "," "," "," "," "," "," "," "," "," "," "," "," ",null,"Langsamer Walzer","Tango","Wiener Walzer","Slowfox","Quickstep","Samba","Chachacha","Rumba","Paso Doble","Jive","Discofox"]
[{"$f":"Anmeldung!$E$7","v":"00:00:00"},{"$nulls":6},149,0," "," "," "," "," "," "," "," "," "," "," "," "," "," "," "," "," "," "," "," ",null,"Langsamer Walzer","Tango","Wiener Walzer","Slowfox","Quickstep","Samba","Chachacha","Rumba","Paso Doble","Jive","Discofox"]
[{"$f":"Anmeldung!$E$7","v":"00:00:00"},{"$nulls":6},150,0," "," "," "," "," "," "," "," "," "," "," "," "," "," "," "," "," "," "," "," ",null,"Langsamer Walzer","Tango","Wiener Walzer","Slowfox","Quickstep","Samba","Chachacha","Rumba","Paso Doble","Jive","Discofox"]
[{"$f":"Anmeldung!$E$7","v":"00:00:00"},{"$nulls":6},151,0," "," "," "," "," "," "," "," "," "," "," "," "," "," "," "," "," "," "," "," ",null,"Langsamer Walzer","Tango","Wiener Walzer","Slowfox","Quickstep","Samba","Chachacha","Rumba","Paso Doble","Jive","Discofox"]
[{"$f":"Anmeldung!$E$7","v":"00:00:00"},{"$nulls":6},152,0," "," "," "," "," "," "," "," "," "," "," "," "," "," "," "," "," "," "," "," ",null,"Langsamer Walzer","Tango","Wiener Walzer","Slowfox","Quickstep","Samba","Chachacha","Rumba","Paso Doble","Jive","Discofox"]
[{"$f":"Anmeldung!$E$7","v":"00:00:00"},{"$nulls":6},153,0," "," "," "," "," "," "," "," "," "," "," "," "," "," "," "," "," "," "," "," ",null,"Langsamer Walzer","Tango","Wiener Walzer","Slowfox","Quickstep","Samba","Chachacha","Rumba","Paso Doble","Jive","Discofox"]
[{"$f":"Anmeldung!$E$7","v":"00:00:00"},{"$nulls":6},154,0," "," "," "," "," "," "," "," "," "," "," "," "," "," "," "," "," "," "," "," ",null,"Langsamer Walzer","Tango","Wiener Walzer","Slowfox","Quickstep","Samba","Chachacha","Rumba","Paso Doble","Jive","Discofox"]
[{"$f":"Anmeldung!$E$7","v":"00:00:00"},{"$nulls":6},155,0," "," "," "," "," "," "," "," "," "," "," "," "," "," "," "," "," "," "," "," ",null,"Langsamer Walzer","Tango","Wiener Walzer","Slowfox","Quickstep","Samba","Chachacha","Rumba","Paso Doble","Jive","Discofox"]
[{"$f":"Anmeldung!$E$7","v":"00:00:00"},{"$nulls":6},156,0," "," "," "," "," "," "," "," "," "," "," "," "," "," "," "," "," "," "," "," ",null,"Langsamer Walzer","Tango","Wiener Walzer","Slowfox","Quickstep","Samba","Chachacha","Rumba","Paso Doble","Jive","Discofox"]
[{"$f":"Anmeldung!$E$7","v":"00:00:00"},{"$nulls":6},157,0," "," "," "," "," "," "," "," "," "," "," "," "," "," "," "," "," "," "," "," ",null,"Langsamer Walzer","Tango","Wiener Walzer","Slowfox","Quickstep","Samba","Chachacha","Rumba","Paso Doble","Jive","Discofox"]
[{"$f":"Anmeldung!$E$7","v":"00:00:00"},{"$nulls":6},158,0," "," "," "," "," "," "," "," "," "," "," "," "," "," "," "," "," "," "," "," ",null,"Langsamer Walzer","Tango","Wiener Walzer","Slowfox","Quickstep","Samba","Chachacha","Rumba","Paso Doble","Jive","Discofox"]
[{"$f":"Anmeldung!$E$7","v":"00:00:00"},{"$nulls":6},159,0," "," "," "," "," "," "," "," "," "," "," "," "," "," "," "," "," "," "," "," ",null,"Langsamer Walzer","Tango","Wiener Walzer","Slowfox","Quickstep","Samba","Chachacha","Rumba","Paso Doble","Jive","Discofox"]
[{"$f":"Anmeldung!$E$7","v":"00:00:00"},{"$nulls":6},160,0," "," "," "," "," "," "," "," "," "," "," "," "," "," "," "," "," "," "," "," ",null,"Langsamer Walzer","Tango","Wiener Walzer","Slowfox","Quickstep","Samba","Chachacha","Rumba","Paso Doble","Jive","Discofox"]
[{"$f":"Anmeldung!$E$7","v":"00:00:00"},{"$nulls":6},161,0," "," "," "," "," "," "," "," "," "," "," "," "," "," "," "," "," "," "," "," ",null,{"$f":"$AE$8","v":"Langsamer Walzer"},{"$f":"$AF$8","v":"Tango"},{"$f":"$AG$8","v":"Wiener Walzer"},{"$f":"$AH$8","v":"Slowfox"},{"$f":"$AI$8","v":"Quickstep"},{"$f":"$AJ$8","v":"Samba"},{"$f":"$AK$8","v":"Chachacha"},{"$f":"$AL$8","v":"Rumba"},{"$f":"$AM$8","v":"Paso Doble"},{"$f":"$AN$8","v":"Jive"},{"$f":"$AO$8","v":"Discofox"}]
[{"$f":"Anmeldung!$E$7","v":"00:00:00"},{"$nulls":6},162,0," "," "," "," "," "," "," "," "," "," "," "," "," "," "," "," "," "," "," "," ",null,"Langsamer Walzer","Tango","Wiener Walzer","Slowfox","Quickstep","Samba","Chachacha","Rumba","Paso Doble","Jive","Discofox"]
[{"$f":"Anmeldung!$E$7","v":"00:00:00"},{"$nulls":6},163,0," "," "," "," "," "," "," "," "," "," "," "," "," "," "," "," "," "," "," "," ",null,"Langsamer Walzer","Tango","Wiener Walzer","Slowfox","Quickstep","Samba","Chachacha","Rumba","Paso Doble","Jive","Discofox"]
[{"$f":"Anmeldung!$E$7","v":"00:00:00"},{"$nulls":6},164,0," "," "," "," "," "," "," "," "," "," "," "," "," "," "," "," "," "," "," "," ",null,"Langsamer Walzer","Tango","Wiener Walzer","Slowfox","Quickstep","Samba","Chachacha","Rumba","Paso Doble","Jive","Discofox"]
[{"$f":"Anmeldung!$E$7","v":"00:00:00"},{"$nulls":6},165,0," "," "," "," "," "," "," "," "," "," "," "," "," "," "," "," "," "," "," "," ",null,"Langsamer Walzer","Tango","Wiener Walzer","Slowfox","Quickstep","Samba","Chachacha","Rumba","Paso Doble","Jive","Discofox"]
[{"$f":"Anmeldung!$E$7","v":"00:00:00"},{"$nulls":6},166,0," "," "," "," "," "," "," "," "," "," "," "," "," "," "," "," "," "," "," "," ",null,"Langsamer Walzer","Tango","Wiener Walzer","Slowfox","Quickstep","Samba","Chachacha","Rumba","Paso Doble","Jive","Discofox"]
[{"$f":"Anmeldung!$E$7","v":"00:00:00"},{"$nulls":6},167,0," "," "," "," "," "," "," "," "," "," "," "," "," "," "," "," "," "," "," "," ",null,"Langsamer Walzer","Tango","Wiener Walzer","Slowfox","Quickstep","Samba","Chachacha","Rumba","Paso Doble","Jive","Discofox"]
[{"$f":"Anmeldung!$E$7","v":"00:00:00"},{"$nulls":6},168,0," "," "," "," "," "," "," "," "," "," "," "," "," "," "," "," "," "," "," "," ",null,"Langsamer Walzer","Tango","Wiener Walzer","Slowfox","Quickstep","Samba","Chachacha","Rumba","Paso Doble","Jive","Discofox"]
[{"$f":"Anmeldung!$E$7","v":"00:00:00"},{"$nulls":6},169,0," "," "," "," "," "," "," "," "," "," "," "," "," "," "," "," "," "," "," "," ",null,"Langsamer Walzer","Tango","Wiener Walzer","Slowfox","Quickstep","Samba","Chachacha","Rumba","Paso Doble","Jive","Discofox"]
[{"$f":"Anmeldung!$E$7","v":"00:00:00"},{"$nulls":6},170,0," "," "," "," "," "," "," "," "," "," "," "," "," "," "," "," "," "," "," "," ",null,"Langsamer Walzer","Tango","Wiener Walzer","Slowfox","Quickstep","Samba","Chachacha","Rumba","Paso Doble","Jive","Discofox"]
[{"$f":"Anmeldung!$E$7","v":"00:00:00"},{"$nulls":6},171,0," "," "," "," "," "," "," "," "," "," "," "," "," "," "," "," "," "," "," "," ",null,"Langsamer Walzer","Tango","Wiener Walzer","Slowfox","Quickstep","Samba","Chachacha","Rumba","Paso Doble","Jive","Discofox"]
[{"$f":"Anmeldung!$E$7","v":"00:00:00"},{"$nulls":6},172,0," "," "," "," "," "," "," "," "," "," "," "," "," "," "," "," "," "," "," "," ",null,"Langsamer Walzer","Tango","Wiener Walzer","Slowfox","Quickstep","Samba","Chachacha","Rumba","Paso Doble","Jive","Discofox"]
[{"$f":"Anmeldung!$E$7","v":"00:00:00"},{"$nulls":6},173,0," "," "," "," "," "," "," "," "," "," "," "," "," "," "," "," "," "," "," "," ",null,"Langsamer Walzer","Tango","Wiener Walzer","Slowfox","Quickstep","Samba","Chachacha","Rumba","Paso Doble","Jive","Discofox"]
[{"$f":"Anmeldung!$E$7","v":"00:00:00"},{"$nulls":6},174,0," "," "," "," "," "," "," "," "," "," "," "," "," "," "," "," "," "," "," "," ",null,"Langsamer Walzer","Tango","Wiener Walzer","Slowfox","Quickstep","Samba","Chachacha","Rumba","Paso Doble","Jive","Discofox"]
[{"$f":"Anmeldung!$E$7","v":"00:00:00"},{"$nulls":6},175,0," "," "," "," "," "," "," "," "," "," "," "," "," "," "," "," "," "," "," "," ",null,"Langsamer Walzer","Tango","Wiener Walzer","Slowfox","Quickstep","Samba","Chachacha","Rumba","Paso Doble","Jive","Discofox"]
[{"$f":"Anmeldung!$E$7","v":"00:00:00"},{"$nulls":6},176,0," "," "," "," "," "," "," "," "," "," "," "," "," "," "," "," "," "," "," "," ",null,"Langsamer Walzer","Tango","Wiener Walzer","Slowfox","Quickstep","Samba","Chachacha","Rumba","Paso Doble","Jive","Discofox"]
[{"$f":"Anmeldung!$E$7","v":"00:00:00"},{"$nulls":6},177,0," "," "," "," "," "," "," "," "," "," "," "," "," "," "," "," "," "," "," "," ",null,"Langsamer Walzer","Tango","Wiener Walzer","Slowfox","Quickstep","Samba","Chachacha","Rumba","Paso Doble","Jive","Discofox"]
[{"$f":"Anmeldung!$E$7","v":"00:00:00"},{"$nulls":6},178,0," "," "," "," "," "," "," "," "," "," "," "," "," "," "," "," "," "," "," "," ",null,"Langsamer Walzer","Tango","Wiener Walzer","Slowfox","Quickstep","Samba","Chachacha","Rumba","Paso Doble","Jive","Discofox"]
[{"$f":"Anmeldung!$E$7","v":"00:00:00"},{"$nulls":6},179,0," "," "," "," "," "," "," "," "," "," "," "," "," "," "," "," "," "," "," "," ",null,"Langsamer Walzer","Tango","Wiener Walzer","Slowfox","Quickstep","Samba","Chachacha","Rumba","Paso Doble","Jive","Discofox"]
[{"$f":"Anmeldung!$E$7","v":"00:00:00"},{"$nulls":6},180,0," "," "," "," "," "," "," "," "," "," "," "," "," "," "," "," "," "," "," "," ",null,"Langsamer Walzer","Tango","Wiener Walzer","Slowfox","Quickstep","Samba","Chachacha","Rumba","Paso Doble","Jive","Discofox"]
[{"$f":"Anmeldung!$E$7","v":"00:00:00"},{"$nulls":6},181,0," "," "," "," "," "," "," "," "," "," "," "," "," "," "," "," "," "," "," "," ",null,"Langsamer Walzer","Tango","Wiener Walzer","Slowfox","Quickstep","Samba","Chachacha","Rumba","Paso Doble","Jive","Discofox"]
[{"$f":"Anmeldung!$E$7","v":"00:00:00"},{"$nulls":6},182,0," "," "," "," "," "," "," "," "," "," "," "," "," "," "," "," "," "," "," "," ",null,"Langsamer Walzer","Tango","Wiener Walzer","Slowfox","Quickstep","Samba","Chachacha","Rumba","Paso Doble","Jive","Discofox"]
[{"$f":"Anmeldung!$E$7","v":"00:00:00"},{"$nulls":6},183,0," "," "," "," "," "," "," "," "," "," "," "," "," "," "," "," "," "," "," "," ",null,"Langsamer Walzer","Tango","Wiener Walzer","Slowfox","Quickstep","Samba","Chachacha","Rumba","Paso Doble","Jive","Discofox"]
[{"$f":"Anmeldung!$E$7","v":"00:00:00"},{"$nulls":6},184,0," "," "," "," "," "," "," "," "," "," "," "," "," "," "," "," "," "," "," "," ",null,"Langsamer Walzer","Tango","Wiener Walzer","Slowfox","Quickstep","Samba","Chachacha","Rumba","Paso Doble","Jive","Discofox"]
[{"$f":"Anmeldung!$E$7","v":"00:00:00"},{"$nulls":6},185,0," "," "," "," "," "," "," "," "," "," "," "," "," "," "," "," "," "," "," "," ",null,"Langsamer Walzer","Tango","Wiener Walzer","Slowfox","Quickstep","Samba","Chachacha","Rumba","Paso Doble","Jive","Discofox"]
[{"$f":"Anmeldung!$E$7","v":"00:00:00"},{"$nulls":6},186,0," "," "," "," "," "," "," "," "," "," "," "," "," "," "," "," "," "," "," "," ",null,"Langsamer Walzer","Tango","Wiener Walzer","Slowfox","Quickstep","Samba","Chachacha","Rumba","Paso Doble","Jive","Discofox"]
[{"$f":"Anmeldung!$E$7","v":"00:00:00"},{"$nulls":6},187,0," "," "," "," "," "," "," "," "," "," "," "," "," "," "," "," "," "," "," "," ",null,"Langsamer Walzer","Tango","Wiener Walzer","Slowfox","Quickstep","Samba","Chachacha","Rumba","Paso Doble","Jive","Discofox"]
[{"$f":"Anmeldung!$E$7","v":"00:00:00"},{"$nulls":6},188,0," "," "," "," "," "," "," "," "," "," "," "," "," "," "," "," "," "," "," "," ",null,"Langsamer Walzer","Tango","Wiener Walzer","Slowfox","Quickstep","Samba","Chachacha","Rumba","Paso Doble","Jive","Discofox"]
[{"$f":"Anmeldung!$E$7","v":"00:00:00"},{"$nulls":6},189,0," "," "," "," "," "," "," "," "," "," "," "," "," "," "," "," "," "," "," "," ",null,"Langsamer Walzer","Tango","Wiener Walzer","Slowfox","Quickstep","Samba","Chachacha","Rumba","Paso Doble","Jive","Discofox"]
[{"$f":"Anmeldung!$E$7","v":"00:00:00"},{"$nulls":6},190,0," "," "," "," "," "," "," "," "," "," "," "," "," "," "," "," "," "," "," "," ",null,"Langsamer Walzer","Tango","Wiener Walzer","Slowfox","Quickstep","Samba","Chachacha","Rumba","Paso Doble","Jive","Discofox"]
[{"$f":"Anmeldung!$E$7","v":"00:00:00"},{"$nulls":6},191,0," "," "," "," "," "," "," "," "," "," "," "," "," "," "," "," "," "," "," "," ",null,"Langsamer Walzer","Tango","Wiener Walzer","Slowfox","Quickstep","Samba","Chachacha","Rumba","Paso Doble","Jive","Discofox"]
[{"$f":"Anmeldung!$E$7","v":"00:00:00"},{"$nulls":6},192,0," "," "," "," "," "," "," "," "," "," "," "," "," "," "," "," "," "," "," "," ",null,"Langsamer Walzer","Tango","Wiener Walzer","Slowfox","Quickstep","Samba","Chachacha","Rumba","Paso Doble","Jive","Discofox"]
[{"$f":"Anmeldung!$E$7","v":"00:00:00"},{"$nulls":6},193,{"$f":"COUNTIF(J202:AC202,\"x\")","v":0}," "," "," "," "," "," "," "," "," "," "," "," "," "," "," "," "," "," "," "," ",null,{"$f":"$AE$8","v":"Langsamer Walzer"},{"$f":"$AF$8","v":"Tango"},{"$f":"$AG$8","v":"Wiener Walzer"},{"$f":"$AH$8","v":"Slowfox"},{"$f":"$AI$8","v":"Quickstep"},{"$f":"$AJ$8","v":"Samba"},{"$f":"$AK$8","v":"Chachacha"},{"$f":"$AL$8","v":"Rumba"},{"$f":"$AM$8","v":"Paso Doble"},{"$f":"$AN$8","v":"Jive"},{"$f":"$AO$8","v":"Discofox"}]
[{"$f":"Anmeldung!$E$7","v":"00:00:00"},{"$nulls":6},194,0," "," "," "," "," "," "," "," "," "," "," "," "," "," "," "," "," "," "," "," ",null,"Langsamer Walzer","Tango","Wiener Walzer","Slowfox","Quickstep","Samba","Chachacha","Rumba","Paso Doble","Jive","Discofox"]
[{"$f":"Anmeldung!$E$7","v":"00:00:00"},{"$nulls":6},195,0," "," "," "," "," "," "," "," "," "," "," "," "," "," "," "," "," "," "," "," ",null,"Langsamer Walzer","Tango","Wiener Walzer","Slowfox","Quickstep","Samba","Chachacha","Rumba","Paso Doble","Jive","Discofox"]
[{"$f":"Anmeldung!$E$7","v":"00:00:00"},{"$nulls":6},196,0," "," "," "," "," "," "," "," "," "," "," "," "," "," "," "," "," "," "," "," ",null,"Langsamer Walzer","Tango","Wiener Walzer","Slowfox","Quickstep","Samba","Chachacha","Rumba","Paso Doble","Jive","Discofox"]
[{"$f":"Anmeldung!$E$7","v":"00:00:00"},{"$nulls":6},197,0," "," "," "," "," "," "," "," "," "," "," "," "," "," "," "," "," "," "," "," ",null,"Langsamer Walzer","Tango","Wiener Walzer","Slowfox","Quickstep","Samba","Chachacha","Rumba","Paso Doble","Jive","Discofox"]
[{"$f":"Anmeldung!$E$7","v":"00:00:00"},{"$nulls":6},198,0," "," "," "," "," "," "," "," "," "," "," "," "," "," "," "," "," "," "," "," ",null,"Langsamer Walzer","Tango","Wiener Walzer","Slowfox","Quickstep","Samba","Chachacha","Rumba","Paso Doble","Jive","Discofox"]
[{"$f":"Anmeldung!$E$7","v":"00:00:00"},{"$nulls":6},199,0," "," "," "," "," "," "," "," "," "," "," "," "," "," "," "," "," "," "," "," ",null,"Langsamer Walzer","Tango","Wiener Walzer","Slowfox","Quickstep","Samba","Chachacha","Rumba","Paso Doble","Jive","Discofox"]
[{"$f":"Anmeldung!$E$7","v":"00:00:00"},{"$nulls":6},200,0," "," "," "," "," "," "," "," "," "," "," "," "," "," "," "," "," "," "," "," ",null,"Langsamer Walzer","Tango","Wiener Walzer","Slowfox","Quickstep","Samba","Chachacha","Rumba","Paso Doble","Jive","Discofox"]
[" "," "," "," ",null," "," "," ",{"$f":"COUNTIF(J210:AC210,\"x\")","v":0},{"$nulls":6}," "," "," "," "," "," "," "," "," "," "," "," "," "," ",null,"Langsamer Walzer","Tango","Wiener Walzer","Slowfox","Quickstep","Samba","Chachacha","Rumba","Paso Doble","Jive","Discofox"]
[]
[null,"Urkunde und Abzeichen",null,"nur Urkunde"]
[]
[null,"kleines Tanzsternchen",{"$f":"COUNTIFS(B$10:B$209,B214,E$10:E$209,\"\")","v":0},"kleines Tanzsternchen",{"$f":"COUNTIFS(B$10:B$209,D214,E$10:E$209,\"x\")","v":0}]
[null,"großes Tanzsternchen",{"$f":"COUNTIFS(B$10:B$209,B215,E$10:E$209,\"\")","v":0},"großes Tanzsternchen",{"$f":"COUNTIFS(B$10:B$209,D215,E$10:E$209,\"x\")","v":0}]
[null,"Bronze",0,"Bronze",0]
[null,"Silber",0,"Silber",0]
[null,"Gold",0,"Gold",0]
[null,"Gold mit Zahl 5",0,"Gold mit Zahl 5",0]
[null,"Gold mit Zahl 10",0,"Gold mit Zahl 10",0]
[null,"Gold mit Zahl 15",0,"Gold mit Zahl 15",0]
[null,"Gold mit Zahl 20",0,"Gold mit Zahl 20",0]
[null,"Gold mit Zahl 25",0,"Gold mit Zahl 25",0]
[null,"Gold mit Zahl 30",0,"Gold mit Zahl 30",0]
[null,"Gold mit Zahl 35",0,"Gold mit Zahl 35",0]
[null,"Brillant",0,"Brillant",0]
[null,"Brillant mit Zahl 5",0,"Brillant mit Zahl 5",0]
[null,"Brillant mit Zahl 10",0,"Brillant mit Zahl 10",0]
[null,"Gesamt",{"$f":"SUM(C214:C228)","v":0},"Gesamt",{"$f":"SUM(E214:E228)","v":0}]

{"sheet":"Gruppen","index":2,"n_rows":31,"n_cols":13,"rows_kept":31,"cut":false,"hidden":false,"merged":[[5,1,5,2],[5,8,5,9],[27,0,27,4],[25,5,27,5],[25,12,27,12],[27,7,27,11],[4,1,4,5],[4,8,4,12],[0,0,0,5],[0,7,0,12],[3,1,3,5],[3,8,3,12],[2,1,2,4],[2,8,2,11]]}
["Gruppenabnahmekarte für das deutsche Tanzsportabzeichen",{"$nulls":6},"Gruppenabnahmekarte für das deutsche Tanzsportabzeichen"]
[]
["Abnahme am:",{"$f":"Meldedaten!$C$6","v":"00:00:00"},null,null,null,"max. 16 Personen pro Gruppenabnahme!",null,"Abnahme am:",{"$f":"Meldedaten!$C$6","v":"00:00:00"},null,null,null,"max. 16 Personen pro Gruppenabnahme!"]
["Verein/Schule:",{"$f":"Meldedaten!$H$6","v":0},{"$nulls":5},"Verein/Schule:",{"$f":"Meldedaten!$H$6","v":0}]
["Liedtitel:",{"$nulls":6},"Liedtitel:"]
["Gruppentanz Nr.:",{"$nulls":6},"Gruppentanz Nr.:"]
[]
["Start-Nr.:","Musik","Balancen","Bewegg.-\nAblauf","X=\nbestanden","spezielle Bemerkungen (Lob/Hinweis/Kritik)\nder/des Abnehmer/in",null,"Start-Nr.:","Musik","Balancen","Bewegg.-\nAblauf","X=\nbestanden","spezielle Bemerkungen (Lob/Hinweis/Kritik)\nder/des Abnehmer/in"]
{"$rows_empty":17}
["gesamte Gruppe",{"$nulls":4},"Die Bewertung \"gesamte Gruppe\" gilt für alle Einzelpersonen der Gruppe, außer es ist oben etwas anderes eingetragen. \nBeispiel: Die gesamte Gruppe erhält in jedem Wertungsgebiet ein X - Start-Nr:XY hatte einen schlechten Bewegungsablauf und erhält daher dort eine O eingetragen. Somit gilt für diese Person die Wertung x - x - o.",null,"gesamte Gruppe",{"$nulls":4},"Die Bewertung \"gesamte Gruppe\" gilt für alle Einzelpersonen der Gruppe, außer es ist oben etwas anderes eingetragen. \nBeispiel: Die gesamte Gruppe erhält in jedem Wertungsgebiet ein X - Start-Nr:XY hatte einen schlechten Bewegungsablauf und erhält daher dort eine O eingetragen. Somit gilt für diese Person die Wertung x - x - o."]
[]
["Unterschrift(en) Abnehmer/in(nen):",{"$nulls":6},"Unterschrift(en) Abnehmer/in(nen):"]
[]
[]
[{"$f":"Anmeldung!$L$19","v":"00:00:00"},null,null,null,{"$f":"Anmeldung!$L$20","v":0},{"$f":"Anmeldung!$L$21","v":0},null,{"$f":"Anmeldung!$L$19","v":"00:00:00"},null,null,null,{"$f":"Anmeldung!$L$20","v":0},{"$f":"Anmeldung!$L$21","v":0}]

{"sheet":"Meldedaten","index":3,"n_rows":6,"n_cols":77,"rows_kept":6,"cut":false,"hidden":false,"merged":[[2,25,2,39],[0,9,0,24],[0,25,0,40],[0,0,2,7],[2,9,2,23],[1,9,1,10],[1,25,1,26],[1,11,1,23],[1,27,1,39],[1,76,3,76],[2,41,2,44],[2,45,2,47],[2,48,2,50],[2,51,2,75],[1,41,1,44],[1,45,1,47],[1,48,1,50],[1,51,1,75]]}
["Hier können sie nichts ausfüllen, die Daten aus dem Anmeldeformular werden hier nur für die weitere Verarbeitung beim LTV und die Meldung an den DTV in einer anderen Form dargestellt.",{"$nulls":8},"Urkunde und Abzeichen",{"$nulls":15},"nur Urkunde"]
[{"$nulls":8},"Gebühren",1.5,null,5,{"$nulls":13},1.5,null,2.5,{"$nulls":48},"Abnahme Fachverband (Kategorie III a)"]
[{"$nulls":9},2.5,{"$nulls":15},2.5,{"$nulls":15},"Rücksendeanschrift für die Rechnung des DTV",null,null,null,"Verantwortlicher Abnahmeleiter",null,null,"DTSA Abnehmer",null,null,"Disziplinen, die geprüft werden sollen."]
["Anmeldung am","Status","Abnahmedatum","Einzugsemächtigung\nliegt dem DTV vor.","DTV\nVereinsnr.","LTV","Abnahmeort","Abnahmeveranstalter",null,"kleines TS","großes TS","Bronze","Silber","Gold","Gold (5)","Gold (10)","Gold (15)","Gold (20)","Gold (25)","Gold (30)","Gold (35)","Brillant","Brillant (5)","Brillant (10)","Gesamt mit Abzeichen","kleines TS","großes TS","Bronze","Silber","Gold","Gold (5)","Gold (10)","Gold (15)","Gold (20)","Gold (25)","Gold (30)","Gold (35)","Brillant","Brillant (5)","Brillant (10)","Gesamt ohne Abzeichen"," Herr/Frau/DH","Name","Str., Hs.Nr.:","Plz, Ort","Name","Telefon","E-Mail","Abnehmer 1\n(Lizenznummer in Klammer)","Abnehmer 2\n(Lizenznummer in Klammer)","Abnehmer 3\n(Lizenznummer in Klammer)","Standard","Latein","Discofox","Salsa","Merengue","Seniorentanz","Kindertänze","HipHop","Videoclipdancing","JMD","Garde","Steptanz","Alte Tänze","Folklore-Tänze","Tango Argentino","Country-& Western","Linedance","Orientalischer Tanz","Rollstuhltanz","New Vogue","Boogie Woogie","Rock'n'Roll",{"$f":"Anmeldung!$K$28","v":0},{"$f":"Anmeldung!$K$29","v":0},{"$f":"Anmeldung!$K$30","v":0}]
[{"$f":"Anmeldung!$C$4","v":"00:00:00"},"Verein",{"$f":"Anmeldung!$E$7","v":"00:00:00"},null,{"$f":"Anmeldung!$M$8","v":0},"Berlin",{"$f":"Anmeldung!$E$9","v":0},{"$f":"Anmeldung!$E$8","v":0},{"$f":"(J5+K5)*J2+(L5+M5+N5+O5+P5+Q5+R5+S5+T5+U5+V5+W5+X5)*L2+(Z5+AA5)*Z2+(AB5+AC5+AD5+AE5+AF5+AG5+AH5+AI5+AJ5+AK5+AL5+AM5+AN5)*AB2","v":0},{"$f":"Datenerfassung!$C214","v":0},{"$f":"Datenerfassung!$C215","v":0},{"$f":"Datenerfassung!$C216","v":0},{"$f":"Datenerfassung!$C217","v":0},{"$f":"Datenerfassung!$C218","v":0},{"$f":"Datenerfassung!$C219","v":0},{"$f":"Datenerfassung!$C220","v":0},{"$f":"Datenerfassung!$C221","v":0},{"$f":"Datenerfassung!$C222","v":0},{"$f":"Datenerfassung!$C223","v":0},{"$f":"Datenerfassung!$C224","v":0},{"$f":"Datenerfassung!$C225","v":0},{"$f":"Datenerfassung!$C226","v":0},{"$f":"Datenerfassung!$C227","v":0},{"$f":"Datenerfassung!$C228","v":0},{"$f":"Datenerfassung!$C$229","v":0},{"$f":"Datenerfassung!$E214","v":0},{"$f":"Datenerfassung!$E215","v":0},{"$f":"Datenerfassung!$E216","v":0},{"$f":"Datenerfassung!$E217","v":0},{"$f":"Datenerfassung!$E218","v":0},{"$f":"Datenerfassung!$E219","v":0},{"$f":"Datenerfassung!$E220","v":0},{"$f":"Datenerfassung!$E221","v":0},{"$f":"Datenerfassung!$E222","v":0},{"$f":"Datenerfassung!$E223","v":0},{"$f":"Datenerfassung!$E224","v":0},{"$f":"Datenerfassung!$E225","v":0},{"$f":"Datenerfassung!$E226","v":0},{"$f":"Datenerfassung!$E227","v":0},{"$f":"Datenerfassung!$E228","v":0},{"$f":"Datenerfassung!$E$229","v":0},{"$f":"Anmeldung!$D$13","v":0},{"$f":"Anmeldung!$D$14","v":0},{"$f":"Anmeldung!$D$15","v":0},{"$f":"Anmeldung!$D$16","v":0},{"$f":"Anmeldung!$D$19","v":0},{"$f":"Anmeldung!$D$20","v":0},{"$f":"Anmeldung!$D$21","v":0},{"$f":"Anmeldung!$L$19","v":0},{"$f":"Anmeldung!$L$20","v":0},{"$f":"Anmeldung!$L$21","v":0},{"$f":"Anmeldung!$A$24","v":0},{"$f":"Anmeldung!$A$25","v":0},{"$f":"Anmeldung!$A$26","v":0},{"$f":"Anmeldung!$A$27","v":0},{"$f":"Anmeldung!$A$28","v":0},{"$f":"Anmeldung!$A$29","v":0},{"$f":"Anmeldung!$A$30","v":0},{"$f":"Anmeldung!$A$31","v":0},{"$f":"Anmeldung!$A$32","v":0},{"$f":"Anmeldung!$E$24","v":0},{"$f":"Anmeldung!$E$25","v":0},{"$f":"Anmeldung!$E$26","v":0},{"$f":"Anmeldung!$E$27","v":0},{"$f":"Anmeldung!$E$28","v":0},{"$f":"Anmeldung!$E$29","v":0},{"$f":"Anmeldung!$E$30","v":0},{"$f":"Anmeldung!$E$31","v":0},{"$f":"Anmeldung!$E$32","v":0},{"$f":"Anmeldung!$I$24","v":0},{"$f":"Anmeldung!$I$25","v":0},{"$f":"Anmeldung!$I$26","v":0},{"$f":"Anmeldung!$I$27","v":0},{"$f":"Anmeldung!$I$28","v":0},{"$f":"Anmeldung!$I$29","v":0},{"$f":"Anmeldung!$I$30","v":0},{"$f":"Anmeldung!$A$35","v":0}]
[{"$f":"Anmeldung!$C$4","v":"00:00:00"},"Schule",{"$f":"Anmeldung!$E$7","v":"00:00:00"},null,{"$f":"Anmeldung!$M$8","v":0},"Berlin",{"$f":"Anmeldung!$E$9","v":0},{"$f":"Anmeldung!$E$8","v":0},{"$f":"(J6+K6+L6+M6+N6+O6+P6+Q6+R6+S6+T6+U6+V6+W6+X6)*J3+(Z6+AA6+AB6+AC6+AD6+AE6+AF6+AG6+AH6+AI6+AJ6+AK6+AL6+AM6+AN6)*Z3","v":0},{"$f":"Datenerfassung!$C214","v":0},{"$f":"Datenerfassung!$C215","v":0},{"$f":"Datenerfassung!$C216","v":0},{"$f":"Datenerfassung!$C217","v":0},{"$f":"Datenerfassung!$C218","v":0},{"$f":"Datenerfassung!$C219","v":0},{"$f":"Datenerfassung!$C220","v":0},{"$f":"Datenerfassung!$C221","v":0},{"$f":"Datenerfassung!$C222","v":0},{"$f":"Datenerfassung!$C223","v":0},{"$f":"Datenerfassung!$C224","v":0},{"$f":"Datenerfassung!$C225","v":0},{"$f":"Datenerfassung!$C226","v":0},{"$f":"Datenerfassung!$C227","v":0},{"$f":"Datenerfassung!$C228","v":0},{"$f":"Datenerfassung!$C$229","v":0},{"$f":"Datenerfassung!$E214","v":0},{"$f":"Datenerfassung!$E215","v":0},{"$f":"Datenerfassung!$E216","v":0},{"$f":"Datenerfassung!$E217","v":0},{"$f":"Datenerfassung!$E218","v":0},{"$f":"Datenerfassung!$E219","v":0},{"$f":"Datenerfassung!$E220","v":0},{"$f":"Datenerfassung!$E221","v":0},{"$f":"Datenerfassung!$E222","v":0},{"$f":"Datenerfassung!$E223","v":0},{"$f":"Datenerfassung!$E224","v":0},{"$f":"Datenerfassung!$E225","v":0},{"$f":"Datenerfassung!$E226","v":0},{"$f":"Datenerfassung!$E227","v":0},{"$f":"Datenerfassung!$E228","v":0},{"$f":"Datenerfassung!$E$229","v":0},{"$f":"Anmeldung!$D$13","v":0},{"$f":"Anmeldung!$D$14","v":0},{"$f":"Anmeldung!$D$15","v":0},{"$f":"Anmeldung!$D$16","v":0},{"$f":"Anmeldung!$D$19","v":0},{"$f":"Anmeldung!$D$20","v":0},{"$f":"Anmeldung!$D$21","v":0},{"$f":"Anmeldung!$L$19","v":0},{"$f":"Anmeldung!$L$20","v":0},{"$f":"Anmeldung!$L$21","v":0},{"$f":"Anmeldung!$A$24","v":0},{"$f":"Anmeldung!$A$25","v":0},{"$f":"Anmeldung!$A$26","v":0},{"$f":"Anmeldung!$A$27","v":0},{"$f":"Anmeldung!$A$28","v":0},{"$f":"Anmeldung!$A$29","v":0},{"$f":"Anmeldung!$A$30","v":0},{"$f":"Anmeldung!$A$31","v":0},{"$f":"Anmeldung!$A$32","v":0},{"$f":"Anmeldung!$E$24","v":0},{"$f":"Anmeldung!$E$25","v":0},{"$f":"Anmeldung!$E$26","v":0},{"$f":"Anmeldung!$E$27","v":0},{"$f":"Anmeldung!$E$28","v":0},{"$f":"Anmeldung!$E$29","v":0},{"$f":"Anmeldung!$E$30","v":0},{"$f":"Anmeldung!$E$31","v":0},{"$f":"Anmeldung!$E$32","v":0},{"$f":"Anmeldung!$I$24","v":0},{"$f":"Anmeldung!$I$25","v":0},{"$f":"Anmeldung!$I$26","v":0},{"$f":"Anmeldung!$I$27","v":0},{"$f":"Anmeldung!$I$28","v":0},{"$f":"Anmeldung!$I$29","v":0},{"$f":"Anmeldung!$I$30","v":0},{"$f":"Anmeldung!$A$35","v":0}]